BEGIN:VCALENDAR
VERSION:2.0
PRODID:-//GKJ Jemaat Jembatan Lima - ECPv6.14.0//NONSGML v1.0//EN
CALSCALE:GREGORIAN
METHOD:PUBLISH
X-WR-CALNAME:GKJ Jemaat Jembatan Lima
X-ORIGINAL-URL:https://gkjjembatanlima.org
X-WR-CALDESC:Events for GKJ Jemaat Jembatan Lima
REFRESH-INTERVAL;VALUE=DURATION:PT1H
X-Robots-Tag:noindex
X-PUBLISHED-TTL:PT1H
BEGIN:VTIMEZONE
TZID:Asia/Jakarta
BEGIN:STANDARD
TZOFFSETFROM:+0700
TZOFFSETTO:+0700
TZNAME:WIB
DTSTART:20260101T000000
END:STANDARD
END:VTIMEZONE
BEGIN:VEVENT
DTSTART;TZID=Asia/Jakarta:20260214T060000
DTEND;TZID=Asia/Jakarta:20260214T060000
DTSTAMP:20260421T170643
CREATED:20260207T143803Z
LAST-MODIFIED:20260207T143803Z
UID:993148-1771048800-1771048800@gkjjembatanlima.org
SUMMARY:Doa Pagi | 14 FEB 2026
DESCRIPTION:Shalom jemaat yang terkasih\,\nMari kita bersehati berdoa bersama di doa pagi GKJ Jembatan Lima. \nDoa Pagi GKJ Jembatan Lima:\nSabtu\, 14 Februari 2026\, pkl. 06:00-selesai\ndi Zoom Meeting. \nUntuk mendapatkan link zoom meeting\, silahkan hubungi ke nomor sekretariat gereja di: 0813-8812-9883
URL:https://gkjjembatanlima.org/acara/doa-pagi-14-feb-2026/
LOCATION:Zoom Meeting\, Online\, Jakarta\, Jakarta\, Indonesia
CATEGORIES:Doa Pagi
ATTACH;FMTTYPE=image/jpeg:https://gkjjembatanlima.org/wp-content/uploads/2024/10/Doa-Pagi-v2.jpg
END:VEVENT
BEGIN:VEVENT
DTSTART;TZID=Asia/Jakarta:20260214T120000
DTEND;TZID=Asia/Jakarta:20260214T120000
DTSTAMP:20260421T170643
CREATED:20260131T132554Z
LAST-MODIFIED:20260131T133558Z
UID:993116-1771070400-1771070400@gkjjembatanlima.org
SUMMARY:Rapat BPJ | 14 FEB 2026
DESCRIPTION:Rapat BPJ akan berlangsung pada: \nSabtu\, 14 Februari 2026.\nPukul 12:00 WIB – selesai. \nMengundang seluruh Hamba Tuhan dan BPJ untuk menghadirinya. \n \n 
URL:https://gkjjembatanlima.org/acara/rapat-bpj-14-feb-2026/
LOCATION:GKJ Jembatan Lima\, GKJ Jembatan Lima Jl. Tambora Raya No.44\, Jakarta Barat\, DKI Jakarta\, 11220\, Indonesia
ATTACH;FMTTYPE=image/jpeg:https://gkjjembatanlima.org/wp-content/uploads/2026/01/Rapat-BPJ-14-FEB-2026-_rev.jpg
END:VEVENT
BEGIN:VEVENT
DTSTART;TZID=Asia/Jakarta:20260214T190000
DTEND;TZID=Asia/Jakarta:20260214T190000
DTSTAMP:20260421T170643
CREATED:20260207T143915Z
LAST-MODIFIED:20260207T143915Z
UID:993150-1771095600-1771095600@gkjjembatanlima.org
SUMMARY:Komisi Pemuda | 14 FEB 2026
DESCRIPTION:Komisi Pemuda pada hari Sabtu\, 14 Februari 2026 pukul 19:00 WIB. \nTema: DIKENAL\, DITERIMA\, DAN DIKASIHI.\nPembicara: G.I. Noriana Nori. \nBertempat di Ruang Ibadah Lt. 2\nGKJ Jemaat Jembatan Lima\nJl. Tambora Raya No. 44\,\nJakarta-Barat. \nKami mengundang jemaat khususnya pemuda-pemudi untuk menghadirinya. \n \n 
URL:https://gkjjembatanlima.org/acara/komisi-pemuda-14-feb-2026/
LOCATION:GKJ Jembatan Lima\, GKJ Jembatan Lima Jl. Tambora Raya No.44\, Jakarta Barat\, DKI Jakarta\, 11220\, Indonesia
CATEGORIES:Ibadah
ATTACH;FMTTYPE=image/jpeg:https://gkjjembatanlima.org/wp-content/uploads/2026/02/KP14-FEB-2026.jpg
END:VEVENT
END:VCALENDAR