BEGIN:VCALENDAR
VERSION:2.0
PRODID:-//GKJ Jemaat Jembatan Lima - ECPv6.14.0//NONSGML v1.0//EN
CALSCALE:GREGORIAN
METHOD:PUBLISH
X-ORIGINAL-URL:https://gkjjembatanlima.org
X-WR-CALDESC:Events for GKJ Jemaat Jembatan Lima
REFRESH-INTERVAL;VALUE=DURATION:PT1H
X-Robots-Tag:noindex
X-PUBLISHED-TTL:PT1H
BEGIN:VTIMEZONE
TZID:Asia/Jakarta
BEGIN:STANDARD
TZOFFSETFROM:+0700
TZOFFSETTO:+0700
TZNAME:WIB
DTSTART:20250101T000000
END:STANDARD
END:VTIMEZONE
BEGIN:VEVENT
DTSTART;TZID=Asia/Jakarta:20250802T060000
DTEND;TZID=Asia/Jakarta:20250802T060000
DTSTAMP:20260420T131525
CREATED:20250726T140142Z
LAST-MODIFIED:20250726T140142Z
UID:992250-1754114400-1754114400@gkjjembatanlima.org
SUMMARY:Doa Pagi | 02 AGU 2025
DESCRIPTION:Shalom jemaat yang terkasih\,\nMari kita bersehati berdoa bersama di doa pagi GKJ Jembatan Lima. \nDoa Pagi GKJ Jembatan Lima:\nSabtu\, 02 Agustus 2025\, pkl. 06:00-selesai\ndi Zoom Meeting. \nUntuk mendapatkan link zoom meeting\, silahkan hubungi ke nomor sekretariat gereja di: 0813-8812-9883
URL:https://gkjjembatanlima.org/acara/doa-pagi-02-agu-2025/
LOCATION:Zoom Meeting\, Online\, Jakarta\, Jakarta\, Indonesia
CATEGORIES:Doa Pagi
ATTACH;FMTTYPE=image/jpeg:https://gkjjembatanlima.org/wp-content/uploads/2024/10/Doa-Pagi-v2.jpg
END:VEVENT
BEGIN:VEVENT
DTSTART;TZID=Asia/Jakarta:20250809T060000
DTEND;TZID=Asia/Jakarta:20250809T060000
DTSTAMP:20260420T131525
CREATED:20250802T143401Z
LAST-MODIFIED:20250802T143401Z
UID:992307-1754719200-1754719200@gkjjembatanlima.org
SUMMARY:Doa Pagi | 09 AGU 2025
DESCRIPTION:Shalom jemaat yang terkasih\,\nMari kita bersehati berdoa bersama di doa pagi GKJ Jembatan Lima. \nDoa Pagi GKJ Jembatan Lima:\nSabtu\, 09 Agustus 2025\, pkl. 06:00-selesai\ndi Zoom Meeting. \nUntuk mendapatkan link zoom meeting\, silahkan hubungi ke nomor sekretariat gereja di: 0813-8812-9883
URL:https://gkjjembatanlima.org/acara/doa-pagi-09-agu-2025/
LOCATION:Zoom Meeting\, Online\, Jakarta\, Jakarta\, Indonesia
CATEGORIES:Doa Pagi
ATTACH;FMTTYPE=image/jpeg:https://gkjjembatanlima.org/wp-content/uploads/2024/10/Doa-Pagi-v2.jpg
END:VEVENT
BEGIN:VEVENT
DTSTART;TZID=Asia/Jakarta:20250816T060000
DTEND;TZID=Asia/Jakarta:20250816T060000
DTSTAMP:20260420T131525
CREATED:20250810T042917Z
LAST-MODIFIED:20250810T042917Z
UID:992327-1755324000-1755324000@gkjjembatanlima.org
SUMMARY:Doa Pagi | 16 AGU 2025
DESCRIPTION:Shalom jemaat yang terkasih\,\nMari kita bersehati berdoa bersama di doa pagi GKJ Jembatan Lima. \nDoa Pagi GKJ Jembatan Lima:\nSabtu\, 16 Agustus 2025\, pkl. 06:00-selesai\ndi Zoom Meeting. \nUntuk mendapatkan link zoom meeting\, silahkan hubungi ke nomor sekretariat gereja di: 0813-8812-9883
URL:https://gkjjembatanlima.org/acara/doa-pagi-16-agu-2025/
LOCATION:Zoom Meeting\, Online\, Jakarta\, Jakarta\, Indonesia
CATEGORIES:Doa Pagi
ATTACH;FMTTYPE=image/jpeg:https://gkjjembatanlima.org/wp-content/uploads/2024/10/Doa-Pagi-v2.jpg
END:VEVENT
BEGIN:VEVENT
DTSTART;TZID=Asia/Jakarta:20250823T060000
DTEND;TZID=Asia/Jakarta:20250823T060000
DTSTAMP:20260420T131525
CREATED:20250816T115750Z
LAST-MODIFIED:20250816T115750Z
UID:992356-1755928800-1755928800@gkjjembatanlima.org
SUMMARY:Doa Pagi | 23 AGU 2025
DESCRIPTION:Shalom jemaat yang terkasih\,\nMari kita bersehati berdoa bersama di doa pagi GKJ Jembatan Lima. \nDoa Pagi GKJ Jembatan Lima:\nSabtu\, 23 Agustus 2025\, pkl. 06:00-selesai\ndi Zoom Meeting. \nUntuk mendapatkan link zoom meeting\, silahkan hubungi ke nomor sekretariat gereja di: 0813-8812-9883
URL:https://gkjjembatanlima.org/acara/doa-pagi-23-agu-2025/
LOCATION:Zoom Meeting\, Online\, Jakarta\, Jakarta\, Indonesia
CATEGORIES:Doa Pagi
ATTACH;FMTTYPE=image/jpeg:https://gkjjembatanlima.org/wp-content/uploads/2024/10/Doa-Pagi-v2.jpg
END:VEVENT
BEGIN:VEVENT
DTSTART;TZID=Asia/Jakarta:20250830T060000
DTEND;TZID=Asia/Jakarta:20250830T060000
DTSTAMP:20260420T131525
CREATED:20250823T113144Z
LAST-MODIFIED:20250823T113144Z
UID:992374-1756533600-1756533600@gkjjembatanlima.org
SUMMARY:Doa Pagi | 30 AGU 2025
DESCRIPTION:Shalom jemaat yang terkasih\,\nMari kita bersehati berdoa bersama di doa pagi GKJ Jembatan Lima. \nDoa Pagi GKJ Jembatan Lima:\nSabtu\, 30 Agustus 2025\, pkl. 06.00-selesai\ndi Zoom Meeting. \nUntuk mendapatkan link zoom meeting\, silahkan hubungi ke nomor sekretariat gereja di: 0813-8812-9883
URL:https://gkjjembatanlima.org/acara/doa-pagi-30-agu-2025/
LOCATION:Zoom Meeting\, Online\, Jakarta\, Jakarta\, Indonesia
CATEGORIES:Doa Pagi
ATTACH;FMTTYPE=image/jpeg:https://gkjjembatanlima.org/wp-content/uploads/2024/10/Doa-Pagi-v2.jpg
END:VEVENT
END:VCALENDAR