BEGIN:VCALENDAR
VERSION:2.0
PRODID:-//GKJ Jemaat Jembatan Lima - ECPv6.14.0//NONSGML v1.0//EN
CALSCALE:GREGORIAN
METHOD:PUBLISH
X-ORIGINAL-URL:https://gkjjembatanlima.org
X-WR-CALDESC:Events for GKJ Jemaat Jembatan Lima
REFRESH-INTERVAL;VALUE=DURATION:PT1H
X-Robots-Tag:noindex
X-PUBLISHED-TTL:PT1H
BEGIN:VTIMEZONE
TZID:Asia/Jakarta
BEGIN:STANDARD
TZOFFSETFROM:+0700
TZOFFSETTO:+0700
TZNAME:WIB
DTSTART:20260101T000000
END:STANDARD
END:VTIMEZONE
BEGIN:VEVENT
DTSTART;TZID=Asia/Jakarta:20260103T060000
DTEND;TZID=Asia/Jakarta:20260103T060000
DTSTAMP:20260420T060741
CREATED:20251227T172729Z
LAST-MODIFIED:20251227T172729Z
UID:992866-1767420000-1767420000@gkjjembatanlima.org
SUMMARY:Doa Pagi | 03 JAN 2026
DESCRIPTION:Shalom jemaat yang terkasih\,\nMari kita bersehati berdoa bersama di doa pagi GKJ Jembatan Lima. \nDoa Pagi GKJ Jembatan Lima:\nSabtu\, 03 Januari 2026\, pkl. 06:00-selesai\ndi Zoom Meeting. \nUntuk mendapatkan link zoom meeting\, silahkan hubungi ke nomor sekretariat gereja di: 0813-8812-9883
URL:https://gkjjembatanlima.org/acara/doa-pagi-03-jan-2026/
LOCATION:Zoom Meeting\, Online\, Jakarta\, Jakarta\, Indonesia
CATEGORIES:Doa Pagi
ATTACH;FMTTYPE=image/jpeg:https://gkjjembatanlima.org/wp-content/uploads/2024/10/Doa-Pagi-v2.jpg
END:VEVENT
BEGIN:VEVENT
DTSTART;TZID=Asia/Jakarta:20260110T060000
DTEND;TZID=Asia/Jakarta:20260110T060000
DTSTAMP:20260420T060741
CREATED:20260103T042510Z
LAST-MODIFIED:20260103T042510Z
UID:992885-1768024800-1768024800@gkjjembatanlima.org
SUMMARY:Doa Pagi | 10 JAN 2026
DESCRIPTION:Shalom jemaat yang terkasih\,\nMari kita bersehati berdoa bersama di doa pagi GKJ Jembatan Lima. \nDoa Pagi GKJ Jembatan Lima:\nSabtu\, 10 Januari 2026\, pkl. 06:00-selesai\ndi Zoom Meeting. \nUntuk mendapatkan link zoom meeting\, silahkan hubungi ke nomor sekretariat gereja di: 0813-8812-9883
URL:https://gkjjembatanlima.org/acara/doa-pagi-10-jan-2026/
LOCATION:Zoom Meeting\, Online\, Jakarta\, Jakarta\, Indonesia
CATEGORIES:Doa Pagi
ATTACH;FMTTYPE=image/jpeg:https://gkjjembatanlima.org/wp-content/uploads/2024/10/Doa-Pagi-v2.jpg
END:VEVENT
BEGIN:VEVENT
DTSTART;TZID=Asia/Jakarta:20260117T060000
DTEND;TZID=Asia/Jakarta:20260117T060000
DTSTAMP:20260420T060741
CREATED:20260110T132120Z
LAST-MODIFIED:20260110T132120Z
UID:992914-1768629600-1768629600@gkjjembatanlima.org
SUMMARY:Doa Pagi | 17 JAN 2026
DESCRIPTION:Shalom jemaat yang terkasih\,\nMari kita bersehati berdoa bersama di doa pagi GKJ Jembatan Lima. \nDoa Pagi GKJ Jembatan Lima:\nSabtu\, 17 Januari 2026\, pkl. 06:00-selesai\ndi Zoom Meeting. \nUntuk mendapatkan link zoom meeting\, silahkan hubungi ke nomor sekretariat gereja di: 0813-8812-9883
URL:https://gkjjembatanlima.org/acara/doa-pagi-17-jan-2026/
LOCATION:Zoom Meeting\, Online\, Jakarta\, Jakarta\, Indonesia
CATEGORIES:Doa Pagi
ATTACH;FMTTYPE=image/jpeg:https://gkjjembatanlima.org/wp-content/uploads/2024/10/Doa-Pagi-v2.jpg
END:VEVENT
BEGIN:VEVENT
DTSTART;TZID=Asia/Jakarta:20260124T060000
DTEND;TZID=Asia/Jakarta:20260124T060000
DTSTAMP:20260420T060741
CREATED:20260117T042204Z
LAST-MODIFIED:20260117T042204Z
UID:992940-1769234400-1769234400@gkjjembatanlima.org
SUMMARY:Doa Pagi | 24 JAN 2026
DESCRIPTION:Shalom jemaat yang terkasih\,\nMari kita bersehati berdoa bersama di doa pagi GKJ Jembatan Lima. \nDoa Pagi GKJ Jembatan Lima:\nSabtu\, 24 Januari 2026\, pkl. 06:00-selesai\ndi Zoom Meeting. \nUntuk mendapatkan link zoom meeting\, silahkan hubungi ke nomor sekretariat gereja di: 0813-8812-9883
URL:https://gkjjembatanlima.org/acara/doa-pagi-24-jan-2026/
LOCATION:Zoom Meeting\, Online\, Jakarta\, Jakarta\, Indonesia
CATEGORIES:Doa Pagi
ATTACH;FMTTYPE=image/jpeg:https://gkjjembatanlima.org/wp-content/uploads/2024/10/Doa-Pagi-v2.jpg
END:VEVENT
BEGIN:VEVENT
DTSTART;TZID=Asia/Jakarta:20260131T060000
DTEND;TZID=Asia/Jakarta:20260131T060000
DTSTAMP:20260420T060741
CREATED:20260124T125150Z
LAST-MODIFIED:20260124T125150Z
UID:993087-1769839200-1769839200@gkjjembatanlima.org
SUMMARY:Doa Pagi | 31 JAN 2026
DESCRIPTION:Shalom jemaat yang terkasih\,\nMari kita bersehati berdoa bersama di doa pagi GKJ Jembatan Lima. \nDoa Pagi GKJ Jembatan Lima:\nSabtu\, 31 Januari 2026\, pkl. 06:00-selesai\ndi Zoom Meeting. \nUntuk mendapatkan link zoom meeting\, silahkan hubungi ke nomor sekretariat gereja di: 0813-8812-9883
URL:https://gkjjembatanlima.org/acara/doa-pagi-31-jan-2026/
LOCATION:Zoom Meeting\, Online\, Jakarta\, Jakarta\, Indonesia
CATEGORIES:Doa Pagi
ATTACH;FMTTYPE=image/jpeg:https://gkjjembatanlima.org/wp-content/uploads/2024/10/Doa-Pagi-v2.jpg
END:VEVENT
END:VCALENDAR