BEGIN:VCALENDAR
VERSION:2.0
PRODID:-//GKJ Jemaat Jembatan Lima - ECPv6.14.0//NONSGML v1.0//EN
CALSCALE:GREGORIAN
METHOD:PUBLISH
X-WR-CALNAME:GKJ Jemaat Jembatan Lima
X-ORIGINAL-URL:https://gkjjembatanlima.org
X-WR-CALDESC:Events for GKJ Jemaat Jembatan Lima
REFRESH-INTERVAL;VALUE=DURATION:PT1H
X-Robots-Tag:noindex
X-PUBLISHED-TTL:PT1H
BEGIN:VTIMEZONE
TZID:Asia/Jakarta
BEGIN:STANDARD
TZOFFSETFROM:+0700
TZOFFSETTO:+0700
TZNAME:WIB
DTSTART:20250101T000000
END:STANDARD
END:VTIMEZONE
BEGIN:VEVENT
DTSTART;TZID=Asia/Jakarta:20251227T060000
DTEND;TZID=Asia/Jakarta:20251227T060000
DTSTAMP:20260420T105021
CREATED:20251220T234236Z
LAST-MODIFIED:20251220T234236Z
UID:992844-1766815200-1766815200@gkjjembatanlima.org
SUMMARY:Doa Pagi | 27 DES 2025
DESCRIPTION:Shalom jemaat yang terkasih\,\nMari kita bersehati berdoa bersama di doa pagi GKJ Jembatan Lima. \nDoa Pagi GKJ Jembatan Lima:\nSabtu\, 27 Desember 2025\, pkl. 06:00-selesai\ndi Zoom Meeting. \nUntuk mendapatkan link zoom meeting\, silahkan hubungi ke nomor sekretariat gereja di: 0813-8812-9883
URL:https://gkjjembatanlima.org/acara/doa-pagi-27-des-2025/
LOCATION:Zoom Meeting\, Online\, Jakarta\, Jakarta\, Indonesia
CATEGORIES:Doa Pagi
ATTACH;FMTTYPE=image/jpeg:https://gkjjembatanlima.org/wp-content/uploads/2024/10/Doa-Pagi-v2.jpg
END:VEVENT
END:VCALENDAR