BEGIN:VCALENDAR
VERSION:2.0
PRODID:-//GKJ Jemaat Jembatan Lima - ECPv6.14.0//NONSGML v1.0//EN
CALSCALE:GREGORIAN
METHOD:PUBLISH
X-WR-CALNAME:GKJ Jemaat Jembatan Lima
X-ORIGINAL-URL:https://gkjjembatanlima.org
X-WR-CALDESC:Events for GKJ Jemaat Jembatan Lima
REFRESH-INTERVAL;VALUE=DURATION:PT1H
X-Robots-Tag:noindex
X-PUBLISHED-TTL:PT1H
BEGIN:VTIMEZONE
TZID:Asia/Jakarta
BEGIN:STANDARD
TZOFFSETFROM:+0700
TZOFFSETTO:+0700
TZNAME:WIB
DTSTART:20260101T000000
END:STANDARD
END:VTIMEZONE
BEGIN:VEVENT
DTSTART;TZID=Asia/Jakarta:20260228T060000
DTEND;TZID=Asia/Jakarta:20260228T060000
DTSTAMP:20260420T131112
CREATED:20260221T054713Z
LAST-MODIFIED:20260221T054713Z
UID:993212-1772258400-1772258400@gkjjembatanlima.org
SUMMARY:Doa Pagi | 28 FEB 2026
DESCRIPTION:Shalom jemaat yang terkasih\,\nMari kita bersehati berdoa bersama di doa pagi GKJ Jembatan Lima. \nDoa Pagi GKJ Jembatan Lima:\nSabtu\, 28 Februari 2026\, pkl. 06:00-selesai\ndi Zoom Meeting. \nUntuk mendapatkan link zoom meeting\, silahkan hubungi ke nomor sekretariat gereja di: 0813-8812-9883
URL:https://gkjjembatanlima.org/acara/doa-pagi-28-feb-2026/
LOCATION:Zoom Meeting\, Online\, Jakarta\, Jakarta\, Indonesia
CATEGORIES:Doa Pagi
ATTACH;FMTTYPE=image/jpeg:https://gkjjembatanlima.org/wp-content/uploads/2024/10/Doa-Pagi-v2.jpg
END:VEVENT
BEGIN:VEVENT
DTSTART;TZID=Asia/Jakarta:20260307T060000
DTEND;TZID=Asia/Jakarta:20260307T060000
DTSTAMP:20260420T131112
CREATED:20260228T130932Z
LAST-MODIFIED:20260228T130932Z
UID:993259-1772863200-1772863200@gkjjembatanlima.org
SUMMARY:Doa Pagi | 07 MAR 2026
DESCRIPTION:Shalom jemaat yang terkasih\,\nMari kita bersehati berdoa bersama di doa pagi GKJ Jembatan Lima. \nDoa Pagi GKJ Jembatan Lima:\nSabtu\, 07 Maret 2026\, pkl. 06:00-selesai\ndi Zoom Meeting. \nUntuk mendapatkan link zoom meeting\, silahkan hubungi ke nomor sekretariat gereja di: 0813-8812-9883
URL:https://gkjjembatanlima.org/acara/doa-pagi-07-mar-2026-2/
LOCATION:Zoom Meeting\, Online\, Jakarta\, Jakarta\, Indonesia
CATEGORIES:Doa Pagi
ATTACH;FMTTYPE=image/jpeg:https://gkjjembatanlima.org/wp-content/uploads/2024/10/Doa-Pagi-v2.jpg
END:VEVENT
BEGIN:VEVENT
DTSTART;TZID=Asia/Jakarta:20260314T060000
DTEND;TZID=Asia/Jakarta:20260314T060000
DTSTAMP:20260420T131112
CREATED:20260307T132642Z
LAST-MODIFIED:20260307T132642Z
UID:993286-1773468000-1773468000@gkjjembatanlima.org
SUMMARY:Doa Pagi | 14 MAR 2026
DESCRIPTION:Shalom jemaat yang terkasih\,\nMari kita bersehati berdoa bersama di doa pagi GKJ Jembatan Lima. \nDoa Pagi GKJ Jembatan Lima:\nSabtu\, 14 Maret 2026\, pkl. 06:00-selesai\ndi Zoom Meeting. \nUntuk mendapatkan link zoom meeting\, silahkan hubungi ke nomor sekretariat gereja di: 0813-8812-9883
URL:https://gkjjembatanlima.org/acara/doa-pagi-14-mar-2026/
LOCATION:Zoom Meeting\, Online\, Jakarta\, Jakarta\, Indonesia
CATEGORIES:Doa Pagi
ATTACH;FMTTYPE=image/jpeg:https://gkjjembatanlima.org/wp-content/uploads/2024/10/Doa-Pagi-v2.jpg
END:VEVENT
BEGIN:VEVENT
DTSTART;TZID=Asia/Jakarta:20260321T060000
DTEND;TZID=Asia/Jakarta:20260321T060000
DTSTAMP:20260420T131112
CREATED:20260314T112503Z
LAST-MODIFIED:20260314T112503Z
UID:993304-1774072800-1774072800@gkjjembatanlima.org
SUMMARY:Doa Pagi | 21 MAR 2026
DESCRIPTION:Shalom jemaat yang terkasih\,\nMari kita bersehati berdoa bersama di doa pagi GKJ Jembatan Lima. \nDoa Pagi GKJ Jembatan Lima:\nSabtu\, 21 Maret 2026\, pkl. 06:00-selesai\ndi Zoom Meeting. \nUntuk mendapatkan link zoom meeting\, silahkan hubungi ke nomor sekretariat gereja di: 0813-8812-9883
URL:https://gkjjembatanlima.org/acara/doa-pagi-21-mar-2026/
LOCATION:Zoom Meeting\, Online\, Jakarta\, Jakarta\, Indonesia
CATEGORIES:Doa Pagi
ATTACH;FMTTYPE=image/jpeg:https://gkjjembatanlima.org/wp-content/uploads/2024/10/Doa-Pagi-v2.jpg
END:VEVENT
BEGIN:VEVENT
DTSTART;TZID=Asia/Jakarta:20260328T060000
DTEND;TZID=Asia/Jakarta:20260328T060000
DTSTAMP:20260420T131112
CREATED:20260321T102707Z
LAST-MODIFIED:20260321T102707Z
UID:993334-1774677600-1774677600@gkjjembatanlima.org
SUMMARY:Doa Pagi | 28 MAR 2026
DESCRIPTION:Shalom jemaat yang terkasih\,\nMari kita bersehati berdoa bersama di doa pagi GKJ Jembatan Lima. \nDoa Pagi GKJ Jembatan Lima:\nSabtu\, 28 Maret 2026\, pkl. 06:00-selesai\ndi Zoom Meeting. \nUntuk mendapatkan link zoom meeting\, silahkan hubungi ke nomor sekretariat gereja di: 0813-8812-9883
URL:https://gkjjembatanlima.org/acara/doa-pagi-28-mar-2026/
LOCATION:Zoom Meeting\, Online\, Jakarta\, Jakarta\, Indonesia
CATEGORIES:Doa Pagi
ATTACH;FMTTYPE=image/jpeg:https://gkjjembatanlima.org/wp-content/uploads/2024/10/Doa-Pagi-v2.jpg
END:VEVENT
BEGIN:VEVENT
DTSTART;TZID=Asia/Jakarta:20260404T060000
DTEND;TZID=Asia/Jakarta:20260404T060000
DTSTAMP:20260420T131112
CREATED:20260328T061405Z
LAST-MODIFIED:20260328T061405Z
UID:993356-1775282400-1775282400@gkjjembatanlima.org
SUMMARY:Doa Pagi | 04 APR 2026
DESCRIPTION:Shalom jemaat yang terkasih\,\nMari kita bersehati berdoa bersama di doa pagi GKJ Jembatan Lima. \nDoa Pagi GKJ Jembatan Lima:\nSabtu\, 04 April 2026\, pkl. 06:00-selesai\ndi Zoom Meeting. \nUntuk mendapatkan link zoom meeting\, silahkan hubungi ke nomor sekretariat gereja di: 0813-8812-9883
URL:https://gkjjembatanlima.org/acara/doa-pagi-04-apr-2026/
LOCATION:Zoom Meeting\, Online\, Jakarta\, Jakarta\, Indonesia
CATEGORIES:Doa Pagi
ATTACH;FMTTYPE=image/jpeg:https://gkjjembatanlima.org/wp-content/uploads/2024/10/Doa-Pagi-v2.jpg
END:VEVENT
BEGIN:VEVENT
DTSTART;TZID=Asia/Jakarta:20260411T060000
DTEND;TZID=Asia/Jakarta:20260411T060000
DTSTAMP:20260420T131112
CREATED:20260404T122953Z
LAST-MODIFIED:20260404T122953Z
UID:993376-1775887200-1775887200@gkjjembatanlima.org
SUMMARY:Doa Pagi | 11 APR 2026
DESCRIPTION:Shalom jemaat yang terkasih\,\nMari kita bersehati berdoa bersama di doa pagi GKJ Jembatan Lima. \nDoa Pagi GKJ Jembatan Lima:\nSabtu\, 11 April 2026\, pkl. 06:00-selesai\ndi Zoom Meeting. \nUntuk mendapatkan link zoom meeting\, silahkan hubungi ke nomor sekretariat gereja di: 0813-8812-9883
URL:https://gkjjembatanlima.org/acara/doa-pagi-11-apr-2026/
LOCATION:Zoom Meeting\, Online\, Jakarta\, Jakarta\, Indonesia
CATEGORIES:Doa Pagi
ATTACH;FMTTYPE=image/jpeg:https://gkjjembatanlima.org/wp-content/uploads/2024/10/Doa-Pagi-v2.jpg
END:VEVENT
BEGIN:VEVENT
DTSTART;TZID=Asia/Jakarta:20260418T060000
DTEND;TZID=Asia/Jakarta:20260418T060000
DTSTAMP:20260420T131112
CREATED:20260411T033350Z
LAST-MODIFIED:20260411T033350Z
UID:993411-1776492000-1776492000@gkjjembatanlima.org
SUMMARY:Doa Pagi | 18 APR 2026
DESCRIPTION:Shalom jemaat yang terkasih\,\nMari kita bersehati berdoa bersama di doa pagi GKJ Jembatan Lima. \nDoa Pagi GKJ Jembatan Lima:\nSabtu\, 18 April 2026\, pkl. 06:00-selesai\ndi Zoom Meeting. \nUntuk mendapatkan link zoom meeting\, silahkan hubungi ke nomor sekretariat gereja di: 0813-8812-9883
URL:https://gkjjembatanlima.org/acara/doa-pagi-18-apr-2026/
LOCATION:Zoom Meeting\, Online\, Jakarta\, Jakarta\, Indonesia
CATEGORIES:Doa Pagi
ATTACH;FMTTYPE=image/jpeg:https://gkjjembatanlima.org/wp-content/uploads/2024/10/Doa-Pagi-v2.jpg
END:VEVENT
BEGIN:VEVENT
DTSTART;TZID=Asia/Jakarta:20260425T060000
DTEND;TZID=Asia/Jakarta:20260425T060000
DTSTAMP:20260420T131112
CREATED:20260419T073306Z
LAST-MODIFIED:20260419T073306Z
UID:993439-1777096800-1777096800@gkjjembatanlima.org
SUMMARY:Doa Pagi | 25 APR 2026
DESCRIPTION:Shalom jemaat yang terkasih\,\nMari kita bersehati berdoa bersama di doa pagi GKJ Jembatan Lima. \nDoa Pagi GKJ Jembatan Lima:\nSabtu\, 25 April 2026\, pkl. 06:00-selesai\ndi Zoom Meeting. \nUntuk mendapatkan link zoom meeting\, silahkan hubungi ke nomor sekretariat gereja di: 0813-8812-9883
URL:https://gkjjembatanlima.org/acara/doa-pagi-25-apr-2026/
LOCATION:Zoom Meeting\, Online\, Jakarta\, Jakarta\, Indonesia
CATEGORIES:Doa Pagi
ATTACH;FMTTYPE=image/jpeg:https://gkjjembatanlima.org/wp-content/uploads/2024/10/Doa-Pagi-v2.jpg
END:VEVENT
END:VCALENDAR