BEGIN:VCALENDAR
VERSION:2.0
PRODID:-//GKJ Jemaat Jembatan Lima - ECPv6.14.0//NONSGML v1.0//EN
CALSCALE:GREGORIAN
METHOD:PUBLISH
X-WR-CALNAME:GKJ Jemaat Jembatan Lima
X-ORIGINAL-URL:https://gkjjembatanlima.org
X-WR-CALDESC:Events for GKJ Jemaat Jembatan Lima
REFRESH-INTERVAL;VALUE=DURATION:PT1H
X-Robots-Tag:noindex
X-PUBLISHED-TTL:PT1H
BEGIN:VTIMEZONE
TZID:Asia/Jakarta
BEGIN:STANDARD
TZOFFSETFROM:+0700
TZOFFSETTO:+0700
TZNAME:WIB
DTSTART:20260101T000000
END:STANDARD
END:VTIMEZONE
BEGIN:VEVENT
DTSTART;TZID=Asia/Jakarta:20260127T190000
DTEND;TZID=Asia/Jakarta:20260127T190000
DTSTAMP:20260420T085220
CREATED:20260110T135646Z
LAST-MODIFIED:20260124T124313Z
UID:992922-1769540400-1769540400@gkjjembatanlima.org
SUMMARY:Malam Apresiasi dan Fellowship | 27 JAN 2026
DESCRIPTION:Gereja akan mengadakan Malam Apresiasi dan Fellowship bagi Pelayan dan Aktivis yang telah aktif melayani di GKJ Jemaat Jembatan Lima. \nHari Selasa\, 27 Januari 2026\, Pukul 19.00 WIB. \nTema: WELL SERVE\, WELL DONE!\nPembicara: G.I. Alfa Imannuel. \nDresscode: Budaya Indonesia (Baju Adat\, Kebaya\, Batik\, dsb.) \nKami mengundang bagi seluruh pelayan dan aktivis yang melayani di GKJ Jemaat Jembatan Lima untuk dapat menghadirinya.
URL:https://gkjjembatanlima.org/acara/malam-apresiasi-dan-fellowship-27-jan-2026/
LOCATION:GKJ Jembatan Lima\, GKJ Jembatan Lima Jl. Tambora Raya No.44\, Jakarta Barat\, DKI Jakarta\, 11220\, Indonesia
CATEGORIES:Fellowship
ATTACH;FMTTYPE=image/jpeg:https://gkjjembatanlima.org/wp-content/uploads/2026/01/Apresiasi-Pelayan-Aktivis-27-JAN-2026-update.jpg
END:VEVENT
END:VCALENDAR