BEGIN:VCALENDAR
VERSION:2.0
PRODID:-//GKJ Jemaat Jembatan Lima - ECPv6.14.0//NONSGML v1.0//EN
CALSCALE:GREGORIAN
METHOD:PUBLISH
X-ORIGINAL-URL:https://gkjjembatanlima.org
X-WR-CALDESC:Events for GKJ Jemaat Jembatan Lima
REFRESH-INTERVAL;VALUE=DURATION:PT1H
X-Robots-Tag:noindex
X-PUBLISHED-TTL:PT1H
BEGIN:VTIMEZONE
TZID:Asia/Jakarta
BEGIN:STANDARD
TZOFFSETFROM:+0700
TZOFFSETTO:+0700
TZNAME:WIB
DTSTART:20230101T000000
END:STANDARD
END:VTIMEZONE
BEGIN:VEVENT
DTSTART;TZID=Asia/Jakarta:20240404T180000
DTEND;TZID=Asia/Jakarta:20240404T180000
DTSTAMP:20260420T060751
CREATED:20240331T044031Z
LAST-MODIFIED:20240331T044031Z
UID:990554-1712253600-1712253600@gkjjembatanlima.org
SUMMARY:Acara Kebersamaan | 04 APR 2024
DESCRIPTION:Dalam mempererat keakraban dan saling memperhatikan sesama jemaat GKJ jembatan lima\, Gereja akan mengadakan acara kebersamaan pada hari Kamis\, 04 April 2024 Pukul 18.00 WIB. \nKami mengundang Jemaat untuk dapat ikut berpartisipasi dalam acara kebersamaan ini.
URL:https://gkjjembatanlima.org/acara/acara-kebersamaan-04-apr-2024/
LOCATION:GKJ Jembatan Lima\, GKJ Jembatan Lima Jl. Tambora Raya No.44\, Jakarta Barat\, DKI Jakarta\, 11220\, Indonesia
CATEGORIES:Fellowship
ATTACH;FMTTYPE=image/jpeg:https://gkjjembatanlima.org/wp-content/uploads/2024/03/Kebersamaan-123.jpg
END:VEVENT
BEGIN:VEVENT
DTSTART;TZID=Asia/Jakarta:20240314T180000
DTEND;TZID=Asia/Jakarta:20240314T213000
DTSTAMP:20260420T060751
CREATED:20240309T132153Z
LAST-MODIFIED:20240309T132153Z
UID:990488-1710439200-1710451800@gkjjembatanlima.org
SUMMARY:Acara Kebersamaan | 14 MAR 2024
DESCRIPTION:Dalam mempererat keakraban dan saling memperhatikan sesama jemaat GKJ jembatan lima\, Gereja akan mengadakan acara kebersamaan pada hari Kamis\, 14 Maret 2024 Pukul 18.00 WIB. \nKami mengundang Jemaat untuk dapat ikut berpartisipasi dalam acara kebersamaan ini.
URL:https://gkjjembatanlima.org/acara/acara-kebersamaan-14-mar-2024/
LOCATION:GKJ Jembatan Lima\, GKJ Jembatan Lima Jl. Tambora Raya No.44\, Jakarta Barat\, DKI Jakarta\, 11220\, Indonesia
CATEGORIES:Fellowship
ATTACH;FMTTYPE=image/jpeg:https://gkjjembatanlima.org/wp-content/uploads/2024/03/Kebersamaan-123.jpg
END:VEVENT
BEGIN:VEVENT
DTSTART;TZID=Asia/Jakarta:20240307T180000
DTEND;TZID=Asia/Jakarta:20240307T180000
DTSTAMP:20260420T060751
CREATED:20240303T062258Z
LAST-MODIFIED:20240303T062258Z
UID:990463-1709834400-1709834400@gkjjembatanlima.org
SUMMARY:Acara Kebersamaan | 07 MAR 2024
DESCRIPTION:Dalam mempererat keakraban dan saling memperhatikan sesama jemaat GKJ jembatan lima\, Gereja akan kembali mengadakan acara kebersamaan pada hari Kamis\, 07 Maret 2024 Pukul 18.00 WIB. \nKami mengundang Jemaat untuk dapat ikut berpartisipasi dalam acara kebersamaan ini.
URL:https://gkjjembatanlima.org/acara/acara-kebersamaan-07-mar-2024/
LOCATION:GKJ Jembatan Lima\, GKJ Jembatan Lima Jl. Tambora Raya No.44\, Jakarta Barat\, DKI Jakarta\, 11220\, Indonesia
CATEGORIES:Fellowship
ATTACH;FMTTYPE=image/jpeg:https://gkjjembatanlima.org/wp-content/uploads/2024/03/Kebersamaan-Kamis-green.jpg
END:VEVENT
BEGIN:VEVENT
DTSTART;TZID=Asia/Jakarta:20231026T180000
DTEND;TZID=Asia/Jakarta:20231026T180000
DTSTAMP:20260420T060751
CREATED:20231021T130823Z
LAST-MODIFIED:20231021T130823Z
UID:989866-1698343200-1698343200@gkjjembatanlima.org
SUMMARY:Kebersamaan Kamis 26 Oktober 2023
DESCRIPTION:Dalam mempererat keakraban dan saling memperhatikan sesama jemaat GKJ jembatan lima\, Gereja mengadakan acara kebersamaan berupa : \n\nOlahraga Pingpong / Tenis Meja\nCatur Internasional\nCatur Cina\nPermainan Othello\nPermainan UNO Stacko\nSenam Kesegaran Jasmani/Line Dance\n\nAcara Kebersamaan diadakan setiap hari Kamis\, pukul 18:00 WIB bertempat di Gereja. \nKami mengundang Jemaat untuk dapat ikut berpartisipasi dalam acara kebersamaan ini. \nJadwal berikutnya adalah: \nKamis\, 26 Oktober 2023\nPukul 18:00 WIB
URL:https://gkjjembatanlima.org/acara/kebersamaan-kamis-26-oktober-2023/
LOCATION:GKJ Jembatan Lima\, GKJ Jembatan Lima Jl. Tambora Raya No.44\, Jakarta Barat\, DKI Jakarta\, 11220\, Indonesia
CATEGORIES:Fellowship
END:VEVENT
BEGIN:VEVENT
DTSTART;TZID=Asia/Jakarta:20231019T180000
DTEND;TZID=Asia/Jakarta:20231019T180000
DTSTAMP:20260420T060751
CREATED:20231014T163303Z
LAST-MODIFIED:20231014T164251Z
UID:989841-1697738400-1697738400@gkjjembatanlima.org
SUMMARY:Kebersamaan Kamis 19 Oktober 2023
DESCRIPTION:Dalam mempererat keakraban dan saling memperhatikan sesama jemaat GKJ jembatan lima\, Gereja mengadakan acara kebersamaan berupa : \n\nOlahraga Pingpong / Tenis Meja\nCatur Internasional\nCatur Cina\nPermainan Othello\nPermainan UNO Stacko\nSenam Kesegaran Jasmani/Line Dance\n\nAcara Kebersamaan diadakan setiap hari Kamis\, pukul 18:00 WIB bertempat di Gereja. \nKami mengundang Jemaat untuk dapat ikut berpartisipasi dalam acara kebersamaan ini. \nJadwal berikutnya adalah: \nKamis\, 19 Oktober 2023\nPukul 18:00 WIB
URL:https://gkjjembatanlima.org/acara/kebersamaan-kamis-19-oktober-2023/
LOCATION:GKJ Jembatan Lima\, GKJ Jembatan Lima Jl. Tambora Raya No.44\, Jakarta Barat\, DKI Jakarta\, 11220\, Indonesia
CATEGORIES:Fellowship
END:VEVENT
BEGIN:VEVENT
DTSTART;TZID=Asia/Jakarta:20231012T180000
DTEND;TZID=Asia/Jakarta:20231012T180000
DTSTAMP:20260420T060751
CREATED:20231007T152511Z
LAST-MODIFIED:20231007T152511Z
UID:989816-1697133600-1697133600@gkjjembatanlima.org
SUMMARY:Kebersamaan Kamis 12 Oktober 2023
DESCRIPTION:Dalam mempererat keakraban dan saling memperhatikan sesama jemaat GKJ jembatan lima\, Gereja mengadakan acara kebersamaan berupa : \n\nOlahraga Pingpong / Tenis Meja\nCatur Internasional\nCatur Cina\nPermainan Othello\nPermainan UNO Stacko\nSenam Kesegaran Jasmani/Line Dance\n\nAcara Kebersamaan diadakan setiap hari Kamis\, pukul 18:00 WIB bertempat di Gereja. \nKami mengundang Jemaat untuk dapat ikut berpartisipasi dalam acara kebersamaan ini. \nJadwal berikutnya adalah: \nKamis\, 12 Oktober 2023\nPukul 18:00 WIB
URL:https://gkjjembatanlima.org/acara/kebersamaan-kamis-12-oktober-2023/
LOCATION:GKJ Jembatan Lima\, GKJ Jembatan Lima Jl. Tambora Raya No.44\, Jakarta Barat\, DKI Jakarta\, 11220\, Indonesia
CATEGORIES:Fellowship
END:VEVENT
BEGIN:VEVENT
DTSTART;TZID=Asia/Jakarta:20231005T180000
DTEND;TZID=Asia/Jakarta:20231005T180000
DTSTAMP:20260420T060751
CREATED:20230930T144852Z
LAST-MODIFIED:20230930T144852Z
UID:989797-1696528800-1696528800@gkjjembatanlima.org
SUMMARY:Kebersamaan Kamis 05 Oktober 2023
DESCRIPTION:Dalam mempererat keakraban dan saling memperhatikan sesama jemaat GKJ jembatan lima\, Gereja mengadakan acara kebersamaan berupa : \n\nOlahraga Pingpong / Tenis Meja\nCatur Internasional\nCatur Cina\nPermainan Othello\nPermainan UNO Stacko\nSenam Kesegaran Jasmani/Line Dance\n\nAcara Kebersamaan diadakan setiap hari Kamis\, pukul 18:00 WIB bertempat di Gereja. \nKami mengundang Jemaat untuk dapat ikut berpartisipasi dalam acara kebersamaan ini. \nJadwal berikutnya adalah: \nKamis\, 05 Oktober 2023\nPukul 18:00 WIB
URL:https://gkjjembatanlima.org/acara/kebersamaan-kamis-05-oktober-2023/
LOCATION:GKJ Jembatan Lima\, GKJ Jembatan Lima Jl. Tambora Raya No.44\, Jakarta Barat\, DKI Jakarta\, 11220\, Indonesia
CATEGORIES:Fellowship
END:VEVENT
BEGIN:VEVENT
DTSTART;TZID=Asia/Jakarta:20230921T180000
DTEND;TZID=Asia/Jakarta:20230921T180000
DTSTAMP:20260420T060751
CREATED:20230916T105202Z
LAST-MODIFIED:20230916T105202Z
UID:989722-1695319200-1695319200@gkjjembatanlima.org
SUMMARY:Kebersamaan Kamis 21 September 2023
DESCRIPTION:Dalam mempererat keakraban dan saling memperhatikan sesama jemaat GKJ jembatan lima\, Gereja mengadakan acara kebersamaan berupa : \n\nOlahraga Pingpong / Tenis Meja\nCatur Internasional\nCatur Cina\nPermainan Othello\nPermainan UNO Stacko\nSenam Kesegaran Jasmani/Line Dance\n\nAcara Kebersamaan diadakan setiap hari Kamis\, pukul 18:00 WIB bertempat di Gereja. \nKami mengundang Jemaat untuk dapat ikut berpartisipasi dalam acara kebersamaan ini. \nJadwal berikutnya adalah: \nKamis\, 21 September 2023\nPukul 18:00 WIB
URL:https://gkjjembatanlima.org/acara/kebersamaan-kamis-21-september-2023/
LOCATION:GKJ Jembatan Lima\, GKJ Jembatan Lima Jl. Tambora Raya No.44\, Jakarta Barat\, DKI Jakarta\, 11220\, Indonesia
CATEGORIES:Fellowship
END:VEVENT
BEGIN:VEVENT
DTSTART;TZID=Asia/Jakarta:20230914T180000
DTEND;TZID=Asia/Jakarta:20230914T180000
DTSTAMP:20260420T060751
CREATED:20230910T023505Z
LAST-MODIFIED:20230910T023505Z
UID:989691-1694714400-1694714400@gkjjembatanlima.org
SUMMARY:Kebersamaan Kamis 14 September 2023
DESCRIPTION:Dalam mempererat keakraban dan saling memperhatikan sesama jemaat GKJ jembatan lima\, Gereja mengadakan acara kebersamaan berupa : \n\nOlahraga Pingpong / Tenis Meja\nCatur Internasional\nCatur Cina\nPermainan Othello\nPermainan UNO Stacko\nSenam/Line Dance\n\nAcara Kebersamaan diadakan setiap hari Kamis\, pukul 18:00 WIB bertempat di Gereja. \nKami mengundang Jemaat untuk dapat ikut berpartisipasi dalam acara kebersamaan ini. \nJadwal berikutnya adalah: \nKamis\, 14 September 2023\nPukul 18:00 WIB
URL:https://gkjjembatanlima.org/acara/kebersamaan-kamis-14-september-2023/
LOCATION:GKJ Jembatan Lima\, GKJ Jembatan Lima Jl. Tambora Raya No.44\, Jakarta Barat\, DKI Jakarta\, 11220\, Indonesia
CATEGORIES:Fellowship
END:VEVENT
BEGIN:VEVENT
DTSTART;TZID=Asia/Jakarta:20230907T180000
DTEND;TZID=Asia/Jakarta:20230907T180000
DTSTAMP:20260420T060751
CREATED:20230902T083235Z
LAST-MODIFIED:20230910T023514Z
UID:989637-1694109600-1694109600@gkjjembatanlima.org
SUMMARY:Kebersamaan Kamis 07 September 2023
DESCRIPTION:Dalam mempererat keakraban dan saling memperhatikan sesama jemaat GKJ jembatan lima\, Gereja mengadakan acara kebersamaan berupa : \n\nOlahraga Pingpong / Tenis Meja\nCatur Internasional\nCatur Cina\nPermainan Othello\nPermainan UNO Stacko\nSenam/Line Dance\n\nAcara Kebersamaan diadakan setiap hari Kamis\, pukul 18:00 WIB bertempat di Gereja. \nKami mengundang Jemaat untuk dapat ikut berpartisipasi dalam acara kebersamaan ini. \nJadwal berikutnya adalah: \nKamis\, 07 September 2023\nPukul 18:00 WIB
URL:https://gkjjembatanlima.org/acara/kebersamaan-kamis-07-september-2023/
LOCATION:GKJ Jembatan Lima\, GKJ Jembatan Lima Jl. Tambora Raya No.44\, Jakarta Barat\, DKI Jakarta\, 11220\, Indonesia
CATEGORIES:Fellowship
END:VEVENT
BEGIN:VEVENT
DTSTART;TZID=Asia/Jakarta:20230831T183000
DTEND;TZID=Asia/Jakarta:20230831T183000
DTSTAMP:20260420T060751
CREATED:20230827T051322Z
LAST-MODIFIED:20230827T051322Z
UID:989615-1693506600-1693506600@gkjjembatanlima.org
SUMMARY:Kebersamaan Kamis 31 Agustus 2023
DESCRIPTION:Dalam mempererat keakraban dan saling memperhatikan sesama jemaat GKJ jembatan lima\, Gereja mengadakan acara kebersamaan berupa : \n\nOlahraga Pingpong / Tenis Meja\nCatur Internasional\nCatur Cina\nPermainan Othello\nPermainan UNO Stacko\nSenam/Line Dance\n\nAcara Kebersamaan diadakan setiap hari Kamis\, pukul 18:30 WIB bertempat di Gereja. \nKami mengundang Jemaat untuk dapat ikut berpartisipasi dalam acara kebersamaan ini. \nJadwal berikutnya adalah: \nKamis\, 31 Agustus 2023\nPukul 18:30 WIB
URL:https://gkjjembatanlima.org/acara/kebersamaan-kamis-31-agustus-2023/
LOCATION:GKJ Jembatan Lima\, GKJ Jembatan Lima Jl. Tambora Raya No.44\, Jakarta Barat\, DKI Jakarta\, 11220\, Indonesia
CATEGORIES:Fellowship
ATTACH;FMTTYPE=image/jpeg:https://gkjjembatanlima.org/wp-content/uploads/2023/07/Promo-7-Kebersamaan-GKJ-Jembatan-Lima.mp4_20230729_185814.276.jpg
END:VEVENT
BEGIN:VEVENT
DTSTART;TZID=Asia/Jakarta:20230824T183000
DTEND;TZID=Asia/Jakarta:20230824T183000
DTSTAMP:20260420T060751
CREATED:20230819T143929Z
LAST-MODIFIED:20230819T143929Z
UID:989564-1692901800-1692901800@gkjjembatanlima.org
SUMMARY:Kebersamaan Kamis 24 Agustus 2023
DESCRIPTION:Dalam mempererat keakraban dan saling memperhatikan sesama jemaat GKJ jembatan lima\, Gereja mengadakan acara kebersamaan berupa : \n\nOlahraga Pingpong / Tenis Meja\nCatur Internasional\nCatur Cina\nPermainan Othello\nPermainan UNO Stacko\nSenam/Line Dance\n\nAcara Kebersamaan diadakan setiap hari Kamis\, pukul 18:30 WIB bertempat di Gereja. \nKami mengundang Jemaat untuk dapat ikut berpartisipasi dalam acara kebersamaan ini. \nJadwal berikutnya adalah: \nKamis\, 24 Agustus 2023\nPukul 18:30 WIB
URL:https://gkjjembatanlima.org/acara/kebersamaan-kamis-24-agustus-2023/
LOCATION:GKJ Jembatan Lima\, GKJ Jembatan Lima Jl. Tambora Raya No.44\, Jakarta Barat\, DKI Jakarta\, 11220\, Indonesia
CATEGORIES:Fellowship
ATTACH;FMTTYPE=image/jpeg:https://gkjjembatanlima.org/wp-content/uploads/2023/07/Promo-7-Kebersamaan-GKJ-Jembatan-Lima.mp4_20230729_185814.276.jpg
END:VEVENT
BEGIN:VEVENT
DTSTART;VALUE=DATE:20230820
DTEND;VALUE=DATE:20230821
DTSTAMP:20260420T060751
CREATED:20230722T095713Z
LAST-MODIFIED:20230722T095713Z
UID:989375-1692489600-1692575999@gkjjembatanlima.org
SUMMARY:Kebersamaan Pelayan KU 4 - Minggu 20 Agustus 2023
DESCRIPTION:Acara Kebersamaan Pelayan KU 4 akan dilaksanakan pada: \nMinggu\, 20 Agustus 2023\nAncol (di pantai depan Mc’D) \nUntuk pendaftaran dan info lebih lanjut dapat menghubungi:\n0896-0165-6080 (Ana)
URL:https://gkjjembatanlima.org/acara/kebersamaan-pelayan-ku-4-minggu-20-agustus-2023/
LOCATION:DKI Jakarta
CATEGORIES:Fellowship
ATTACH;FMTTYPE=image/jpeg:https://gkjjembatanlima.org/wp-content/uploads/2023/07/Promo-Kebersamaan-KU-4-20-Agust-2023-.mp4_20230722_165624.968.jpg
END:VEVENT
BEGIN:VEVENT
DTSTART;TZID=Asia/Jakarta:20230803T183000
DTEND;TZID=Asia/Jakarta:20230803T183000
DTSTAMP:20260420T060751
CREATED:20230729T120300Z
LAST-MODIFIED:20230729T120300Z
UID:989414-1691087400-1691087400@gkjjembatanlima.org
SUMMARY:Kebersamaan Kamis 03 Agustus 2023
DESCRIPTION:Dalam mempererat keakraban dan saling memperhatikan sesama jemaat GKJ jembatan lima\, Gereja mengadakan acara kebersamaan berupa : \n\nOlahraga Pingpong / Tenis Meja\nCatur Internasional\nCatur Cina\nPermainan Othello\nPermainan UNO Stacko\n\nAcara Kebersamaan diadakan setiap hari Kamis\, pukul 18:30 WIB bertempat di Gereja. \nKami mengundang Jemaat untuk dapat ikut berpartisipasi dalam acara kebersamaan ini. \nJadwal berikutnya adalah: \nKamis\, 03 Agustus 2023\nPukul 18:30 WIB
URL:https://gkjjembatanlima.org/acara/kebersamaan-kamis-03-agustus-2023/
LOCATION:GKJ Jembatan Lima\, GKJ Jembatan Lima Jl. Tambora Raya No.44\, Jakarta Barat\, DKI Jakarta\, 11220\, Indonesia
CATEGORIES:Fellowship
ATTACH;FMTTYPE=image/jpeg:https://gkjjembatanlima.org/wp-content/uploads/2023/07/Promo-7-Kebersamaan-GKJ-Jembatan-Lima.mp4_20230729_185814.276.jpg
END:VEVENT
BEGIN:VEVENT
DTSTART;TZID=Asia/Jakarta:20230727T183000
DTEND;TZID=Asia/Jakarta:20230727T183000
DTSTAMP:20260420T060751
CREATED:20230722T095300Z
LAST-MODIFIED:20230722T095300Z
UID:989372-1690482600-1690482600@gkjjembatanlima.org
SUMMARY:Acara Kebersamaan Kamis 27 Juli 2023
DESCRIPTION:Dalam mempererat keakraban dan saling memperhatikan sesama jemaat GKJ jembatan lima\, Gereja mengadakan acara kebersamaan berupa : \n\nOlahraga Pingpong / Tenis Meja\nCatur Internasional\nCatur Cina\nPermainan Othello\nPermainan UNO Stacko\n\nAcara Kebersamaan diadakan setiap hari Kamis\, pukul 18:30 WIB bertempat di Gereja. \nKami mengundang Jemaat untuk dapat ikut berpartisipasi dalam acara kebersamaan ini. \nJadwal berikutnya adalah: \nKamis\, 27 Juli 2023\nPukul 18:30 WIB
URL:https://gkjjembatanlima.org/acara/acara-kebersamaan-kamis-27-juli-2023/
LOCATION:GKJ Jembatan Lima\, GKJ Jembatan Lima Jl. Tambora Raya No.44\, Jakarta Barat\, DKI Jakarta\, 11220\, Indonesia
CATEGORIES:Fellowship
ATTACH;FMTTYPE=image/jpeg:https://gkjjembatanlima.org/wp-content/uploads/2023/07/Promo-Kebersamaan-3-Revisi.mp4_20230702_002234.761.jpg
END:VEVENT
BEGIN:VEVENT
DTSTART;TZID=Asia/Jakarta:20230715T170000
DTEND;TZID=Asia/Jakarta:20230715T170000
DTSTAMP:20260420T060751
CREATED:20230707T160441Z
LAST-MODIFIED:20230707T160441Z
UID:989297-1689440400-1689440400@gkjjembatanlima.org
SUMMARY:Fellowship KMR 15 Juli 2023
DESCRIPTION:Yuk\, ikut gabung dan nonton bersama di Fellowship KMR! \nSabtu\, 15 Juli 2023\nPukul 17:00 – selesai \nJangan sampai ketinggalan ya!
URL:https://gkjjembatanlima.org/acara/fellowship-kmr-15-juli-2023/
LOCATION:GKJ Jembatan Lima\, GKJ Jembatan Lima Jl. Tambora Raya No.44\, Jakarta Barat\, DKI Jakarta\, 11220\, Indonesia
CATEGORIES:Fellowship
ATTACH;FMTTYPE=image/jpeg:https://gkjjembatanlima.org/wp-content/uploads/2023/07/07-15-Fellowship-KMR.mp4_20230707_225939.013.jpg
END:VEVENT
END:VCALENDAR