BEGIN:VCALENDAR
VERSION:2.0
PRODID:-//GKJ Jemaat Jembatan Lima - ECPv6.14.0//NONSGML v1.0//EN
CALSCALE:GREGORIAN
METHOD:PUBLISH
X-WR-CALNAME:GKJ Jemaat Jembatan Lima
X-ORIGINAL-URL:https://gkjjembatanlima.org
X-WR-CALDESC:Events for GKJ Jemaat Jembatan Lima
REFRESH-INTERVAL;VALUE=DURATION:PT1H
X-Robots-Tag:noindex
X-PUBLISHED-TTL:PT1H
BEGIN:VTIMEZONE
TZID:Asia/Jakarta
BEGIN:STANDARD
TZOFFSETFROM:+0700
TZOFFSETTO:+0700
TZNAME:WIB
DTSTART:20230101T000000
END:STANDARD
END:VTIMEZONE
BEGIN:VEVENT
DTSTART;VALUE=DATE:20230820
DTEND;VALUE=DATE:20230821
DTSTAMP:20260420T072704
CREATED:20230722T095713Z
LAST-MODIFIED:20230722T095713Z
UID:989375-1692489600-1692575999@gkjjembatanlima.org
SUMMARY:Kebersamaan Pelayan KU 4 - Minggu 20 Agustus 2023
DESCRIPTION:Acara Kebersamaan Pelayan KU 4 akan dilaksanakan pada: \nMinggu\, 20 Agustus 2023\nAncol (di pantai depan Mc’D) \nUntuk pendaftaran dan info lebih lanjut dapat menghubungi:\n0896-0165-6080 (Ana)
URL:https://gkjjembatanlima.org/acara/kebersamaan-pelayan-ku-4-minggu-20-agustus-2023/
LOCATION:DKI Jakarta
CATEGORIES:Fellowship
ATTACH;FMTTYPE=image/jpeg:https://gkjjembatanlima.org/wp-content/uploads/2023/07/Promo-Kebersamaan-KU-4-20-Agust-2023-.mp4_20230722_165624.968.jpg
END:VEVENT
BEGIN:VEVENT
DTSTART;TZID=Asia/Jakarta:20230803T183000
DTEND;TZID=Asia/Jakarta:20230803T183000
DTSTAMP:20260420T072704
CREATED:20230729T120300Z
LAST-MODIFIED:20230729T120300Z
UID:989414-1691087400-1691087400@gkjjembatanlima.org
SUMMARY:Kebersamaan Kamis 03 Agustus 2023
DESCRIPTION:Dalam mempererat keakraban dan saling memperhatikan sesama jemaat GKJ jembatan lima\, Gereja mengadakan acara kebersamaan berupa : \n\nOlahraga Pingpong / Tenis Meja\nCatur Internasional\nCatur Cina\nPermainan Othello\nPermainan UNO Stacko\n\nAcara Kebersamaan diadakan setiap hari Kamis\, pukul 18:30 WIB bertempat di Gereja. \nKami mengundang Jemaat untuk dapat ikut berpartisipasi dalam acara kebersamaan ini. \nJadwal berikutnya adalah: \nKamis\, 03 Agustus 2023\nPukul 18:30 WIB
URL:https://gkjjembatanlima.org/acara/kebersamaan-kamis-03-agustus-2023/
LOCATION:GKJ Jembatan Lima\, GKJ Jembatan Lima Jl. Tambora Raya No.44\, Jakarta Barat\, DKI Jakarta\, 11220\, Indonesia
CATEGORIES:Fellowship
ATTACH;FMTTYPE=image/jpeg:https://gkjjembatanlima.org/wp-content/uploads/2023/07/Promo-7-Kebersamaan-GKJ-Jembatan-Lima.mp4_20230729_185814.276.jpg
END:VEVENT
BEGIN:VEVENT
DTSTART;TZID=Asia/Jakarta:20230727T183000
DTEND;TZID=Asia/Jakarta:20230727T183000
DTSTAMP:20260420T072704
CREATED:20230722T095300Z
LAST-MODIFIED:20230722T095300Z
UID:989372-1690482600-1690482600@gkjjembatanlima.org
SUMMARY:Acara Kebersamaan Kamis 27 Juli 2023
DESCRIPTION:Dalam mempererat keakraban dan saling memperhatikan sesama jemaat GKJ jembatan lima\, Gereja mengadakan acara kebersamaan berupa : \n\nOlahraga Pingpong / Tenis Meja\nCatur Internasional\nCatur Cina\nPermainan Othello\nPermainan UNO Stacko\n\nAcara Kebersamaan diadakan setiap hari Kamis\, pukul 18:30 WIB bertempat di Gereja. \nKami mengundang Jemaat untuk dapat ikut berpartisipasi dalam acara kebersamaan ini. \nJadwal berikutnya adalah: \nKamis\, 27 Juli 2023\nPukul 18:30 WIB
URL:https://gkjjembatanlima.org/acara/acara-kebersamaan-kamis-27-juli-2023/
LOCATION:GKJ Jembatan Lima\, GKJ Jembatan Lima Jl. Tambora Raya No.44\, Jakarta Barat\, DKI Jakarta\, 11220\, Indonesia
CATEGORIES:Fellowship
ATTACH;FMTTYPE=image/jpeg:https://gkjjembatanlima.org/wp-content/uploads/2023/07/Promo-Kebersamaan-3-Revisi.mp4_20230702_002234.761.jpg
END:VEVENT
BEGIN:VEVENT
DTSTART;TZID=Asia/Jakarta:20230715T170000
DTEND;TZID=Asia/Jakarta:20230715T170000
DTSTAMP:20260420T072704
CREATED:20230707T160441Z
LAST-MODIFIED:20230707T160441Z
UID:989297-1689440400-1689440400@gkjjembatanlima.org
SUMMARY:Fellowship KMR 15 Juli 2023
DESCRIPTION:Yuk\, ikut gabung dan nonton bersama di Fellowship KMR! \nSabtu\, 15 Juli 2023\nPukul 17:00 – selesai \nJangan sampai ketinggalan ya!
URL:https://gkjjembatanlima.org/acara/fellowship-kmr-15-juli-2023/
LOCATION:GKJ Jembatan Lima\, GKJ Jembatan Lima Jl. Tambora Raya No.44\, Jakarta Barat\, DKI Jakarta\, 11220\, Indonesia
CATEGORIES:Fellowship
ATTACH;FMTTYPE=image/jpeg:https://gkjjembatanlima.org/wp-content/uploads/2023/07/07-15-Fellowship-KMR.mp4_20230707_225939.013.jpg
END:VEVENT
END:VCALENDAR