BEGIN:VCALENDAR
VERSION:2.0
PRODID:-//GKJ Jemaat Jembatan Lima - ECPv6.14.0//NONSGML v1.0//EN
CALSCALE:GREGORIAN
METHOD:PUBLISH
X-ORIGINAL-URL:https://gkjjembatanlima.org
X-WR-CALDESC:Events for GKJ Jemaat Jembatan Lima
REFRESH-INTERVAL;VALUE=DURATION:PT1H
X-Robots-Tag:noindex
X-PUBLISHED-TTL:PT1H
BEGIN:VTIMEZONE
TZID:Asia/Jakarta
BEGIN:STANDARD
TZOFFSETFROM:+0700
TZOFFSETTO:+0700
TZNAME:WIB
DTSTART:20230101T000000
END:STANDARD
END:VTIMEZONE
BEGIN:VEVENT
DTSTART;TZID=Asia/Jakarta:20230617T190000
DTEND;TZID=Asia/Jakarta:20230617T190000
DTSTAMP:20260422T044353
CREATED:20230616T162031Z
LAST-MODIFIED:20230616T162031Z
UID:989124-1687028400-1687028400@gkjjembatanlima.org
SUMMARY:Komisi Pemuda 17 Juni 2023
DESCRIPTION:Komisi Pemuda pada hari Sabtu\, 17 Juni 2023 pukul 19:00 WIB \nTema: Bekerja Bagi Tuhan\nOleh: GI. Noptianus Zendrato
URL:https://gkjjembatanlima.org/acara/komisi-pemuda-17-juni-2023-2/
LOCATION:GKJ Jembatan Lima\, GKJ Jembatan Lima Jl. Tambora Raya No.44\, Jakarta Barat\, DKI Jakarta\, 11220\, Indonesia
CATEGORIES:Ibadah
ATTACH;FMTTYPE=image/jpeg:https://gkjjembatanlima.org/wp-content/uploads/2023/06/KP-17-Juni-2023.jpg
END:VEVENT
BEGIN:VEVENT
DTSTART;TZID=Asia/Jakarta:20230618T090000
DTEND;TZID=Asia/Jakarta:20230618T090000
DTSTAMP:20260422T044353
CREATED:20230603T050048Z
LAST-MODIFIED:20230605T032506Z
UID:988810-1687078800-1687078800@gkjjembatanlima.org
SUMMARY:Father's Day 2023
DESCRIPTION:Shalom!\n\nIbadah Gabungan Anak & Orang Tua dalam rangka Father’s Day akan berlangsung pada:\n\nMinggu\, 18 Juni 2023\, pukul 09:00 WIB\nTema: Siapakah Aku?\nPembicara: GI. Cuniadi Tan\n\nBertempat di GKJ jemaat Jembatan Lima\nJl. Tambora Raya No. 44\, Jakarta Barat\nLantai 2
URL:https://gkjjembatanlima.org/acara/fathers-day-2023/
LOCATION:GKJ Jembatan Lima\, GKJ Jembatan Lima Jl. Tambora Raya No.44\, Jakarta Barat\, DKI Jakarta\, 11220\, Indonesia
CATEGORIES:Ibadah
ATTACH;FMTTYPE=image/jpeg:https://gkjjembatanlima.org/wp-content/uploads/2023/06/fathers-day-landscape.jpg
END:VEVENT
BEGIN:VEVENT
DTSTART;TZID=Asia/Jakarta:20230623T150000
DTEND;TZID=Asia/Jakarta:20230623T150000
DTSTAMP:20260422T044353
CREATED:20230617T131750Z
LAST-MODIFIED:20230617T131750Z
UID:989168-1687532400-1687532400@gkjjembatanlima.org
SUMMARY:Ibadah Usia Sukacita - 23 Juni 2023
DESCRIPTION:Ibadah Usia Sukacita GKJ Jembatan Lima\n雅加达基督徒堂五角桥堂会欢乐团契聚会\nKami mengundang Saudara/i yang berusia 50 Tahun keatas untuk menghadiri Ibadah Usia Sukacita.\n本堂欢乐团契聚会邀请五十岁以上兄姐们踊跃来参加 同沐主恩 \nTema:\nSukacita Dalam Memelihara Iman \nPembicara:\nGI. Muliani Gulo \nHari & Waktu:\nJumat\, 23 Juni 2023\nPukul 15:00 WIB \n \n 
URL:https://gkjjembatanlima.org/acara/ibadah-usia-sukacita-23-juni-2023/
LOCATION:GKJ Jembatan Lima\, GKJ Jembatan Lima Jl. Tambora Raya No.44\, Jakarta Barat\, DKI Jakarta\, 11220\, Indonesia
CATEGORIES:Ibadah
ATTACH;FMTTYPE=image/jpeg:https://gkjjembatanlima.org/wp-content/uploads/2023/06/Usia-Sukacita-23-Juni-2023.jpg
END:VEVENT
BEGIN:VEVENT
DTSTART;TZID=Asia/Jakarta:20230624T183000
DTEND;TZID=Asia/Jakarta:20230624T183000
DTSTAMP:20260422T044353
CREATED:20230617T122013Z
LAST-MODIFIED:20230617T124956Z
UID:989148-1687631400-1687631400@gkjjembatanlima.org
SUMMARY:Hello Partner! #2 - 24 Juni 2023
DESCRIPTION:“Christian Dating”\nHello Partner! #2 \nHari Sabtu\, 24 Juni 2023\nPukul 18:30 WIB \nBertempat di:\nGKJ Jemaat Jembatan Lima\nJl. Tambora Raya No. 44\nJakarta Barat
URL:https://gkjjembatanlima.org/acara/hello-partner-2-24-juni-2023/
LOCATION:GKJ Jembatan Lima\, GKJ Jembatan Lima Jl. Tambora Raya No.44\, Jakarta Barat\, DKI Jakarta\, 11220\, Indonesia
CATEGORIES:Ibadah
ATTACH;FMTTYPE=image/jpeg:https://gkjjembatanlima.org/wp-content/uploads/2023/06/komisi-pemuda-1.jpg
END:VEVENT
END:VCALENDAR