BEGIN:VCALENDAR
VERSION:2.0
PRODID:-//GKJ Jemaat Jembatan Lima - ECPv6.14.0//NONSGML v1.0//EN
CALSCALE:GREGORIAN
METHOD:PUBLISH
X-ORIGINAL-URL:https://gkjjembatanlima.org
X-WR-CALDESC:Events for GKJ Jemaat Jembatan Lima
REFRESH-INTERVAL;VALUE=DURATION:PT1H
X-Robots-Tag:noindex
X-PUBLISHED-TTL:PT1H
BEGIN:VTIMEZONE
TZID:Asia/Jakarta
BEGIN:STANDARD
TZOFFSETFROM:+0700
TZOFFSETTO:+0700
TZNAME:WIB
DTSTART:20230101T000000
END:STANDARD
END:VTIMEZONE
BEGIN:VEVENT
DTSTART;VALUE=DATE:20231001
DTEND;VALUE=DATE:20231002
DTSTAMP:20260421T225158
CREATED:20230923T062204Z
LAST-MODIFIED:20230923T062204Z
UID:989757-1696118400-1696204799@gkjjembatanlima.org
SUMMARY:Perjamuan Kudus Oktober 2023
DESCRIPTION:Perjamuan Kudus bulan Oktober 2023: \nMinggu\, 01 Oktober 2023\ndi seluruh Kebaktian Umum \nLihat Jadwal Kebaktian Umum
URL:https://gkjjembatanlima.org/acara/perjamuan-kudus-oktober-2023/
LOCATION:GKJ Jembatan Lima\, GKJ Jembatan Lima Jl. Tambora Raya No.44\, Jakarta Barat\, DKI Jakarta\, 11220\, Indonesia
CATEGORIES:Ibadah
END:VEVENT
BEGIN:VEVENT
DTSTART;TZID=Asia/Jakarta:20231007T190000
DTEND;TZID=Asia/Jakarta:20231007T190000
DTSTAMP:20260421T225158
CREATED:20230930T095012Z
LAST-MODIFIED:20230930T144339Z
UID:989785-1696705200-1696705200@gkjjembatanlima.org
SUMMARY:Komisi Pemuda 07 Oktober 2023
DESCRIPTION:Komisi Pemuda pada hari Sabtu\, 07 Oktober 2023 pukul 19:00 WIB. \nTema: Peka.\nPembicara: GI. Widya Tuluswati. \nBertempat di Ruang Ibadah\nGKJ Jemaat Jembatan Lima\nJl. Tambora Raya No. 44\,\nJakarta-Barat. \nKami mengundang jemaat khususnya pemuda pemudi untuk menghadirinya.
URL:https://gkjjembatanlima.org/acara/komisi-pemuda-07-oktober-2023/
LOCATION:GKJ Jembatan Lima\, GKJ Jembatan Lima Jl. Tambora Raya No.44\, Jakarta Barat\, DKI Jakarta\, 11220\, Indonesia
CATEGORIES:Ibadah
END:VEVENT
BEGIN:VEVENT
DTSTART;VALUE=DATE:20231008
DTEND;VALUE=DATE:20231009
DTSTAMP:20260421T225158
CREATED:20230930T094202Z
LAST-MODIFIED:20230930T094202Z
UID:989776-1696723200-1696809599@gkjjembatanlima.org
SUMMARY:Kebaktian Umum Minggu 08 Oktober 2023
DESCRIPTION:Kebaktian Umum GKJ Jemaat Jembatan Lima\nMinggu\, 08 Oktober 2023.\nTema: HARTA DALAM BEJANA. \nPembicara:\nKU 1 : GI. Alfa Imannuel.\nKU 2&4 : GI. Alfa Imannuel.\nKU 5 : GI. Alfa Imannuel. \nLihat Jadwal Kebaktian Umum
URL:https://gkjjembatanlima.org/acara/kebaktian-umum-minggu-08-oktober-2023/
LOCATION:GKJ Jembatan Lima\, GKJ Jembatan Lima Jl. Tambora Raya No.44\, Jakarta Barat\, DKI Jakarta\, 11220\, Indonesia
CATEGORIES:Ibadah
END:VEVENT
BEGIN:VEVENT
DTSTART;TZID=Asia/Jakarta:20231014T190000
DTEND;TZID=Asia/Jakarta:20231014T190000
DTSTAMP:20260421T225158
CREATED:20231007T152039Z
LAST-MODIFIED:20231007T152039Z
UID:989814-1697310000-1697310000@gkjjembatanlima.org
SUMMARY:Komisi Pemuda 14 Oktober 2023
DESCRIPTION:Komisi Pemuda pada hari Sabtu\, 14 Oktober 2023 pukul 19:00 WIB. \nTema: Planted to Love.\nPembicara: GI. Yuneari Lase. \nBertempat di Ruang Ibadah\nGKJ Jemaat Jembatan Lima\nJl. Tambora Raya No. 44\,\nJakarta-Barat. \nKami mengundang jemaat khususnya pemuda pemudi untuk menghadirinya.
URL:https://gkjjembatanlima.org/acara/komisi-pemuda-14-oktober-2023/
LOCATION:GKJ Jembatan Lima\, GKJ Jembatan Lima Jl. Tambora Raya No.44\, Jakarta Barat\, DKI Jakarta\, 11220\, Indonesia
CATEGORIES:Ibadah
END:VEVENT
BEGIN:VEVENT
DTSTART;VALUE=DATE:20231015
DTEND;VALUE=DATE:20231016
DTSTAMP:20260421T225158
CREATED:20231007T151244Z
LAST-MODIFIED:20231007T151244Z
UID:989806-1697328000-1697414399@gkjjembatanlima.org
SUMMARY:Kebaktian Umum Minggu 15 Oktober 2023
DESCRIPTION:Kebaktian Umum GKJ Jemaat Jembatan Lima\nMinggu\, 15 Oktober 2023.\nTema: HIDUP BAGI KRISTUS. \nPembicara:\nKU 1 : Pdt. Faoziduhu Lahagu.\nKU 2&4 : Pdt. Faoziduhu Lahagu.\nKU 3: GI. Swanius Bong\nKU 5 : Pdt. Faoziduhu Lahagu. \nLihat Jadwal Kebaktian Umum
URL:https://gkjjembatanlima.org/acara/kebaktian-umum-minggu-15-oktober-2023/
LOCATION:GKJ Jembatan Lima\, GKJ Jembatan Lima Jl. Tambora Raya No.44\, Jakarta Barat\, DKI Jakarta\, 11220\, Indonesia
CATEGORIES:Ibadah
END:VEVENT
BEGIN:VEVENT
DTSTART;TZID=Asia/Jakarta:20231021T190000
DTEND;TZID=Asia/Jakarta:20231021T190000
DTSTAMP:20260421T225158
CREATED:20231014T163057Z
LAST-MODIFIED:20231014T163057Z
UID:989838-1697914800-1697914800@gkjjembatanlima.org
SUMMARY:Komisi Pemuda 21 Oktober 2023
DESCRIPTION:Komisi Pemuda pada hari Sabtu\, 21 Oktober 2023 pukul 19:00 WIB. \nTema: I’m Here.\nPembicara: GI. Alfa Imannuel. \nBertempat di Ruang Ibadah\nGKJ Jemaat Jembatan Lima\nJl. Tambora Raya No. 44\,\nJakarta-Barat. \nKami mengundang jemaat khususnya pemuda pemudi untuk menghadirinya.
URL:https://gkjjembatanlima.org/acara/komisi-pemuda-21-oktober-2023/
LOCATION:GKJ Jembatan Lima\, GKJ Jembatan Lima Jl. Tambora Raya No.44\, Jakarta Barat\, DKI Jakarta\, 11220\, Indonesia
CATEGORIES:Ibadah
END:VEVENT
BEGIN:VEVENT
DTSTART;VALUE=DATE:20231022
DTEND;VALUE=DATE:20231023
DTSTAMP:20260421T225158
CREATED:20231014T162557Z
LAST-MODIFIED:20231014T162557Z
UID:989828-1697932800-1698019199@gkjjembatanlima.org
SUMMARY:Kebaktian Umum Minggu 22 Oktober 2023
DESCRIPTION:Kebaktian Umum GKJ Jemaat Jembatan Lima\nMinggu\, 22 Oktober 2023.\nTema: KAYA DALAM KEMURAHAN. \nPembicara:\nKU 1 : Pdt. Steven Phang.\nKU 2&4 : Pdt. Steven Phang.\nKU 5 : Pdt. Steven Phang. \nLihat Jadwal Kebaktian Umum
URL:https://gkjjembatanlima.org/acara/kebaktian-umum-minggu-22-oktober-2023/
LOCATION:GKJ Jembatan Lima\, GKJ Jembatan Lima Jl. Tambora Raya No.44\, Jakarta Barat\, DKI Jakarta\, 11220\, Indonesia
CATEGORIES:Ibadah
END:VEVENT
BEGIN:VEVENT
DTSTART;TZID=Asia/Jakarta:20231027T150000
DTEND;TZID=Asia/Jakarta:20231027T150000
DTSTAMP:20260421T225158
CREATED:20231021T131605Z
LAST-MODIFIED:20231021T131605Z
UID:989873-1698418800-1698418800@gkjjembatanlima.org
SUMMARY:Ibadah Usia Sukacita 27 Oktober 2023
DESCRIPTION:Ibadah Usia Sukacita GKJ Jembatan Lima\n雅加达基督徒堂五角桥堂会欢乐团契聚会\nKami mengundang Saudara/i yang berusia 50 Tahun keatas untuk menghadiri Ibadah Usia Sukacita.\n本堂欢乐团契聚会邀请五十岁以上兄姐们踊跃来参加 同沐主恩 \nTema:\nSukacita Warga Kerajaan Surga. \nPembicara:\nBpk. Philip Bong. \nHari & Waktu:\nJumat\, 27 Oktober 2023.\nPukul 15:00 WIB. \n \n 
URL:https://gkjjembatanlima.org/acara/ibadah-usia-sukacita-27-oktober-2023/
LOCATION:GKJ Jembatan Lima\, GKJ Jembatan Lima Jl. Tambora Raya No.44\, Jakarta Barat\, DKI Jakarta\, 11220\, Indonesia
CATEGORIES:Ibadah
END:VEVENT
BEGIN:VEVENT
DTSTART;TZID=Asia/Jakarta:20231028T190000
DTEND;TZID=Asia/Jakarta:20231028T190000
DTSTAMP:20260421T225158
CREATED:20231021T131310Z
LAST-MODIFIED:20231021T131310Z
UID:989871-1698519600-1698519600@gkjjembatanlima.org
SUMMARY:Komisi Pemuda 28 Oktober 2023
DESCRIPTION:Komisi Pemuda pada hari Sabtu\, 28 Oktober 2023 pukul 19:00 WIB. \nAcara: Fellowship \nBertempat di Ruang Ibadah\nGKJ Jemaat Jembatan Lima\nJl. Tambora Raya No. 44\,\nJakarta-Barat. \nKami mengundang jemaat khususnya pemuda pemudi untuk menghadirinya.
URL:https://gkjjembatanlima.org/acara/komisi-pemuda-28-oktober-2023/
LOCATION:GKJ Jembatan Lima\, GKJ Jembatan Lima Jl. Tambora Raya No.44\, Jakarta Barat\, DKI Jakarta\, 11220\, Indonesia
CATEGORIES:Ibadah
END:VEVENT
BEGIN:VEVENT
DTSTART;VALUE=DATE:20231029
DTEND;VALUE=DATE:20231030
DTSTAMP:20260421T225158
CREATED:20231021T130421Z
LAST-MODIFIED:20231021T130421Z
UID:989853-1698537600-1698623999@gkjjembatanlima.org
SUMMARY:Kebaktian Umum Minggu 29 Oktober 2023
DESCRIPTION:Kebaktian Umum GKJ Jemaat Jembatan Lima\nMinggu\, 29 Oktober 2023.\nTema: PUJIAN ATAS KEBAIKAN TUHAN. \nPembicara:\nKU 1 : GI. Hebron Pemasela.\nKU 2&4 : GI. Hebron Pemasela.\nKU 5 : GI. Hebron Pemasela. \nLihat Jadwal Kebaktian Umum
URL:https://gkjjembatanlima.org/acara/kebaktian-umum-minggu-29-oktober-2023/
LOCATION:GKJ Jembatan Lima\, GKJ Jembatan Lima Jl. Tambora Raya No.44\, Jakarta Barat\, DKI Jakarta\, 11220\, Indonesia
CATEGORIES:Ibadah
END:VEVENT
END:VCALENDAR