BEGIN:VCALENDAR
VERSION:2.0
PRODID:-//GKJ Jemaat Jembatan Lima - ECPv6.14.0//NONSGML v1.0//EN
CALSCALE:GREGORIAN
METHOD:PUBLISH
X-ORIGINAL-URL:https://gkjjembatanlima.org
X-WR-CALDESC:Events for GKJ Jemaat Jembatan Lima
REFRESH-INTERVAL;VALUE=DURATION:PT1H
X-Robots-Tag:noindex
X-PUBLISHED-TTL:PT1H
BEGIN:VTIMEZONE
TZID:Asia/Jakarta
BEGIN:STANDARD
TZOFFSETFROM:+0700
TZOFFSETTO:+0700
TZNAME:WIB
DTSTART:20230101T000000
END:STANDARD
END:VTIMEZONE
BEGIN:VEVENT
DTSTART;TZID=Asia/Jakarta:20231111T190000
DTEND;TZID=Asia/Jakarta:20231111T190000
DTSTAMP:20260421T213248
CREATED:20231109T025102Z
LAST-MODIFIED:20231109T025102Z
UID:989895-1699729200-1699729200@gkjjembatanlima.org
SUMMARY:Komisi Pemuda 11 November 2023
DESCRIPTION:Komisi Pemuda pada hari Sabtu\, 11 November 2023 pukul 19:00 WIB. \nTema: Be Grateful.\nPembicara: GI. Daniel Kristiawan. \nBertempat di Ruang Ibadah\nGKJ Jemaat Jembatan Lima\nJl. Tambora Raya No. 44\,\nJakarta-Barat. \nKami mengundang jemaat khususnya pemuda pemudi untuk menghadirinya. \n \n 
URL:https://gkjjembatanlima.org/acara/komisi-pemuda-11-november-2023/
LOCATION:GKJ Jembatan Lima\, GKJ Jembatan Lima Jl. Tambora Raya No.44\, Jakarta Barat\, DKI Jakarta\, 11220\, Indonesia
CATEGORIES:Ibadah
END:VEVENT
BEGIN:VEVENT
DTSTART;VALUE=DATE:20231112
DTEND;VALUE=DATE:20231113
DTSTAMP:20260421T213248
CREATED:20231109T024421Z
LAST-MODIFIED:20231109T024421Z
UID:989893-1699747200-1699833599@gkjjembatanlima.org
SUMMARY:Kebaktian Umum Minggu 12 November 2023
DESCRIPTION:Kebaktian Umum GKJ Jemaat Jembatan Lima\nMinggu\, 12 November 2023.\nTema: MEMBERI SEPERTI KRISTUS MEMBERI. \nPembicara:\nKU 1 : Pdt. Tommy Simanjuntak.\nKU 2&4 : Pdt. Tommy Simanjuntak.\nKU 5 : Pdt. Tommy Simanjuntak. \nLihat Jadwal Kebaktian Umum
URL:https://gkjjembatanlima.org/acara/kebaktian-umum-minggu-12-november-2023/
LOCATION:GKJ Jembatan Lima\, GKJ Jembatan Lima Jl. Tambora Raya No.44\, Jakarta Barat\, DKI Jakarta\, 11220\, Indonesia
CATEGORIES:Ibadah
END:VEVENT
BEGIN:VEVENT
DTSTART;TZID=Asia/Jakarta:20231118T190000
DTEND;TZID=Asia/Jakarta:20231118T190000
DTSTAMP:20260421T213248
CREATED:20231111T153907Z
LAST-MODIFIED:20231111T153907Z
UID:989910-1700334000-1700334000@gkjjembatanlima.org
SUMMARY:Komisi Pemuda 18 November 2023
DESCRIPTION:Komisi Pemuda pada hari Sabtu\, 18 November 2023 pukul 19:00 WIB. \nTema: A Grateful Heart.\nPembicara: GI. Pinvatanis Gea. \nBertempat di Ruang Ibadah\nGKJ Jemaat Jembatan Lima\nJl. Tambora Raya No. 44\,\nJakarta-Barat. \nKami mengundang jemaat khususnya pemuda pemudi untuk menghadirinya. \n \n 
URL:https://gkjjembatanlima.org/acara/komisi-pemuda-18-november-2023/
LOCATION:GKJ Jembatan Lima\, GKJ Jembatan Lima Jl. Tambora Raya No.44\, Jakarta Barat\, DKI Jakarta\, 11220\, Indonesia
CATEGORIES:Ibadah
END:VEVENT
BEGIN:VEVENT
DTSTART;VALUE=DATE:20231119
DTEND;VALUE=DATE:20231120
DTSTAMP:20260421T213248
CREATED:20231111T153142Z
LAST-MODIFIED:20231111T153142Z
UID:989902-1700352000-1700438399@gkjjembatanlima.org
SUMMARY:Kebaktian Umum Minggu 19 November 2023
DESCRIPTION:Kebaktian Umum GKJ Jemaat Jembatan Lima\nMinggu\, 19 November 2023.\nTema: PEDULI SEPERTI KRISTUS PEDULI. \nPembicara:\nKU 1 : Pdt. Firdaus Lie.\nKU 2&4 : Pdt. Mesach Triyuliadi.\nKU 3 : GI. Emssow Marthin.\nKU 5 : Pdt. Firdaus Lie. \nLihat Jadwal Kebaktian Umum \n \n 
URL:https://gkjjembatanlima.org/acara/kebaktian-umum-minggu-19-november-2023/
LOCATION:GKJ Jembatan Lima\, GKJ Jembatan Lima Jl. Tambora Raya No.44\, Jakarta Barat\, DKI Jakarta\, 11220\, Indonesia
CATEGORIES:Ibadah
END:VEVENT
BEGIN:VEVENT
DTSTART;TZID=Asia/Jakarta:20231124T150000
DTEND;TZID=Asia/Jakarta:20231124T150000
DTSTAMP:20260421T213248
CREATED:20231118T162511Z
LAST-MODIFIED:20231118T162511Z
UID:989934-1700838000-1700838000@gkjjembatanlima.org
SUMMARY:Ibadah Usia Sukacita 24 November 2023
DESCRIPTION:Ibadah Usia Sukacita GKJ Jembatan Lima\n雅加达基督徒堂五角桥堂会欢乐团契聚会\nKami mengundang Saudara/i yang berusia 50 Tahun keatas untuk menghadiri Ibadah Usia Sukacita.\n本堂欢乐团契聚会邀请五十岁以上兄姐们踊跃来参加 同沐主恩 \nTema:\nBersukacitalah Senantiasa. \nPembicara:\nPdt. Ang Tjoe Mio. \nHari & Waktu:\nJumat\, 24 November 2023.\nPukul 15:00 WIB. \n \n 
URL:https://gkjjembatanlima.org/acara/ibadah-usia-sukacita-24-november-2023/
LOCATION:GKJ Jembatan Lima\, GKJ Jembatan Lima Jl. Tambora Raya No.44\, Jakarta Barat\, DKI Jakarta\, 11220\, Indonesia
CATEGORIES:Ibadah
END:VEVENT
BEGIN:VEVENT
DTSTART;TZID=Asia/Jakarta:20231125T190000
DTEND;TZID=Asia/Jakarta:20231125T190000
DTSTAMP:20260421T213248
CREATED:20231118T161755Z
LAST-MODIFIED:20231118T161755Z
UID:989925-1700938800-1700938800@gkjjembatanlima.org
SUMMARY:Komisi Pemuda 25 November 2023
DESCRIPTION:Komisi Pemuda pada hari Sabtu\, 25 November 2023 pukul 19:00 WIB. \nAcara: Fellowship \nBertempat di Ruang Ibadah\nGKJ Jemaat Jembatan Lima\nJl. Tambora Raya No. 44\,\nJakarta-Barat. \nKami mengundang jemaat khususnya pemuda pemudi untuk menghadirinya. \n \n 
URL:https://gkjjembatanlima.org/acara/komisi-pemuda-25-november-2023/
LOCATION:GKJ Jembatan Lima\, GKJ Jembatan Lima Jl. Tambora Raya No.44\, Jakarta Barat\, DKI Jakarta\, 11220\, Indonesia
CATEGORIES:Ibadah
END:VEVENT
BEGIN:VEVENT
DTSTART;VALUE=DATE:20231126
DTEND;VALUE=DATE:20231127
DTSTAMP:20260421T213248
CREATED:20231118T152401Z
LAST-MODIFIED:20231118T152401Z
UID:989918-1700956800-1701043199@gkjjembatanlima.org
SUMMARY:Kebaktian Umum Minggu 26 November 2023
DESCRIPTION:Kebaktian Umum GKJ Jemaat Jembatan Lima\nMinggu\, 26 November 2023.\nTema: BERDUKA SEPERTI KRISTUS BERDUKA. \nPembicara:\nKU 1 : Pdt. Hasan Sutanto.\nKU 2&4 : Pdt. Hasan Sutanto.\nKU 5 : GI. Widya Tuluswati. \nLihat Jadwal Kebaktian Umum \n 
URL:https://gkjjembatanlima.org/acara/kebaktian-umum-minggu-26-november-2023/
LOCATION:GKJ Jembatan Lima\, GKJ Jembatan Lima Jl. Tambora Raya No.44\, Jakarta Barat\, DKI Jakarta\, 11220\, Indonesia
CATEGORIES:Ibadah
END:VEVENT
END:VCALENDAR