BEGIN:VCALENDAR
VERSION:2.0
PRODID:-//GKJ Jemaat Jembatan Lima - ECPv6.14.0//NONSGML v1.0//EN
CALSCALE:GREGORIAN
METHOD:PUBLISH
X-ORIGINAL-URL:https://gkjjembatanlima.org
X-WR-CALDESC:Events for GKJ Jemaat Jembatan Lima
REFRESH-INTERVAL;VALUE=DURATION:PT1H
X-Robots-Tag:noindex
X-PUBLISHED-TTL:PT1H
BEGIN:VTIMEZONE
TZID:Asia/Jakarta
BEGIN:STANDARD
TZOFFSETFROM:+0700
TZOFFSETTO:+0700
TZNAME:WIB
DTSTART:20230101T000000
END:STANDARD
END:VTIMEZONE
BEGIN:VEVENT
DTSTART;TZID=Asia/Jakarta:20231202T190000
DTEND;TZID=Asia/Jakarta:20231202T190000
DTSTAMP:20260421T200648
CREATED:20231125T110715Z
LAST-MODIFIED:20231125T110715Z
UID:989950-1701543600-1701543600@gkjjembatanlima.org
SUMMARY:Komisi Pemuda 02 Desember 2023
DESCRIPTION:Komisi Pemuda pada hari Sabtu\, 18 November 2023 pukul 19:00 WIB. \nTema: SAR (SEARCH AND RESCUE).\nPembicara: GI. Alfa Imannuel. \nBertempat di Ruang Ibadah\nGKJ Jemaat Jembatan Lima\nJl. Tambora Raya No. 44\,\nJakarta-Barat. \nKami mengundang jemaat khususnya pemuda pemudi untuk menghadirinya. \n \n 
URL:https://gkjjembatanlima.org/acara/komisi-pemuda-02-desember-2023/
LOCATION:GKJ Jembatan Lima\, GKJ Jembatan Lima Jl. Tambora Raya No.44\, Jakarta Barat\, DKI Jakarta\, 11220\, Indonesia
CATEGORIES:Ibadah
END:VEVENT
BEGIN:VEVENT
DTSTART;VALUE=DATE:20231203
DTEND;VALUE=DATE:20231204
DTSTAMP:20260421T200648
CREATED:20231125T105226Z
LAST-MODIFIED:20231125T105226Z
UID:989943-1701561600-1701647999@gkjjembatanlima.org
SUMMARY:Perjamuan Kudus Desember 2023
DESCRIPTION:Perjamuan Kudus bulan Desember 2023: \nMinggu\, 03 Desember 2023\ndi seluruh Kebaktian Umum \nLihat Jadwal Kebaktian Umum
URL:https://gkjjembatanlima.org/acara/perjamuan-kudus-desember-2023/
LOCATION:GKJ Jembatan Lima\, GKJ Jembatan Lima Jl. Tambora Raya No.44\, Jakarta Barat\, DKI Jakarta\, 11220\, Indonesia
CATEGORIES:Ibadah
END:VEVENT
BEGIN:VEVENT
DTSTART;TZID=Asia/Jakarta:20231209T190000
DTEND;TZID=Asia/Jakarta:20231209T190000
DTSTAMP:20260421T200648
CREATED:20231202T130452Z
LAST-MODIFIED:20231202T130452Z
UID:989962-1702148400-1702148400@gkjjembatanlima.org
SUMMARY:Komisi Pemuda 09 Desember 2023
DESCRIPTION:Komisi Pemuda pada hari Sabtu\, 09 Desember 2023 pukul 19:00 WIB. \nTema: The Great Light.\nPembicara: GI. Daniel Kristiawan. \nBertempat di Ruang Ibadah\nGKJ Jemaat Jembatan Lima\nJl. Tambora Raya No. 44\,\nJakarta-Barat. \nKami mengundang jemaat khususnya pemuda pemudi untuk menghadirinya. \n \n 
URL:https://gkjjembatanlima.org/acara/komisi-pemuda-09-desember-2023/
LOCATION:GKJ Jembatan Lima\, GKJ Jembatan Lima Jl. Tambora Raya No.44\, Jakarta Barat\, DKI Jakarta\, 11220\, Indonesia
CATEGORIES:Ibadah
ATTACH;FMTTYPE=image/jpeg:https://gkjjembatanlima.org/wp-content/uploads/2023/12/KP-09-DES-2023.jpg
END:VEVENT
BEGIN:VEVENT
DTSTART;VALUE=DATE:20231210
DTEND;VALUE=DATE:20231211
DTSTAMP:20260421T200648
CREATED:20231202T130225Z
LAST-MODIFIED:20231202T130225Z
UID:989956-1702166400-1702252799@gkjjembatanlima.org
SUMMARY:Kebaktian Umum Minggu 10 Desember 2023
DESCRIPTION:Kebaktian Umum GKJ Jemaat Jembatan Lima\nMinggu\, 10 Desember 2023.\nTema: SEBUAH SURAT PENUGASAN. \nPembicara:\nKU 1 : GI. Alfa Imannuel.\nKU 2&4 : GI. Alfa Imannuel.\nKU 5 : GI. Alfa Imannuel. \nLihat Jadwal Kebaktian Umum
URL:https://gkjjembatanlima.org/acara/kebaktian-umum-minggu-10-desember-2023/
LOCATION:GKJ Jembatan Lima\, GKJ Jembatan Lima Jl. Tambora Raya No.44\, Jakarta Barat\, DKI Jakarta\, 11220\, Indonesia
CATEGORIES:Ibadah
ATTACH;FMTTYPE=image/jpeg:https://gkjjembatanlima.org/wp-content/uploads/2023/12/Flayer-Umum-10-Des-2023.jpg
END:VEVENT
BEGIN:VEVENT
DTSTART;TZID=Asia/Jakarta:20231216T190000
DTEND;TZID=Asia/Jakarta:20231216T190000
DTSTAMP:20260421T200648
CREATED:20231202T151334Z
LAST-MODIFIED:20231202T151334Z
UID:989980-1702753200-1702753200@gkjjembatanlima.org
SUMMARY:Natal Komisi Pemuda 2023
DESCRIPTION:Natal Komisi Pemuda. \nTema: WHO IS HE?\nPembicara: Pdt. Mychael Wu \nHari Sabtu\, 16 Desember 2023 Pukul 19.00 WIB. \n \n 
URL:https://gkjjembatanlima.org/acara/natal-komisi-pemuda-2023/
LOCATION:GKJ Jembatan Lima\, GKJ Jembatan Lima Jl. Tambora Raya No.44\, Jakarta Barat\, DKI Jakarta\, 11220\, Indonesia
CATEGORIES:Ibadah
ATTACH;FMTTYPE=image/jpeg:https://gkjjembatanlima.org/wp-content/uploads/2023/12/16-KP.jpg
END:VEVENT
BEGIN:VEVENT
DTSTART;VALUE=DATE:20231217
DTEND;VALUE=DATE:20231218
DTSTAMP:20260421T200648
CREATED:20231209T112549Z
LAST-MODIFIED:20231209T112549Z
UID:990013-1702771200-1702857599@gkjjembatanlima.org
SUMMARY:Kebaktian Umum Minggu 17 Desember 2023
DESCRIPTION:Kebaktian Umum GKJ Jemaat Jembatan Lima\nMinggu\, 17 Desember 2023.\nTema: GEREJA TANPA TEMBOK. \nPembicara:\nKU 1 : GI. Pinvatanis Gea.\nKU 2&4 : GI. Pinvatanis Gea.\nKU 3 : GI. Yuneari Lase\nKU 5 : GI. Pinvatanis Gea. \nLihat Jadwal Kebaktian Umum
URL:https://gkjjembatanlima.org/acara/kebaktian-umum-minggu-17-desember-2023/
LOCATION:GKJ Jembatan Lima\, GKJ Jembatan Lima Jl. Tambora Raya No.44\, Jakarta Barat\, DKI Jakarta\, 11220\, Indonesia
CATEGORIES:Ibadah
ATTACH;FMTTYPE=image/jpeg:https://gkjjembatanlima.org/wp-content/uploads/2023/12/Flayer-Umum-17-DES-2023.jpg
END:VEVENT
BEGIN:VEVENT
DTSTART;VALUE=DATE:20231224
DTEND;VALUE=DATE:20231225
DTSTAMP:20260421T200648
CREATED:20231216T152445Z
LAST-MODIFIED:20231216T153045Z
UID:990040-1703376000-1703462399@gkjjembatanlima.org
SUMMARY:Kebaktian Umum Minggu 24 Desember 2023
DESCRIPTION:Kebaktian Umum GKJ Jemaat Jembatan Lima\nMinggu\, 24 Desember 2023.\nTema: NEGERI DAMAI DI NEGERI KESURAMAN. \nPembicara:\nKU 1 : GI. Noptianus Zendrato.\nKU 2&4 : GI. Noptianus Zendrato.\nKU 3 : Ibadah Natal Gabungan KMR & T4C\, Tema: Joyfull Christmas dengan pembicara GI. Berta Natasia.\nKU 5 : Ibadah Natal Mandarin\, Tema: Anugerah Tak Terselami dengan pembicara GI. Monita Helena. \nLihat Jadwal Kebaktian Umum
URL:https://gkjjembatanlima.org/acara/kebaktian-umum-minggu-24-desember-2023/
LOCATION:GKJ Jembatan Lima\, GKJ Jembatan Lima Jl. Tambora Raya No.44\, Jakarta Barat\, DKI Jakarta\, 11220\, Indonesia
CATEGORIES:Ibadah
ATTACH;FMTTYPE=image/jpeg:https://gkjjembatanlima.org/wp-content/uploads/2023/12/Flayer-Umum-24-Des-2023.jpg
END:VEVENT
BEGIN:VEVENT
DTSTART;TZID=Asia/Jakarta:20231224T113000
DTEND;TZID=Asia/Jakarta:20231224T113000
DTSTAMP:20260421T200648
CREATED:20231202T152745Z
LAST-MODIFIED:20231216T153543Z
UID:989990-1703417400-1703417400@gkjjembatanlima.org
SUMMARY:Natal Gabungan KMR & T4C 2023
DESCRIPTION:Natal Gabungan KMR & T4C. \nTema: JOYFULL CHRISTMAS\nPembicara:GI. Berta Natasia \nHari Minggu\, 24 Desember 2023 Pukul 11.30 WIB. \nAda Tukar kado juga\, dengan ketentuan minimum Rp 30.000\,- \nAjak juga teman-teman untuk menghadirinya ya!
URL:https://gkjjembatanlima.org/acara/natal-gabungan-kmr-t4c-2023/
LOCATION:GKJ Jembatan Lima\, GKJ Jembatan Lima Jl. Tambora Raya No.44\, Jakarta Barat\, DKI Jakarta\, 11220\, Indonesia
CATEGORIES:Ibadah
ATTACH;FMTTYPE=image/jpeg:https://gkjjembatanlima.org/wp-content/uploads/2023/12/Natal-KMR-T4C.jpg
END:VEVENT
BEGIN:VEVENT
DTSTART;TZID=Asia/Jakarta:20231224T170000
DTEND;TZID=Asia/Jakarta:20231224T170000
DTSTAMP:20260421T200648
CREATED:20231202T152404Z
LAST-MODIFIED:20231202T152404Z
UID:989986-1703437200-1703437200@gkjjembatanlima.org
SUMMARY:Natal Bahasa Mandarin 2023
DESCRIPTION:Natal Bahasa Mandarin. \nTema: ANUGERAH TAK TERSELAMI\nPembicara: GI. Monita Helena \nHari Minggu\, 24 Desember 2023 Pukul 17.00 WIB. \n \n 
URL:https://gkjjembatanlima.org/acara/natal-bahasa-mandarin-2023/
LOCATION:GKJ Jembatan Lima\, GKJ Jembatan Lima Jl. Tambora Raya No.44\, Jakarta Barat\, DKI Jakarta\, 11220\, Indonesia
CATEGORIES:Ibadah
ATTACH;FMTTYPE=image/jpeg:https://gkjjembatanlima.org/wp-content/uploads/2023/12/24-mand.jpg
END:VEVENT
BEGIN:VEVENT
DTSTART;TZID=Asia/Jakarta:20231225T170000
DTEND;TZID=Asia/Jakarta:20231225T170000
DTSTAMP:20260421T200648
CREATED:20231202T153035Z
LAST-MODIFIED:20231202T153035Z
UID:989993-1703523600-1703523600@gkjjembatanlima.org
SUMMARY:Natal Bahasa Indonesia 2023
DESCRIPTION:Natal Bahasa Indonesia. \nTema: ANUGERAH TAK TERSELAMI\nPembicara: GI. Monita Helena \nHari Senin\, 25 Desember 2023 Pukul 17.00 WIB. \n \n 
URL:https://gkjjembatanlima.org/acara/natal-bahasa-indonesia-2023/
LOCATION:GKJ Jembatan Lima\, GKJ Jembatan Lima Jl. Tambora Raya No.44\, Jakarta Barat\, DKI Jakarta\, 11220\, Indonesia
CATEGORIES:Ibadah
ATTACH;FMTTYPE=image/jpeg:https://gkjjembatanlima.org/wp-content/uploads/2023/12/25-ind.jpg
END:VEVENT
BEGIN:VEVENT
DTSTART;TZID=Asia/Jakarta:20231230T190000
DTEND;TZID=Asia/Jakarta:20231230T190000
DTSTAMP:20260421T200648
CREATED:20231223T100345Z
LAST-MODIFIED:20231223T100345Z
UID:990069-1703962800-1703962800@gkjjembatanlima.org
SUMMARY:Komisi Pemuda 30 Desember 2023
DESCRIPTION:Komisi Pemuda pada hari Sabtu\, 30 Desember 2023 pukul 19:00 WIB. \nAcara : Fellowship. \nBertempat di Ruang Ibadah\nGKJ Jemaat Jembatan Lima\nJl. Tambora Raya No. 44\,\nJakarta-Barat. \nKami mengundang jemaat khususnya pemuda pemudi untuk menghadirinya. \n \n 
URL:https://gkjjembatanlima.org/acara/komisi-pemuda-30-desember-2023/
LOCATION:GKJ Jembatan Lima\, GKJ Jembatan Lima Jl. Tambora Raya No.44\, Jakarta Barat\, DKI Jakarta\, 11220\, Indonesia
CATEGORIES:Ibadah
ATTACH;FMTTYPE=image/jpeg:https://gkjjembatanlima.org/wp-content/uploads/2023/12/KP-30-DES-2023.jpg
END:VEVENT
BEGIN:VEVENT
DTSTART;VALUE=DATE:20231231
DTEND;VALUE=DATE:20240101
DTSTAMP:20260421T200648
CREATED:20231223T093723Z
LAST-MODIFIED:20240106T054915Z
UID:990065-1703980800-1704067199@gkjjembatanlima.org
SUMMARY:Kebaktian Umum Minggu 31 Desember 2023
DESCRIPTION:Kebaktian Umum GKJ Jemaat Jembatan Lima\nMinggu\, 31 Desember 2023.\nTema: PEMBERIAN YANG BERHARGA. \nPembicara:\nKU 1 : Pdt. Ang Tjoe Mio.\nKU 2 : GI. Alfa Imannuel.\nKU 4 : GI. Pinvatanis Gea.\nKU 5 : Old & New. Tema: Love Never Lost. Pembicara: GI. Alfa Imannuel. \nLihat Jadwal Kebaktian Umum
URL:https://gkjjembatanlima.org/acara/kebaktian-umum-minggu-31-desember-2023/
LOCATION:GKJ Jembatan Lima\, GKJ Jembatan Lima Jl. Tambora Raya No.44\, Jakarta Barat\, DKI Jakarta\, 11220\, Indonesia
CATEGORIES:Ibadah
ATTACH;FMTTYPE=image/jpeg:https://gkjjembatanlima.org/wp-content/uploads/2023/12/KU-31des23.jpg
END:VEVENT
BEGIN:VEVENT
DTSTART;TZID=Asia/Jakarta:20231231T170000
DTEND;TZID=Asia/Jakarta:20231231T170000
DTSTAMP:20260421T200648
CREATED:20231202T153426Z
LAST-MODIFIED:20231202T153426Z
UID:989996-1704042000-1704042000@gkjjembatanlima.org
SUMMARY:OLD & NEW 2023
DESCRIPTION:OLD & NEW.\nAcara malam pergantian Tahun 2023 menuju 2024. \nTema: LOVE NEVER LOST.\nPembicara: GI. Alfa Imannuel. \nHari Minggu\, 31 Desember 2023 Pukul 17.00 WIB. \n \n 
URL:https://gkjjembatanlima.org/acara/old-new-2023/
LOCATION:GKJ Jembatan Lima\, GKJ Jembatan Lima Jl. Tambora Raya No.44\, Jakarta Barat\, DKI Jakarta\, 11220\, Indonesia
CATEGORIES:Ibadah
ATTACH;FMTTYPE=image/jpeg:https://gkjjembatanlima.org/wp-content/uploads/2023/12/31-oldnew.jpg
END:VEVENT
END:VCALENDAR