BEGIN:VCALENDAR
VERSION:2.0
PRODID:-//GKJ Jemaat Jembatan Lima - ECPv6.14.0//NONSGML v1.0//EN
CALSCALE:GREGORIAN
METHOD:PUBLISH
X-WR-CALNAME:GKJ Jemaat Jembatan Lima
X-ORIGINAL-URL:https://gkjjembatanlima.org
X-WR-CALDESC:Events for GKJ Jemaat Jembatan Lima
REFRESH-INTERVAL;VALUE=DURATION:PT1H
X-Robots-Tag:noindex
X-PUBLISHED-TTL:PT1H
BEGIN:VTIMEZONE
TZID:Asia/Jakarta
BEGIN:STANDARD
TZOFFSETFROM:+0700
TZOFFSETTO:+0700
TZNAME:WIB
DTSTART:20240101T000000
END:STANDARD
END:VTIMEZONE
BEGIN:VEVENT
DTSTART;TZID=Asia/Jakarta:20240101T100000
DTEND;TZID=Asia/Jakarta:20240101T100000
DTSTAMP:20260421T183628
CREATED:20231202T153725Z
LAST-MODIFIED:20231202T153725Z
UID:990000-1704103200-1704103200@gkjjembatanlima.org
SUMMARY:Ibadah Tahun Baru 2024
DESCRIPTION:Ibadah Tahun Baru 2024.\nDisertai Perjamuan Kudus \nTema: TUHAN ADALAH GEMBALAKU\nPembicara: Pdt. Ang Tjoe Mio. \nHari Senin\, 01 Januari 2024 Pukul 10.00 WIB. \n \n 
URL:https://gkjjembatanlima.org/acara/ibadah-tahun-baru-2024/
LOCATION:GKJ Jembatan Lima\, GKJ Jembatan Lima Jl. Tambora Raya No.44\, Jakarta Barat\, DKI Jakarta\, 11220\, Indonesia
CATEGORIES:Ibadah
ATTACH;FMTTYPE=image/jpeg:https://gkjjembatanlima.org/wp-content/uploads/2023/12/01-newyear.jpg
END:VEVENT
BEGIN:VEVENT
DTSTART;TZID=Asia/Jakarta:20240106T190000
DTEND;TZID=Asia/Jakarta:20240106T190000
DTSTAMP:20260421T183628
CREATED:20231231T060024Z
LAST-MODIFIED:20231231T060024Z
UID:990099-1704567600-1704567600@gkjjembatanlima.org
SUMMARY:Komisi Pemuda | 06 JAN 2024
DESCRIPTION:Komisi Pemuda pada hari Sabtu\, 06 Januari 2023 pukul 19:00 WIB. \nTema: ROAD TO RECOVERY.\nPembicara: GI. Noptianus Zendrato. \nBertempat di Ruang Ibadah\nGKJ Jemaat Jembatan Lima\nJl. Tambora Raya No. 44\,\nJakarta-Barat. \nKami mengundang jemaat khususnya pemuda-pemudi untuk menghadirinya. \n \n 
URL:https://gkjjembatanlima.org/acara/komisi-pemuda-06-jan-2024/
LOCATION:GKJ Jembatan Lima\, GKJ Jembatan Lima Jl. Tambora Raya No.44\, Jakarta Barat\, DKI Jakarta\, 11220\, Indonesia
CATEGORIES:Ibadah
ATTACH;FMTTYPE=image/jpeg:https://gkjjembatanlima.org/wp-content/uploads/2023/12/KP-06-JAN-2024.jpg
END:VEVENT
BEGIN:VEVENT
DTSTART;VALUE=DATE:20240107
DTEND;VALUE=DATE:20240108
DTSTAMP:20260421T183628
CREATED:20231229T032501Z
LAST-MODIFIED:20231231T060529Z
UID:990089-1704585600-1704671999@gkjjembatanlima.org
SUMMARY:Perjamuan Kudus Januari 2024
DESCRIPTION:Perjamuan Kudus bulan Januari 2024: \nMinggu\, 07 Januari 2024\ndi seluruh Kebaktian Umum. \nTema : TUHAN MEMPERKENALKAN DIRI-NYA. \nLihat Jadwal Kebaktian Umum
URL:https://gkjjembatanlima.org/acara/perjamuan-kudus-januari-2024/
LOCATION:GKJ Jembatan Lima\, GKJ Jembatan Lima Jl. Tambora Raya No.44\, Jakarta Barat\, DKI Jakarta\, 11220\, Indonesia
CATEGORIES:Ibadah
ATTACH;FMTTYPE=image/jpeg:https://gkjjembatanlima.org/wp-content/uploads/2023/12/PERJAMUAN-KUDUS-2.jpg
END:VEVENT
BEGIN:VEVENT
DTSTART;TZID=Asia/Jakarta:20240113T190000
DTEND;TZID=Asia/Jakarta:20240113T190000
DTSTAMP:20260421T183628
CREATED:20240106T054028Z
LAST-MODIFIED:20240106T054028Z
UID:990127-1705172400-1705172400@gkjjembatanlima.org
SUMMARY:Komisi Pemuda | 13 JAN 2024
DESCRIPTION:Komisi Pemuda pada hari Sabtu\, 13 Januari 2023 pukul 19:00 WIB. \nTema: MENGALAMI PERUBAHAN DIRI.\nPembicara: GI. Pinvatanis Gea. \nBertempat di Ruang Ibadah\nGKJ Jemaat Jembatan Lima\nJl. Tambora Raya No. 44\,\nJakarta-Barat. \nKami mengundang jemaat khususnya pemuda-pemudi untuk menghadirinya. \n \n 
URL:https://gkjjembatanlima.org/acara/komisi-pemuda-13-jan-2024/
LOCATION:GKJ Jembatan Lima\, GKJ Jembatan Lima Jl. Tambora Raya No.44\, Jakarta Barat\, DKI Jakarta\, 11220\, Indonesia
CATEGORIES:Ibadah
ATTACH;FMTTYPE=image/jpeg:https://gkjjembatanlima.org/wp-content/uploads/2024/01/KP-13-JAN-2024.jpg
END:VEVENT
BEGIN:VEVENT
DTSTART;VALUE=DATE:20240114
DTEND;VALUE=DATE:20240115
DTSTAMP:20260421T183628
CREATED:20240106T055019Z
LAST-MODIFIED:20240106T122330Z
UID:990129-1705190400-1705276799@gkjjembatanlima.org
SUMMARY:Kebaktian Umum | 14 JAN 2024
DESCRIPTION:Kebaktian Umum GKJ Jemaat Jembatan Lima \nMinggu\, 14 Januari 2023.\nTema: ALLAH YANG SETIA. \nPembicara:\nKebaktian Umum 1 (06.30) : GI. Alfa Imannuel.\nKebaktian Umum 2 (09.00) : GI. Alfa Imannuel.\nKebaktian Umum 3 (11.00) : GI. Oliviana Cong.\nKebaktian Umum 4 (11.30) : GI. Alfa Imannuel.\nKebaktian Umum 5 (17.00) : GI. Alfa Imannuel. \nLihat Jadwal Kebaktian Umum
URL:https://gkjjembatanlima.org/acara/kebaktian-umum-14-jan-2024/
LOCATION:GKJ Jembatan Lima\, GKJ Jembatan Lima Jl. Tambora Raya No.44\, Jakarta Barat\, DKI Jakarta\, 11220\, Indonesia
CATEGORIES:Ibadah
ATTACH;FMTTYPE=image/jpeg:https://gkjjembatanlima.org/wp-content/uploads/2024/01/Flayer-Umum-14-JAN-2024.jpg
END:VEVENT
BEGIN:VEVENT
DTSTART;VALUE=DATE:20240121
DTEND;VALUE=DATE:20240122
DTSTAMP:20260421T183628
CREATED:20240117T062433Z
LAST-MODIFIED:20240117T063604Z
UID:990142-1705795200-1705881599@gkjjembatanlima.org
SUMMARY:Kebaktian Umum | 21 JAN 2024
DESCRIPTION:Kebaktian Umum GKJ Jemaat Jembatan Lima \nMinggu\, 21 Januari 2023.\nTema: ALLAH YANG MAHA TAHU & MURAH. \nPembicara:\nKebaktian Umum 1 (06.30) : Pdt. Siujono Sung.\nKebaktian Umum 2 (09.00) : Pdt. Siujono Sung.\nKebaktian Umum 4 (11.30) : Pdt. Siujono Sung.\nKebaktian Umum 5 (17.00) : Pdt. Elisa Istianto. \nLihat Jadwal Kebaktian Umum
URL:https://gkjjembatanlima.org/acara/kebaktian-umum-21-jan-2024/
LOCATION:GKJ Jembatan Lima\, GKJ Jembatan Lima Jl. Tambora Raya No.44\, Jakarta Barat\, DKI Jakarta\, 11220\, Indonesia
CATEGORIES:Ibadah
ATTACH;FMTTYPE=image/jpeg:https://gkjjembatanlima.org/wp-content/uploads/2024/01/KU-21-JAN-rev.jpg
END:VEVENT
BEGIN:VEVENT
DTSTART;TZID=Asia/Jakarta:20240126T150000
DTEND;TZID=Asia/Jakarta:20240126T150000
DTSTAMP:20260421T183628
CREATED:20240120T033158Z
LAST-MODIFIED:20240120T033158Z
UID:990170-1706281200-1706281200@gkjjembatanlima.org
SUMMARY:Ibadah Usia Sukacita | 26 JAN 2024
DESCRIPTION:Ibadah Usia Sukacita GKJ Jembatan Lima\n雅加达基督徒堂五角桥堂会欢乐团契聚会\nKami mengundang Saudara/i yang berusia 50 Tahun keatas untuk menghadiri Ibadah Usia Sukacita.\n本堂欢乐团契聚会邀请五十岁以上兄姐们踊跃来参加 同沐主恩 \nTema:\nTUJUAN HIDUP KITA. \nPembicara:\nPdt. Ang Tjoe Mio. \nHari & Waktu:\nJumat\, 26 Januari 2024.\nPukul 15:00 WIB. \n \n 
URL:https://gkjjembatanlima.org/acara/ibadah-usia-sukacita-26-jan-2024/
LOCATION:GKJ Jembatan Lima\, GKJ Jembatan Lima Jl. Tambora Raya No.44\, Jakarta Barat\, DKI Jakarta\, 11220\, Indonesia
CATEGORIES:Ibadah
ATTACH;FMTTYPE=image/jpeg:https://gkjjembatanlima.org/wp-content/uploads/2024/01/26-JAN-2024.jpg
END:VEVENT
BEGIN:VEVENT
DTSTART;TZID=Asia/Jakarta:20240127T190000
DTEND;TZID=Asia/Jakarta:20240127T190000
DTSTAMP:20260421T183628
CREATED:20240120T032410Z
LAST-MODIFIED:20240120T032410Z
UID:990163-1706382000-1706382000@gkjjembatanlima.org
SUMMARY:Komisi Pemuda | 27 JAN 2024
DESCRIPTION:Komisi Pemuda pada hari Sabtu\, 27 Januari 2023 pukul 19:00 WIB. \nTema: KASIH MULA-MULA.\nPembicara: Pdt. Ang Tjoe Mio. \nBertempat di Ruang Ibadah\nGKJ Jemaat Jembatan Lima\nJl. Tambora Raya No. 44\,\nJakarta-Barat. \nKami mengundang jemaat khususnya pemuda-pemudi untuk menghadirinya. \n \n 
URL:https://gkjjembatanlima.org/acara/komisi-pemuda-27-jan-2024/
LOCATION:GKJ Jembatan Lima\, GKJ Jembatan Lima Jl. Tambora Raya No.44\, Jakarta Barat\, DKI Jakarta\, 11220\, Indonesia
CATEGORIES:Ibadah
ATTACH;FMTTYPE=image/jpeg:https://gkjjembatanlima.org/wp-content/uploads/2024/01/KP-27-JAN.jpg
END:VEVENT
BEGIN:VEVENT
DTSTART;VALUE=DATE:20240128
DTEND;VALUE=DATE:20240129
DTSTAMP:20260421T183628
CREATED:20240120T032750Z
LAST-MODIFIED:20240120T032750Z
UID:990166-1706400000-1706486399@gkjjembatanlima.org
SUMMARY:Kebaktian Umum | 28 JAN 2024
DESCRIPTION:Kebaktian Umum GKJ Jemaat Jembatan Lima \nMinggu\, 28 Januari 2023.\nTema: ALLAH YANG MENGENALKU. \nPembicara:\nKebaktian Umum 1 (06.30) : GI. William Sitinjak.\nKebaktian Umum 2 (09.00) : GI. William Sitinjak.\nKebaktian Umum 3 (11.00) : GI. Alfa Imannuel.\nKebaktian Umum 4 (11.30) : GI. William Sitinjak.\nKebaktian Umum 5 (17.00) : GI. William Sitinjak. \nLihat Jadwal Kebaktian Umum
URL:https://gkjjembatanlima.org/acara/kebaktian-umum-28-jan-2024/
LOCATION:GKJ Jembatan Lima\, GKJ Jembatan Lima Jl. Tambora Raya No.44\, Jakarta Barat\, DKI Jakarta\, 11220\, Indonesia
CATEGORIES:Ibadah
ATTACH;FMTTYPE=image/jpeg:https://gkjjembatanlima.org/wp-content/uploads/2024/01/Flayer-Umum-28-Jan-2024.jpg
END:VEVENT
END:VCALENDAR