BEGIN:VCALENDAR
VERSION:2.0
PRODID:-//GKJ Jemaat Jembatan Lima - ECPv6.14.0//NONSGML v1.0//EN
CALSCALE:GREGORIAN
METHOD:PUBLISH
X-WR-CALNAME:GKJ Jemaat Jembatan Lima
X-ORIGINAL-URL:https://gkjjembatanlima.org
X-WR-CALDESC:Events for GKJ Jemaat Jembatan Lima
REFRESH-INTERVAL;VALUE=DURATION:PT1H
X-Robots-Tag:noindex
X-PUBLISHED-TTL:PT1H
BEGIN:VTIMEZONE
TZID:Asia/Jakarta
BEGIN:STANDARD
TZOFFSETFROM:+0700
TZOFFSETTO:+0700
TZNAME:WIB
DTSTART:20240101T000000
END:STANDARD
END:VTIMEZONE
BEGIN:VEVENT
DTSTART;TZID=Asia/Jakarta:20240302T190000
DTEND;TZID=Asia/Jakarta:20240302T190000
DTSTAMP:20260421T155543
CREATED:20240224T101816Z
LAST-MODIFIED:20240224T101816Z
UID:990433-1709406000-1709406000@gkjjembatanlima.org
SUMMARY:HUT Komisi Pemuda | 02 MAR 2024
DESCRIPTION:Perayaan HUT Komisi Pemuda yang ke-39 pada hari Sabtu\, 02 Maret 2024 pukul 19:00 WIB. \nTema: BEST PLAN.\nPembicara: GI. Arif Setiawan Lase. \nBertempat di Ruang Ibadah\nGKJ Jemaat Jembatan Lima\nJl. Tambora Raya No. 44\,\nJakarta-Barat. \nKami mengundang jemaat khususnya pemuda-pemudi untuk menghadirinya.
URL:https://gkjjembatanlima.org/acara/hut-komisi-pemuda-02-mar-2024/
LOCATION:GKJ Jembatan Lima\, GKJ Jembatan Lima Jl. Tambora Raya No.44\, Jakarta Barat\, DKI Jakarta\, 11220\, Indonesia
CATEGORIES:Ibadah
ATTACH;FMTTYPE=image/jpeg:https://gkjjembatanlima.org/wp-content/uploads/2024/02/Flyer-HUT-KP-2024.jpg
END:VEVENT
BEGIN:VEVENT
DTSTART;VALUE=DATE:20240303
DTEND;VALUE=DATE:20240304
DTSTAMP:20260421T155543
CREATED:20240224T085731Z
LAST-MODIFIED:20240224T100624Z
UID:990423-1709424000-1709510399@gkjjembatanlima.org
SUMMARY:Kebaktian Umum & Perjamuan Kudus | 03 MAR 2024
DESCRIPTION:Kebaktian Umum GKJ Jemaat Jembatan Lima &\nPerjamuan Kudus Bulan Maret 2024\n \nMinggu\, 03 Maret 2023.\nTema: –. \nPembicara:\nKebaktian Umum 1 (06.30) : Pdt. Ang Tjoe Mio.\nKebaktian Umum 2 (09.00) : Pdt. Ang Tjoe Mio.\nKebaktian Umum 4 (11.30) : Pdt. Ang Tjoe Mio.\nKebaktian Umum 5 (17.00) : Pdt. Ang Tjoe Mio. \nLihat Jadwal Kebaktian Umum
URL:https://gkjjembatanlima.org/acara/kebaktian-umum-perjamuan-kudus-03-mar-2024/
LOCATION:GKJ Jembatan Lima\, GKJ Jembatan Lima Jl. Tambora Raya No.44\, Jakarta Barat\, DKI Jakarta\, 11220\, Indonesia
CATEGORIES:Ibadah
ATTACH;FMTTYPE=image/jpeg:https://gkjjembatanlima.org/wp-content/uploads/2024/02/PERJAMUAN-KUDUS-2.jpg
END:VEVENT
BEGIN:VEVENT
DTSTART;TZID=Asia/Jakarta:20240309T190000
DTEND;TZID=Asia/Jakarta:20240309T190000
DTSTAMP:20260421T155543
CREATED:20240303T012057Z
LAST-MODIFIED:20240303T012057Z
UID:990454-1710010800-1710010800@gkjjembatanlima.org
SUMMARY:Komisi Pemuda | 09 MAR 2024
DESCRIPTION:Komisi Pemuda pada hari Sabtu\, 09 Maret 2024 pukul 19:00 WIB. \nTema: KASIH YANG MENYELAMATKAN.\nPembicara: GI. Noptianus Zendrato. \nBertempat di Ruang Ibadah\nGKJ Jemaat Jembatan Lima\nJl. Tambora Raya No. 44\,\nJakarta-Barat. \nKami mengundang jemaat khususnya pemuda-pemudi untuk menghadirinya.
URL:https://gkjjembatanlima.org/acara/komisi-pemuda-09-mar-2024/
LOCATION:GKJ Jembatan Lima\, GKJ Jembatan Lima Jl. Tambora Raya No.44\, Jakarta Barat\, DKI Jakarta\, 11220\, Indonesia
CATEGORIES:Ibadah
ATTACH;FMTTYPE=image/jpeg:https://gkjjembatanlima.org/wp-content/uploads/2024/03/KP-09-MARET-2024.jpg
END:VEVENT
BEGIN:VEVENT
DTSTART;VALUE=DATE:20240310
DTEND;VALUE=DATE:20240311
DTSTAMP:20260421T155543
CREATED:20240303T011326Z
LAST-MODIFIED:20240303T011326Z
UID:990443-1710028800-1710115199@gkjjembatanlima.org
SUMMARY:Kebaktian Umum | 10 MAR 2024
DESCRIPTION:Kebaktian Umum GKJ Jemaat Jembatan Lima \nMinggu\, 10 Maret 2023.\nTema: MENCARI DAN MENEMUKAN ZAKHEUS. \nPembicara:\nKebaktian Umum 1 (06.30) : GI. Yuneari Lase.\nKebaktian Umum 2 (09.00) : GI. Yuneari Lase.\nKebaktian Umum 3 (11.00) : GI. Alfa Imannuel.\nKebaktian Umum 4 (11.30) : GI. Yuneari Lase.\nKebaktian Umum 5 (17.00) : GI. Yuneari Lase. \nLihat Jadwal Kebaktian Umum \n \n 
URL:https://gkjjembatanlima.org/acara/kebaktian-umum-10-mar-2024/
LOCATION:GKJ Jembatan Lima\, GKJ Jembatan Lima Jl. Tambora Raya No.44\, Jakarta Barat\, DKI Jakarta\, 11220\, Indonesia
CATEGORIES:Ibadah
ATTACH;FMTTYPE=image/jpeg:https://gkjjembatanlima.org/wp-content/uploads/2024/03/Flayer-Umum-10-Maret-2024.jpg
END:VEVENT
BEGIN:VEVENT
DTSTART;TZID=Asia/Jakarta:20240316T190000
DTEND;TZID=Asia/Jakarta:20240316T190000
DTSTAMP:20260421T155543
CREATED:20240309T132433Z
LAST-MODIFIED:20240309T132433Z
UID:990493-1710615600-1710615600@gkjjembatanlima.org
SUMMARY:Komisi Pemuda | 16 MAR 2024
DESCRIPTION:Komisi Pemuda pada hari Sabtu\, 16 Maret 2024 pukul 19:00 WIB. \nTema: PENGHARAPAN BARU.\nPembicara: GI. Alfa Imannuel. \nBertempat di Ruang Ibadah\nGKJ Jemaat Jembatan Lima\nJl. Tambora Raya No. 44\,\nJakarta-Barat. \nKami mengundang jemaat khususnya pemuda-pemudi untuk menghadirinya.
URL:https://gkjjembatanlima.org/acara/komisi-pemuda-16-mar-2024/
LOCATION:GKJ Jembatan Lima\, GKJ Jembatan Lima Jl. Tambora Raya No.44\, Jakarta Barat\, DKI Jakarta\, 11220\, Indonesia
CATEGORIES:Ibadah
ATTACH;FMTTYPE=image/jpeg:https://gkjjembatanlima.org/wp-content/uploads/2024/03/KP-16-MARET-2024.jpg
END:VEVENT
BEGIN:VEVENT
DTSTART;VALUE=DATE:20240317
DTEND;VALUE=DATE:20240318
DTSTAMP:20260421T155543
CREATED:20240309T131525Z
LAST-MODIFIED:20240309T131525Z
UID:990482-1710633600-1710719999@gkjjembatanlima.org
SUMMARY:Kebaktian Umum | 17 MAR 2024
DESCRIPTION:Kebaktian Umum GKJ Jemaat Jembatan Lima \nMinggu\, 17 Maret 2023.\nTema: MENEMUKANKU DI TEMPAT TERSEMBUNYI. \nPembicara:\nKebaktian Umum 1 (06.30) : GI. Mesakh Triyuliadi.\nKebaktian Umum 2 (09.00) : GI. Mesakh Triyuliadi.\nKebaktian Umum 3 (11.00) : GI. Sih Widi Jeremia Nanda.\nKebaktian Umum 4 (11.30) : GI. Mesakh Triyuliadi.\nKebaktian Umum 5 (17.00) : GI. Cuniadi Tan. \nLihat Jadwal Kebaktian Umum \n \n 
URL:https://gkjjembatanlima.org/acara/kebaktian-umum-17-mar-2024/
LOCATION:GKJ Jembatan Lima\, GKJ Jembatan Lima Jl. Tambora Raya No.44\, Jakarta Barat\, DKI Jakarta\, 11220\, Indonesia
CATEGORIES:Ibadah
ATTACH;FMTTYPE=image/jpeg:https://gkjjembatanlima.org/wp-content/uploads/2024/03/Flayer-Umum-17-Maret-2024.jpg
END:VEVENT
BEGIN:VEVENT
DTSTART;TZID=Asia/Jakarta:20240322T150000
DTEND;TZID=Asia/Jakarta:20240322T150000
DTSTAMP:20260421T155543
CREATED:20240316T122549Z
LAST-MODIFIED:20240316T122549Z
UID:990514-1711119600-1711119600@gkjjembatanlima.org
SUMMARY:Ibadah Usia Sukacita | 22 MAR 2024
DESCRIPTION:Ibadah Usia Sukacita GKJ Jembatan Lima\n雅加达基督徒堂五角桥堂会欢乐团契聚会\nKami mengundang Saudara/i yang berusia 50 Tahun keatas untuk menghadiri Ibadah Usia Sukacita.\n本堂欢乐团契聚会邀请五十岁以上兄姐们踊跃来参加 同沐主恩 \nTema:\nGEREJAKU KELUARGAKU. \nPembicara:\nGI. Widya Tuluswati. \nHari & Waktu:\nJumat\, 22 Maret 2024.\nPukul 15:00 WIB. \n \n 
URL:https://gkjjembatanlima.org/acara/ibadah-usia-sukacita-22-mar-2024/
LOCATION:GKJ Jembatan Lima\, GKJ Jembatan Lima Jl. Tambora Raya No.44\, Jakarta Barat\, DKI Jakarta\, 11220\, Indonesia
CATEGORIES:Ibadah
ATTACH;FMTTYPE=image/jpeg:https://gkjjembatanlima.org/wp-content/uploads/2024/03/Usia-Sukacita-22-Maret-2024.jpg
END:VEVENT
BEGIN:VEVENT
DTSTART;TZID=Asia/Jakarta:20240323T190000
DTEND;TZID=Asia/Jakarta:20240323T190000
DTSTAMP:20260421T155543
CREATED:20240316T122146Z
LAST-MODIFIED:20240316T122146Z
UID:990509-1711220400-1711220400@gkjjembatanlima.org
SUMMARY:Komisi Pemuda | 23 MAR 2024
DESCRIPTION:Komisi Pemuda pada hari Sabtu\, 23 Maret 2024 pukul 19:00 WIB. \nTema: PENGHARAPAN SEJATI.\nPembicara: Pdt. Ang Tjoe Mio. \nBertempat di Ruang Ibadah\nGKJ Jemaat Jembatan Lima\nJl. Tambora Raya No. 44\,\nJakarta-Barat. \nKami mengundang jemaat khususnya pemuda-pemudi untuk menghadirinya.
URL:https://gkjjembatanlima.org/acara/komisi-pemuda-23-mar-2024/
LOCATION:GKJ Jembatan Lima\, GKJ Jembatan Lima Jl. Tambora Raya No.44\, Jakarta Barat\, DKI Jakarta\, 11220\, Indonesia
CATEGORIES:Ibadah
ATTACH;FMTTYPE=image/jpeg:https://gkjjembatanlima.org/wp-content/uploads/2024/03/KP-23-MARET-2024.jpg
END:VEVENT
BEGIN:VEVENT
DTSTART;VALUE=DATE:20240324
DTEND;VALUE=DATE:20240325
DTSTAMP:20260421T155543
CREATED:20240316T121510Z
LAST-MODIFIED:20240316T121510Z
UID:990506-1711238400-1711324799@gkjjembatanlima.org
SUMMARY:Kebaktian Umum | 24 MAR 2024
DESCRIPTION:Kebaktian Umum GKJ Jemaat Jembatan Lima \nMinggu\, 24 Maret 2023.\nTema: GEMBALA YANG BAIK MEMBERIKAN NYAWA-NYA. \nPembicara:\nKebaktian Umum 1 (06.30) : GI. Alfa Imannuel.\nKebaktian Umum 2 (09.00) : GI. Alfa Imannuel.\nKebaktian Umum 3 (11.00) : GI. Widya Tuluswati.\nKebaktian Umum 4 (11.30) : GI. Alfa Imannuel.\nKebaktian Umum 5 (17.00) : GI. Alfa Imannuel. \nLihat Jadwal Kebaktian Umum \n \n 
URL:https://gkjjembatanlima.org/acara/kebaktian-umum-24-mar-2024/
LOCATION:GKJ Jembatan Lima\, GKJ Jembatan Lima Jl. Tambora Raya No.44\, Jakarta Barat\, DKI Jakarta\, 11220\, Indonesia
CATEGORIES:Ibadah
ATTACH;FMTTYPE=image/jpeg:https://gkjjembatanlima.org/wp-content/uploads/2024/03/Flayer-Umum-24-Maret-2024.jpg
END:VEVENT
BEGIN:VEVENT
DTSTART;TZID=Asia/Jakarta:20240329T170000
DTEND;TZID=Asia/Jakarta:20240329T170000
DTSTAMP:20260421T155543
CREATED:20240309T132851Z
LAST-MODIFIED:20240309T132851Z
UID:990496-1711731600-1711731600@gkjjembatanlima.org
SUMMARY:Jumat Agung | 29 MAR 2024
DESCRIPTION:Ibadah Jumat Agung GKJ Jemaat Jembatan Lima:\nJumat\, 29 Maret 2024\, Pukul 17.00 WIB. \nBertempat di Ruang Ibadah GKJ Jemaat Jembatan Lima. \nTema: NEAR THE CROSS. \nPembicara: GI. Alfa Imannuel. \n“Karena begitu besar kasih Allah akan dunia ini\, sehingga ia telah mengaruniakan Anak-Nya yang tunggal\, supaya setiap orang yang percaya kepada-Nya tidak binasa\, melainkan beroleh hidup yang kekal.”\n– Yohanes 3:16
URL:https://gkjjembatanlima.org/acara/jumat-agung-29-mar-2024/
LOCATION:GKJ Jembatan Lima\, GKJ Jembatan Lima Jl. Tambora Raya No.44\, Jakarta Barat\, DKI Jakarta\, 11220\, Indonesia
CATEGORIES:Ibadah
ATTACH;FMTTYPE=image/jpeg:https://gkjjembatanlima.org/wp-content/uploads/2024/03/Promo-Jumat-Agung-GKJ-Jembatan-Lima.mp4_20240309_200456.941.jpg
END:VEVENT
BEGIN:VEVENT
DTSTART;TZID=Asia/Jakarta:20240330T190000
DTEND;TZID=Asia/Jakarta:20240330T190000
DTSTAMP:20260421T155543
CREATED:20240323T164314Z
LAST-MODIFIED:20240323T164314Z
UID:990542-1711825200-1711825200@gkjjembatanlima.org
SUMMARY:Komisi Pemuda | 30 MAR 2024
DESCRIPTION:Komisi Pemuda pada hari Sabtu\, 30 Maret 2024 pukul 19:00 WIB. \nAcara: FELLOWSHIP \nBertempat di Ruang Ibadah\nGKJ Jemaat Jembatan Lima\nJl. Tambora Raya No. 44\,\nJakarta-Barat. \nKami mengundang jemaat khususnya pemuda-pemudi untuk menghadirinya.
URL:https://gkjjembatanlima.org/acara/komisi-pemuda-30-mar-2024/
LOCATION:GKJ Jembatan Lima\, GKJ Jembatan Lima Jl. Tambora Raya No.44\, Jakarta Barat\, DKI Jakarta\, 11220\, Indonesia
CATEGORIES:Ibadah
ATTACH;FMTTYPE=image/jpeg:https://gkjjembatanlima.org/wp-content/uploads/2024/03/KP-30-MARET-2024.jpg
END:VEVENT
BEGIN:VEVENT
DTSTART;VALUE=DATE:20240331
DTEND;VALUE=DATE:20240401
DTSTAMP:20260421T155543
CREATED:20240323T163640Z
LAST-MODIFIED:20240323T163640Z
UID:990534-1711843200-1711929599@gkjjembatanlima.org
SUMMARY:Kebaktian Umum | 31 MAR 2024
DESCRIPTION:Kebaktian Umum GKJ Jemaat Jembatan Lima \nMinggu\, 31 Maret 2023.\nTema: MEMULIHKAN PENGHARAPAN YANG SIRNA. \nPembicara:\nKebaktian Umum 1 (06.30) : Pdt. Mychael Wu.\nKebaktian Umum 2 (09.00) : Pdt. Mychael Wu.\nKebaktian Umum 3 (11.00) : GI. Yonatan.\nKebaktian Umum 4 (11.30) : Pdt. Mychael Wu.\nKebaktian Umum 5 (17.00) : Pdt. Mychael Wu. \nLihat Jadwal Kebaktian Umum \n \n 
URL:https://gkjjembatanlima.org/acara/kebaktian-umum-31-mar-2024/
LOCATION:GKJ Jembatan Lima\, GKJ Jembatan Lima Jl. Tambora Raya No.44\, Jakarta Barat\, DKI Jakarta\, 11220\, Indonesia
CATEGORIES:Ibadah
ATTACH;FMTTYPE=image/jpeg:https://gkjjembatanlima.org/wp-content/uploads/2024/03/Flayer-Umum-31-MARET-2024.jpg
END:VEVENT
END:VCALENDAR