BEGIN:VCALENDAR
VERSION:2.0
PRODID:-//GKJ Jemaat Jembatan Lima - ECPv6.14.0//NONSGML v1.0//EN
CALSCALE:GREGORIAN
METHOD:PUBLISH
X-ORIGINAL-URL:https://gkjjembatanlima.org
X-WR-CALDESC:Events for GKJ Jemaat Jembatan Lima
REFRESH-INTERVAL;VALUE=DURATION:PT1H
X-Robots-Tag:noindex
X-PUBLISHED-TTL:PT1H
BEGIN:VTIMEZONE
TZID:Asia/Jakarta
BEGIN:STANDARD
TZOFFSETFROM:+0700
TZOFFSETTO:+0700
TZNAME:WIB
DTSTART:20240101T000000
END:STANDARD
END:VTIMEZONE
BEGIN:VEVENT
DTSTART;TZID=Asia/Jakarta:20240406T190000
DTEND;TZID=Asia/Jakarta:20240406T190000
DTSTAMP:20260421T143818
CREATED:20240331T044212Z
LAST-MODIFIED:20240331T044212Z
UID:990556-1712430000-1712430000@gkjjembatanlima.org
SUMMARY:Komisi Pemuda | 06 APR 2024
DESCRIPTION:Komisi Pemuda pada hari Sabtu\, 06 April 2024 pukul 19:00 WIB. \nTema: ORIENTASI HIDUP ORANG PERCAYA.\nPembicara: GI. Noriana Nori. \nBertempat di Ruang Ibadah\nGKJ Jemaat Jembatan Lima\nJl. Tambora Raya No. 44\,\nJakarta-Barat. \nKami mengundang jemaat khususnya pemuda-pemudi untuk menghadirinya.
URL:https://gkjjembatanlima.org/acara/komisi-pemuda-06-apr-2024/
LOCATION:GKJ Jembatan Lima\, GKJ Jembatan Lima Jl. Tambora Raya No.44\, Jakarta Barat\, DKI Jakarta\, 11220\, Indonesia
CATEGORIES:Ibadah
ATTACH;FMTTYPE=image/jpeg:https://gkjjembatanlima.org/wp-content/uploads/2024/03/KP-06-APRIL-2024.jpg
END:VEVENT
BEGIN:VEVENT
DTSTART;VALUE=DATE:20240407
DTEND;VALUE=DATE:20240408
DTSTAMP:20260421T143818
CREATED:20240331T044650Z
LAST-MODIFIED:20240406T141810Z
UID:990559-1712448000-1712534399@gkjjembatanlima.org
SUMMARY:Kebaktian Umum & Perjamuan Kudus | 07 APR 2024
DESCRIPTION:Kebaktian Umum GKJ Jemaat Jembatan Lima &\nPerjamuan Kudus Bulan April 2024\n \nMinggu\, 07 April 2023.\nTema: TUHAN YANG MEMIMPIN. \nPembicara:\nKebaktian Umum 1 (06.30) : Pdt. Ang Tjoe Mio.\nKebaktian Umum 2 (09.00) : Pdt. Ang Tjoe Mio.\nKebaktian Umum 4 (11.30) : Pdt. Ang Tjoe Mio.\nKebaktian Umum 5 (17.00) : Pdt. Ang Tjoe Mio. \nLihat Jadwal Kebaktian Umum
URL:https://gkjjembatanlima.org/acara/kebaktian-umum-perjamuan-kudus-07-apr-2024/
LOCATION:GKJ Jembatan Lima\, GKJ Jembatan Lima Jl. Tambora Raya No.44\, Jakarta Barat\, DKI Jakarta\, 11220\, Indonesia
CATEGORIES:Ibadah
ATTACH;FMTTYPE=image/jpeg:https://gkjjembatanlima.org/wp-content/uploads/2024/03/PERJAMUAN-KUDUS-april-24.jpg
END:VEVENT
BEGIN:VEVENT
DTSTART;TZID=Asia/Jakarta:20240413T190000
DTEND;TZID=Asia/Jakarta:20240413T190000
DTSTAMP:20260421T143818
CREATED:20240406T142634Z
LAST-MODIFIED:20240406T142634Z
UID:990608-1713034800-1713034800@gkjjembatanlima.org
SUMMARY:Komisi Pemuda | 13 APR 2024
DESCRIPTION:Komisi Pemuda pada hari Sabtu\, 13 April 2024 pukul 19:00 WIB. \nTema: KEHIDUPAN YANG BERDAMPAK.\nPembicara: GI. Noptianus Zendrato. \nBertempat di Ruang Ibadah\nGKJ Jemaat Jembatan Lima\nJl. Tambora Raya No. 44\,\nJakarta-Barat. \nKami mengundang jemaat khususnya pemuda-pemudi untuk menghadirinya. \n \n 
URL:https://gkjjembatanlima.org/acara/komisi-pemuda-13-apr-2024/
LOCATION:GKJ Jembatan Lima\, GKJ Jembatan Lima Jl. Tambora Raya No.44\, Jakarta Barat\, DKI Jakarta\, 11220\, Indonesia
CATEGORIES:Ibadah
ATTACH;FMTTYPE=image/jpeg:https://gkjjembatanlima.org/wp-content/uploads/2024/04/KP-13-APRIL-2024.jpg
END:VEVENT
BEGIN:VEVENT
DTSTART;VALUE=DATE:20240414
DTEND;VALUE=DATE:20240415
DTSTAMP:20260421T143818
CREATED:20240406T142142Z
LAST-MODIFIED:20240406T142142Z
UID:990598-1713052800-1713139199@gkjjembatanlima.org
SUMMARY:Kebaktian Umum | 14 APR 2024
DESCRIPTION:Kebaktian Umum GKJ Jemaat Jembatan Lima \nMinggu\, 14 April 2023.\nTema: TUHAN MEMIMPIN KEPADA HIKMAT-NYA. \nPembicara:\nKebaktian Umum 1 (06.30) : GI. Pinvatanis Gea.\nKebaktian Umum 2 (09.00) : GI. Pinvatanis Gea.\nKebaktian Umum 3 (11.00) : GI. Elly Janiarti.\nKebaktian Umum 4 (11.30) : GI. Pinvatanis Gea.\nKebaktian Umum 5 (17.00) : GI. Pinvatanis Gea. \nLihat Jadwal Kebaktian Umum \n \n 
URL:https://gkjjembatanlima.org/acara/kebaktian-umum-14-apr-2024/
LOCATION:GKJ Jembatan Lima\, GKJ Jembatan Lima Jl. Tambora Raya No.44\, Jakarta Barat\, DKI Jakarta\, 11220\, Indonesia
CATEGORIES:Ibadah
ATTACH;FMTTYPE=image/jpeg:https://gkjjembatanlima.org/wp-content/uploads/2024/04/E-FLAYER-14-APRIL-2024.jpg
END:VEVENT
BEGIN:VEVENT
DTSTART;TZID=Asia/Jakarta:20240420T190000
DTEND;TZID=Asia/Jakarta:20240420T190000
DTSTAMP:20260421T143818
CREATED:20240413T064035Z
LAST-MODIFIED:20240413T064035Z
UID:990616-1713639600-1713639600@gkjjembatanlima.org
SUMMARY:Komisi Pemuda | 20 APR 2024
DESCRIPTION:Komisi Pemuda pada hari Sabtu\, 20 April 2024 pukul 19:00 WIB. \nTema: KESOLIDAN DALAM BERORGANISASI DAN BERKOMUNITAS.\nPembicara: GI. Pinvatanis Gea. \nBertempat di Ruang Ibadah\nGKJ Jemaat Jembatan Lima\nJl. Tambora Raya No. 44\,\nJakarta-Barat. \nKami mengundang jemaat khususnya pemuda-pemudi untuk menghadirinya. \n \n 
URL:https://gkjjembatanlima.org/acara/komisi-pemuda-20-apr-2024/
LOCATION:GKJ Jembatan Lima\, GKJ Jembatan Lima Jl. Tambora Raya No.44\, Jakarta Barat\, DKI Jakarta\, 11220\, Indonesia
CATEGORIES:Ibadah
ATTACH;FMTTYPE=image/jpeg:https://gkjjembatanlima.org/wp-content/uploads/2024/04/KP-20-APRIL-2024.jpg
END:VEVENT
BEGIN:VEVENT
DTSTART;VALUE=DATE:20240421
DTEND;VALUE=DATE:20240422
DTSTAMP:20260421T143818
CREATED:20240413T064333Z
LAST-MODIFIED:20240414T023441Z
UID:990619-1713657600-1713743999@gkjjembatanlima.org
SUMMARY:Kebaktian Umum | 21 APR 2024
DESCRIPTION:Kebaktian Umum GKJ Jemaat Jembatan Lima \nMinggu\, 21 April 2023.\nTema: TUHAN MEMIMPIN KEPADA JALAN-NYA. \nPembicara:\nKebaktian Umum 1 (06.30) : GI. Filipus Ferdinand.\nKebaktian Umum 2 (09.00) : GI. Filipus Ferdinand.\nKebaktian Umum 3 (11.00) : GI. Agnes Christina.\nKebaktian Umum 4 (11.30) : GI. Filipus Ferdinand.\nKebaktian Umum 5 (17.00) : GI. Filipus Ferdinand. \nLihat Jadwal Kebaktian Umum \n \n 
URL:https://gkjjembatanlima.org/acara/kebaktian-umum-21-apr-2024/
LOCATION:GKJ Jembatan Lima\, GKJ Jembatan Lima Jl. Tambora Raya No.44\, Jakarta Barat\, DKI Jakarta\, 11220\, Indonesia
CATEGORIES:Ibadah
ATTACH;FMTTYPE=image/jpeg:https://gkjjembatanlima.org/wp-content/uploads/2024/04/Flayer-Umum-21-April-2024.jpg
END:VEVENT
BEGIN:VEVENT
DTSTART;TZID=Asia/Jakarta:20240426T150000
DTEND;TZID=Asia/Jakarta:20240426T150000
DTSTAMP:20260421T143818
CREATED:20240420T153157Z
LAST-MODIFIED:20240420T153157Z
UID:990650-1714143600-1714143600@gkjjembatanlima.org
SUMMARY:Ibadah Usia Sukacita | 26 APR 2024
DESCRIPTION:Ibadah Usia Sukacita GKJ Jembatan Lima\n雅加达基督徒堂五角桥堂会欢乐团契聚会\nKami mengundang Saudara/i yang berusia 50 Tahun keatas untuk menghadiri Ibadah Usia Sukacita.\n本堂欢乐团契聚会邀请五十岁以上兄姐们踊跃来参加 同沐主恩 \nTema:\nMEMPERERAT KELUARGA. \nPembicara:\nGI. Muliani Gulo. \nHari & Waktu:\nJumat\, 26 April 2024.\nPukul 15:00 WIB. \n \n 
URL:https://gkjjembatanlima.org/acara/ibadah-usia-sukacita-26-apr-2024/
LOCATION:GKJ Jembatan Lima\, GKJ Jembatan Lima Jl. Tambora Raya No.44\, Jakarta Barat\, DKI Jakarta\, 11220\, Indonesia
CATEGORIES:Ibadah
ATTACH;FMTTYPE=image/jpeg:https://gkjjembatanlima.org/wp-content/uploads/2024/04/Usia-Sukacita-23-April-2024.jpg
END:VEVENT
BEGIN:VEVENT
DTSTART;TZID=Asia/Jakarta:20240427T190000
DTEND;TZID=Asia/Jakarta:20240427T190000
DTSTAMP:20260421T143818
CREATED:20240420T153019Z
LAST-MODIFIED:20240420T153019Z
UID:990646-1714244400-1714244400@gkjjembatanlima.org
SUMMARY:Komisi Pemuda | 27 APR 2024
DESCRIPTION:Komisi Pemuda pada hari Sabtu\, 27 April 2024 pukul 19:00 WIB. \nAcara: FELLOWSHIP & HUT MASSAL \nBertempat di Ruang Ibadah\nGKJ Jemaat Jembatan Lima\nJl. Tambora Raya No. 44\,\nJakarta-Barat. \nKami mengundang jemaat khususnya pemuda-pemudi untuk menghadirinya. \n \n 
URL:https://gkjjembatanlima.org/acara/komisi-pemuda-27-apr-2024/
LOCATION:GKJ Jembatan Lima\, GKJ Jembatan Lima Jl. Tambora Raya No.44\, Jakarta Barat\, DKI Jakarta\, 11220\, Indonesia
CATEGORIES:Ibadah
ATTACH;FMTTYPE=image/jpeg:https://gkjjembatanlima.org/wp-content/uploads/2024/04/KP-27-April-2024.jpg
END:VEVENT
BEGIN:VEVENT
DTSTART;VALUE=DATE:20240428
DTEND;VALUE=DATE:20240429
DTSTAMP:20260421T143818
CREATED:20240420T152534Z
LAST-MODIFIED:20240420T152534Z
UID:990638-1714262400-1714348799@gkjjembatanlima.org
SUMMARY:Kebaktian Umum | 28 APR 2024
DESCRIPTION:Kebaktian Umum GKJ Jemaat Jembatan Lima \nMinggu\, 28 April 2023.\nTema: TUHAN MEMIMPIN KEPADA KEKUDUSAN-NYA. \nPembicara:\nKebaktian Umum 1 (06.30) : GI. Christine Yunita.\nKebaktian Umum 2 (09.00) : GI. Christine Yunita.\nKebaktian Umum 3 (11.00) : GI. Alfa Imannuel.\nKebaktian Umum 4 (11.30) : GI. Christine Yunita.\nKebaktian Umum 5 (17.00) : GI. Christine Yunita. \nLihat Jadwal Kebaktian Umum \n \n 
URL:https://gkjjembatanlima.org/acara/kebaktian-umum-28-apr-2024/
LOCATION:GKJ Jembatan Lima\, GKJ Jembatan Lima Jl. Tambora Raya No.44\, Jakarta Barat\, DKI Jakarta\, 11220\, Indonesia
CATEGORIES:Ibadah
ATTACH;FMTTYPE=image/jpeg:https://gkjjembatanlima.org/wp-content/uploads/2024/04/Flayer-Umum-28-April-2024.jpg
END:VEVENT
END:VCALENDAR