BEGIN:VCALENDAR
VERSION:2.0
PRODID:-//GKJ Jemaat Jembatan Lima - ECPv6.14.0//NONSGML v1.0//EN
CALSCALE:GREGORIAN
METHOD:PUBLISH
X-ORIGINAL-URL:https://gkjjembatanlima.org
X-WR-CALDESC:Events for GKJ Jemaat Jembatan Lima
REFRESH-INTERVAL;VALUE=DURATION:PT1H
X-Robots-Tag:noindex
X-PUBLISHED-TTL:PT1H
BEGIN:VTIMEZONE
TZID:Asia/Jakarta
BEGIN:STANDARD
TZOFFSETFROM:+0700
TZOFFSETTO:+0700
TZNAME:WIB
DTSTART:20240101T000000
END:STANDARD
END:VTIMEZONE
BEGIN:VEVENT
DTSTART;TZID=Asia/Jakarta:20240803T190000
DTEND;TZID=Asia/Jakarta:20240803T190000
DTSTAMP:20260421T083550
CREATED:20240727T154506Z
LAST-MODIFIED:20240727T154506Z
UID:990928-1722711600-1722711600@gkjjembatanlima.org
SUMMARY:Komisi Pemuda | 03 AGU 2024
DESCRIPTION:Komisi Pemuda pada hari Sabtu\, 03 Agustus 2024 pukul 19:00 WIB. \nTema: HUMILITY IS THE BASIS OF UNITY.\nPembicara: GI. Alfa Imannuel. \nBertempat di Ruang Ibadah\nGKJ Jemaat Jembatan Lima\nJl. Tambora Raya No. 44\,\nJakarta-Barat. \nKami mengundang jemaat khususnya pemuda-pemudi untuk menghadirinya.
URL:https://gkjjembatanlima.org/acara/komisi-pemuda-03-agu-2024/
LOCATION:GKJ Jembatan Lima\, GKJ Jembatan Lima Jl. Tambora Raya No.44\, Jakarta Barat\, DKI Jakarta\, 11220\, Indonesia
CATEGORIES:Ibadah
ATTACH;FMTTYPE=image/jpeg:https://gkjjembatanlima.org/wp-content/uploads/2024/07/KP-03-AUG-2024.jpg
END:VEVENT
BEGIN:VEVENT
DTSTART;VALUE=DATE:20240804
DTEND;VALUE=DATE:20240805
DTSTAMP:20260421T083550
CREATED:20240727T155606Z
LAST-MODIFIED:20240727T155606Z
UID:990933-1722729600-1722815999@gkjjembatanlima.org
SUMMARY:Kebaktian Umum & Perjamuan Kudus | 04 AGU 2024
DESCRIPTION:Kebaktian Umum GKJ Jemaat Jembatan Lima &\nPerjamuan Kudus Bulan Agustus 2024\n \nMinggu\, 04 Agustus 2024. \nTema: TUHAN YANG MENYATUKAN. \nPembicara:\nKebaktian Umum 1 (06.30) : Pdt. Ang Tjoe Mio.\nKebaktian Umum 2 (09.00) : Pdt. Ang Tjoe Mio.\nKebaktian Umum 4 (11.30) : Pdt. Ang Tjoe Mio.\nKebaktian Umum 5 (17.00) : Pdt. Ang Tjoe Mio. \nLihat Jadwal Kebaktian Umum
URL:https://gkjjembatanlima.org/acara/kebaktian-umum-perjamuan-kudus-04-agu-2024/
LOCATION:GKJ Jembatan Lima\, GKJ Jembatan Lima Jl. Tambora Raya No.44\, Jakarta Barat\, DKI Jakarta\, 11220\, Indonesia
CATEGORIES:Ibadah
ATTACH;FMTTYPE=image/jpeg:https://gkjjembatanlima.org/wp-content/uploads/2024/07/KU-04-AUG-2024.jpg
END:VEVENT
BEGIN:VEVENT
DTSTART;TZID=Asia/Jakarta:20240810T190000
DTEND;TZID=Asia/Jakarta:20240810T190000
DTSTAMP:20260421T083550
CREATED:20240803T130604Z
LAST-MODIFIED:20240803T130604Z
UID:990947-1723316400-1723316400@gkjjembatanlima.org
SUMMARY:Komisi Pemuda | 10 AGU 2024
DESCRIPTION:Komisi Pemuda pada hari Sabtu\, 10 Agustus 2024 pukul 19:00 WIB. \nTema: PERBEDAAN YANG MENYATUKAN.\nPembicara: GI. Hadi Sonatan. \nBertempat di Ruang Ibadah\nGKJ Jemaat Jembatan Lima\nJl. Tambora Raya No. 44\,\nJakarta-Barat. \nKami mengundang jemaat khususnya pemuda-pemudi untuk menghadirinya.
URL:https://gkjjembatanlima.org/acara/komisi-pemuda-10-agu-2024/
LOCATION:GKJ Jembatan Lima\, GKJ Jembatan Lima Jl. Tambora Raya No.44\, Jakarta Barat\, DKI Jakarta\, 11220\, Indonesia
CATEGORIES:Ibadah
ATTACH;FMTTYPE=image/jpeg:https://gkjjembatanlima.org/wp-content/uploads/2024/08/KP-10-AGU-2024.jpg
END:VEVENT
BEGIN:VEVENT
DTSTART;VALUE=DATE:20240811
DTEND;VALUE=DATE:20240812
DTSTAMP:20260421T083550
CREATED:20240803T130842Z
LAST-MODIFIED:20240803T130842Z
UID:990950-1723334400-1723420799@gkjjembatanlima.org
SUMMARY:Kebaktian Umum | 11 AGU 2024
DESCRIPTION:Kebaktian Umum GKJ Jemaat Jembatan Lima \nMinggu\, 11 Agustus 2024.\nTema: BERINTEGRITAS DALAM KASIH. \nPembicara:\nKebaktian Umum 1 (06.30) : GI. Yuneari Lase.\nKebaktian Umum 2 (09.00) : GI. Yuneari Lase.\nKebaktian Umum 3 (11.30) : GI. Muliani Gulo.\nKebaktian Umum 4 (11.30) : GI. Yuneari Lase.\nKebaktian Umum 5 (17.00) : GI. Widya Tuluswati. \nLihat Jadwal Kebaktian Umum \n \n 
URL:https://gkjjembatanlima.org/acara/kebaktian-umum-11-agu-2024/
LOCATION:GKJ Jembatan Lima\, GKJ Jembatan Lima Jl. Tambora Raya No.44\, Jakarta Barat\, DKI Jakarta\, 11220\, Indonesia
CATEGORIES:Ibadah
ATTACH;FMTTYPE=image/jpeg:https://gkjjembatanlima.org/wp-content/uploads/2024/08/KU-11-AGU-2024.jpg
END:VEVENT
BEGIN:VEVENT
DTSTART;VALUE=DATE:20240818
DTEND;VALUE=DATE:20240819
DTSTAMP:20260421T083550
CREATED:20240809T160111Z
LAST-MODIFIED:20240809T160111Z
UID:990981-1723939200-1724025599@gkjjembatanlima.org
SUMMARY:Kebaktian Umum | 18 AGU 2024
DESCRIPTION:Kebaktian Umum GKJ Jemaat Jembatan Lima \nMinggu\, 18 Agustus 2024.\nTema: KRISTUS YANG MEMERDEKAKAN. \nPembicara:\nKebaktian Umum 1 (06.30) : GI. Cuniadi Tan.\nKebaktian Umum 2 (09.00) : GI. Cuniadi Tan.\nKebaktian Umum 3 (11.30) : GI. Christie.\nKebaktian Umum 4 (11.30) : GI. Cuniadi Tan.\nKebaktian Umum 5 (17.00) : Pdt. Imanuel Faofeto. \nLihat Jadwal Kebaktian Umum \n \n 
URL:https://gkjjembatanlima.org/acara/kebaktian-umum-18-agu-2024/
LOCATION:GKJ Jembatan Lima\, GKJ Jembatan Lima Jl. Tambora Raya No.44\, Jakarta Barat\, DKI Jakarta\, 11220\, Indonesia
CATEGORIES:Ibadah
ATTACH;FMTTYPE=image/jpeg:https://gkjjembatanlima.org/wp-content/uploads/2024/08/KU-18-AGU-2024.jpg
END:VEVENT
BEGIN:VEVENT
DTSTART;TZID=Asia/Jakarta:20240818T090000
DTEND;TZID=Asia/Jakarta:20240818T090000
DTSTAMP:20260421T083550
CREATED:20240810T131337Z
LAST-MODIFIED:20240810T131337Z
UID:990984-1723971600-1723971600@gkjjembatanlima.org
SUMMARY:HUT RI di Sekolah Minggu | 18 AGU 2024
DESCRIPTION:SYALLOM Mama\, Papa dan Adik-adik🙌🏻 \nDalam rangka merayakan HUT RI\, Sekolah Minggu akan mengadakan ibadah yang dilanjutkan dengan lomba pada: \nHari/Tanggal = Minggu\, 18 Agustus 2024\nJam = 09.00 – 11.00\nDresscode = merah/putih \nnote:\nUntuk Kelas 2 dan 6SD membawa pensil dan penghapus\, kelas 1 SD membawa pensil warna masing-masing. \nJangan lupa bawa teman baru dan see you!  \nGODBLESS
URL:https://gkjjembatanlima.org/acara/hut-ri-di-sekolah-minggu-18-agu-2024/
LOCATION:Gedung Sekolah Minggu\, Gedung SM Tambora Jl. Tambora Raya No. 24\, Tambora\, Jakarta Barat\, Jakarta\, Jakarta Barat\, 11220\, Indonesia
CATEGORIES:Ibadah
ATTACH;FMTTYPE=image/jpeg:https://gkjjembatanlima.org/wp-content/uploads/2024/08/SM-18-AGU-2024-01.jpg
END:VEVENT
BEGIN:VEVENT
DTSTART;TZID=Asia/Jakarta:20240831T190000
DTEND;TZID=Asia/Jakarta:20240831T190000
DTSTAMP:20260421T083550
CREATED:20240826T123124Z
LAST-MODIFIED:20240830T054918Z
UID:991002-1725130800-1725130800@gkjjembatanlima.org
SUMMARY:Komisi Pemuda | 31 AGU 2024
DESCRIPTION:Komisi Pemuda pada hari Sabtu\, 31 Agustus 2024 pukul 19:00 WIB. \nTema: BLIND SPOT.\nPembicara: GI. Widya Laras. \nBertempat di Ruang Ibadah\nGKJ Jemaat Jembatan Lima\nJl. Tambora Raya No. 44\,\nJakarta-Barat. \nKami mengundang jemaat khususnya pemuda-pemudi untuk menghadirinya.
URL:https://gkjjembatanlima.org/acara/komisi-pemuda-31-agu-2024/
LOCATION:GKJ Jembatan Lima\, GKJ Jembatan Lima Jl. Tambora Raya No.44\, Jakarta Barat\, DKI Jakarta\, 11220\, Indonesia
CATEGORIES:Ibadah
ATTACH;FMTTYPE=image/webp:https://gkjjembatanlima.org/wp-content/uploads/2024/08/kp-31-agu-2024-66c9d312dd2a3.webp
END:VEVENT
END:VCALENDAR