BEGIN:VCALENDAR
VERSION:2.0
PRODID:-//GKJ Jemaat Jembatan Lima - ECPv6.14.0//NONSGML v1.0//EN
CALSCALE:GREGORIAN
METHOD:PUBLISH
X-WR-CALNAME:GKJ Jemaat Jembatan Lima
X-ORIGINAL-URL:https://gkjjembatanlima.org
X-WR-CALDESC:Events for GKJ Jemaat Jembatan Lima
REFRESH-INTERVAL;VALUE=DURATION:PT1H
X-Robots-Tag:noindex
X-PUBLISHED-TTL:PT1H
BEGIN:VTIMEZONE
TZID:Asia/Jakarta
BEGIN:STANDARD
TZOFFSETFROM:+0700
TZOFFSETTO:+0700
TZNAME:WIB
DTSTART:20230101T000000
END:STANDARD
END:VTIMEZONE
BEGIN:VEVENT
DTSTART;TZID=Asia/Jakarta:20230722T190000
DTEND;TZID=Asia/Jakarta:20230722T190000
DTSTAMP:20260422T044349
CREATED:20230716T012723Z
LAST-MODIFIED:20230721T015821Z
UID:989330-1690052400-1690052400@gkjjembatanlima.org
SUMMARY:Komisi Pemuda 22 Juli 2023
DESCRIPTION:Komisi Pemuda pada hari Sabtu\, 22 Juli 2023 pukul 19:00 WIB. \nTema: Lead to Bless.\nOleh: Bpk. Indrawan. \nBertempat di Ruang Ibadah\nGKJ Jemaat Jembatan Lima\nJl. Tambora Raya No. 44\,\nJakarta-Barat. \nKami mengundang jemaat khususnya pemuda pemudi untuk menghadirinya.
URL:https://gkjjembatanlima.org/acara/komisi-pemuda-22-juli-2023/
LOCATION:GKJ Jembatan Lima\, GKJ Jembatan Lima Jl. Tambora Raya No.44\, Jakarta Barat\, DKI Jakarta\, 11220\, Indonesia
CATEGORIES:Ibadah
ATTACH;FMTTYPE=image/jpeg:https://gkjjembatanlima.org/wp-content/uploads/2023/07/KP-22-JULI-2023.jpg
END:VEVENT
END:VCALENDAR