BEGIN:VCALENDAR
VERSION:2.0
PRODID:-//GKJ Jemaat Jembatan Lima - ECPv6.14.0//NONSGML v1.0//EN
CALSCALE:GREGORIAN
METHOD:PUBLISH
X-ORIGINAL-URL:https://gkjjembatanlima.org
X-WR-CALDESC:Events for GKJ Jemaat Jembatan Lima
REFRESH-INTERVAL;VALUE=DURATION:PT1H
X-Robots-Tag:noindex
X-PUBLISHED-TTL:PT1H
BEGIN:VTIMEZONE
TZID:Asia/Jakarta
BEGIN:STANDARD
TZOFFSETFROM:+0700
TZOFFSETTO:+0700
TZNAME:WIB
DTSTART:20230101T000000
END:STANDARD
END:VTIMEZONE
BEGIN:VEVENT
DTSTART;VALUE=DATE:20231112
DTEND;VALUE=DATE:20231113
DTSTAMP:20260421T225349
CREATED:20231109T024421Z
LAST-MODIFIED:20231109T024421Z
UID:989893-1699747200-1699833599@gkjjembatanlima.org
SUMMARY:Kebaktian Umum Minggu 12 November 2023
DESCRIPTION:Kebaktian Umum GKJ Jemaat Jembatan Lima\nMinggu\, 12 November 2023.\nTema: MEMBERI SEPERTI KRISTUS MEMBERI. \nPembicara:\nKU 1 : Pdt. Tommy Simanjuntak.\nKU 2&4 : Pdt. Tommy Simanjuntak.\nKU 5 : Pdt. Tommy Simanjuntak. \nLihat Jadwal Kebaktian Umum
URL:https://gkjjembatanlima.org/acara/kebaktian-umum-minggu-12-november-2023/
LOCATION:GKJ Jembatan Lima\, GKJ Jembatan Lima Jl. Tambora Raya No.44\, Jakarta Barat\, DKI Jakarta\, 11220\, Indonesia
CATEGORIES:Ibadah
END:VEVENT
END:VCALENDAR