BEGIN:VCALENDAR
VERSION:2.0
PRODID:-//GKJ Jemaat Jembatan Lima - ECPv6.14.0//NONSGML v1.0//EN
CALSCALE:GREGORIAN
METHOD:PUBLISH
X-ORIGINAL-URL:https://gkjjembatanlima.org
X-WR-CALDESC:Events for GKJ Jemaat Jembatan Lima
REFRESH-INTERVAL;VALUE=DURATION:PT1H
X-Robots-Tag:noindex
X-PUBLISHED-TTL:PT1H
BEGIN:VTIMEZONE
TZID:Asia/Jakarta
BEGIN:STANDARD
TZOFFSETFROM:+0700
TZOFFSETTO:+0700
TZNAME:WIB
DTSTART:20240101T000000
END:STANDARD
END:VTIMEZONE
BEGIN:VEVENT
DTSTART;TZID=Asia/Jakarta:20240224T093000
DTEND;TZID=Asia/Jakarta:20240224T093000
DTSTAMP:20260421T184333
CREATED:20240128T053408Z
LAST-MODIFIED:20240128T053408Z
UID:990217-1708767000-1708767000@gkjjembatanlima.org
SUMMARY:Kebaktian Syukur Tahun Baru Imlek Mandarin-Hakka
DESCRIPTION:Hadirilah Kebaktian Syukur Tahun Baru Imlek Mandarin-Hakka pada: \nSabtu\, 24 Februari 2024 – Pukul 09.30 WIB.\nLokasi : GKJ Jemaat Kartini.\nAcara : Drama\, Tarian\, dan Paduan Suara.\nPembicara : Pdt. Siujono Sung.\nTema : “TANDA ANUGERAH”
URL:https://gkjjembatanlima.org/acara/kebaktian-syukur-tahun-baru-imlek-mandarin-hakka/
LOCATION:GKJ Jemaat Kartini\, GKJ Kartini. Jl. Kartini V No. 16C\, Jakarta\, DKI Jakarta\, 10750\, Indonesia
CATEGORIES:Ibadah
ATTACH;FMTTYPE=image/jpeg:https://gkjjembatanlima.org/wp-content/uploads/2024/01/imlek-hakka-kartini.jpg
END:VEVENT
BEGIN:VEVENT
DTSTART;TZID=Asia/Jakarta:20240224T190000
DTEND;TZID=Asia/Jakarta:20240224T190000
DTSTAMP:20260421T184333
CREATED:20240217T140848Z
LAST-MODIFIED:20240217T140848Z
UID:990411-1708801200-1708801200@gkjjembatanlima.org
SUMMARY:Komisi Pemuda | 24 FEB 2024
DESCRIPTION:Komisi Pemuda pada hari Sabtu\, 24 Februari 2024 pukul 19:00 WIB. \nAcara: VALENTINE FELLOWSHIP. \nBertempat di Ruang Ibadah\nGKJ Jemaat Jembatan Lima\nJl. Tambora Raya No. 44\,\nJakarta-Barat. \nKami mengundang jemaat khususnya pemuda-pemudi untuk menghadirinya.
URL:https://gkjjembatanlima.org/acara/komisi-pemuda-24-feb-2024/
LOCATION:GKJ Jembatan Lima\, GKJ Jembatan Lima Jl. Tambora Raya No.44\, Jakarta Barat\, DKI Jakarta\, 11220\, Indonesia
CATEGORIES:Ibadah
ATTACH;FMTTYPE=image/jpeg:https://gkjjembatanlima.org/wp-content/uploads/2024/02/val-kp.jpg
END:VEVENT
END:VCALENDAR