BEGIN:VCALENDAR
VERSION:2.0
PRODID:-//GKJ Jemaat Jembatan Lima - ECPv6.14.0//NONSGML v1.0//EN
CALSCALE:GREGORIAN
METHOD:PUBLISH
X-ORIGINAL-URL:https://gkjjembatanlima.org
X-WR-CALDESC:Events for GKJ Jemaat Jembatan Lima
REFRESH-INTERVAL;VALUE=DURATION:PT1H
X-Robots-Tag:noindex
X-PUBLISHED-TTL:PT1H
BEGIN:VTIMEZONE
TZID:Asia/Jakarta
BEGIN:STANDARD
TZOFFSETFROM:+0700
TZOFFSETTO:+0700
TZNAME:WIB
DTSTART:20240101T000000
END:STANDARD
END:VTIMEZONE
BEGIN:VEVENT
DTSTART;TZID=Asia/Jakarta:20240406T190000
DTEND;TZID=Asia/Jakarta:20240406T190000
DTSTAMP:20260421T160455
CREATED:20240331T044212Z
LAST-MODIFIED:20240331T044212Z
UID:990556-1712430000-1712430000@gkjjembatanlima.org
SUMMARY:Komisi Pemuda | 06 APR 2024
DESCRIPTION:Komisi Pemuda pada hari Sabtu\, 06 April 2024 pukul 19:00 WIB. \nTema: ORIENTASI HIDUP ORANG PERCAYA.\nPembicara: GI. Noriana Nori. \nBertempat di Ruang Ibadah\nGKJ Jemaat Jembatan Lima\nJl. Tambora Raya No. 44\,\nJakarta-Barat. \nKami mengundang jemaat khususnya pemuda-pemudi untuk menghadirinya.
URL:https://gkjjembatanlima.org/acara/komisi-pemuda-06-apr-2024/
LOCATION:GKJ Jembatan Lima\, GKJ Jembatan Lima Jl. Tambora Raya No.44\, Jakarta Barat\, DKI Jakarta\, 11220\, Indonesia
CATEGORIES:Ibadah
ATTACH;FMTTYPE=image/jpeg:https://gkjjembatanlima.org/wp-content/uploads/2024/03/KP-06-APRIL-2024.jpg
END:VEVENT
END:VCALENDAR