BEGIN:VCALENDAR
VERSION:2.0
PRODID:-//GKJ Jemaat Jembatan Lima - ECPv6.14.0//NONSGML v1.0//EN
CALSCALE:GREGORIAN
METHOD:PUBLISH
X-WR-CALNAME:GKJ Jemaat Jembatan Lima
X-ORIGINAL-URL:https://gkjjembatanlima.org
X-WR-CALDESC:Events for GKJ Jemaat Jembatan Lima
REFRESH-INTERVAL;VALUE=DURATION:PT1H
X-Robots-Tag:noindex
X-PUBLISHED-TTL:PT1H
BEGIN:VTIMEZONE
TZID:Asia/Jakarta
BEGIN:STANDARD
TZOFFSETFROM:+0700
TZOFFSETTO:+0700
TZNAME:WIB
DTSTART:20240101T000000
END:STANDARD
END:VTIMEZONE
BEGIN:VEVENT
DTSTART;VALUE=DATE:20240512
DTEND;VALUE=DATE:20240513
DTSTAMP:20260421T143847
CREATED:20240504T143149Z
LAST-MODIFIED:20240602T053741Z
UID:990671-1715472000-1715558399@gkjjembatanlima.org
SUMMARY:Kebaktian Umum & Perayaan HUT GKJ Tambora | 12 MEI 2024
DESCRIPTION:Kebaktian Umum & Perayaan HUT ke-41 GKJ Jemaat Jembatan Lima.  \nMinggu\, 12 Mei 2024.\nTema: PEREMPUAN PEMBAWA DAMAI. \nPerayaan HUT ke-41 GKJ Jemaat Jembatan Lima akan dilaksanakan di setiap kebaktian umum.\nTema HUT: BERAKAR BERTUMBUH BERBUAH DI DALAM GEREJAKU. \nPembicara:\nKebaktian Umum 1 (06.30) : GI. Alfa Imannuel.\nKebaktian Umum 2 (09.00) : Pdt. Ang Tjoe Mio.\nKebaktian Umum 3 (11.30) : GI. Widya Tuluswati.\nKebaktian Umum 4 (11.30) : GI. Alfa Imannuel.\nKebaktian Umum 5 (17.00) : Pdt. Ang Tjoe Mio. \nLihat Jadwal Kebaktian Umum \n \n 
URL:https://gkjjembatanlima.org/acara/kebaktian-umum-perayaan-hut-gkj-tambora-12-mei-2024/
LOCATION:GKJ Jembatan Lima\, GKJ Jembatan Lima Jl. Tambora Raya No.44\, Jakarta Barat\, DKI Jakarta\, 11220\, Indonesia
CATEGORIES:Ibadah
ATTACH;FMTTYPE=image/jpeg:https://gkjjembatanlima.org/wp-content/uploads/2024/05/HUT-41.jpg
END:VEVENT
END:VCALENDAR