BEGIN:VCALENDAR
VERSION:2.0
PRODID:-//GKJ Jemaat Jembatan Lima - ECPv6.14.0//NONSGML v1.0//EN
CALSCALE:GREGORIAN
METHOD:PUBLISH
X-ORIGINAL-URL:https://gkjjembatanlima.org
X-WR-CALDESC:Events for GKJ Jemaat Jembatan Lima
REFRESH-INTERVAL;VALUE=DURATION:PT1H
X-Robots-Tag:noindex
X-PUBLISHED-TTL:PT1H
BEGIN:VTIMEZONE
TZID:Asia/Jakarta
BEGIN:STANDARD
TZOFFSETFROM:+0700
TZOFFSETTO:+0700
TZNAME:WIB
DTSTART:20240101T000000
END:STANDARD
END:VTIMEZONE
BEGIN:VEVENT
DTSTART;VALUE=DATE:20240630
DTEND;VALUE=DATE:20240701
DTSTAMP:20260421T130912
CREATED:20240624T043730Z
LAST-MODIFIED:20240624T043730Z
UID:990832-1719705600-1719791999@gkjjembatanlima.org
SUMMARY:Kebaktian Umum | 30 JUN 2024
DESCRIPTION:Kebaktian Umum GKJ Jemaat Jembatan Lima \nMinggu\, 30 Juni 2024.\nTema: MENANG BERSAMA ALLAH. \nPembicara:\nKebaktian Umum 1 (06.30) : GI. Davit Cong.\nKebaktian Umum 2 (09.00) : GI. Davit Cong.\nKebaktian Umum 3 (11.30) : GI. Widya Tuluswati.\nKebaktian Umum 4 (11.30) : GI. Davit Cong.\nKebaktian Umum 5 (17.00) : GI. Davit Cong. \nLihat Jadwal Kebaktian Umum \n \n 
URL:https://gkjjembatanlima.org/acara/kebaktian-umum-30-jun-2024/
LOCATION:GKJ Jembatan Lima\, GKJ Jembatan Lima Jl. Tambora Raya No.44\, Jakarta Barat\, DKI Jakarta\, 11220\, Indonesia
CATEGORIES:Ibadah
ATTACH;FMTTYPE=image/jpeg:https://gkjjembatanlima.org/wp-content/uploads/2024/06/KU-30-JUN-2024.jpg
END:VEVENT
END:VCALENDAR