BEGIN:VCALENDAR
VERSION:2.0
PRODID:-//GKJ Jemaat Jembatan Lima - ECPv6.14.0//NONSGML v1.0//EN
CALSCALE:GREGORIAN
METHOD:PUBLISH
X-WR-CALNAME:GKJ Jemaat Jembatan Lima
X-ORIGINAL-URL:https://gkjjembatanlima.org
X-WR-CALDESC:Events for GKJ Jemaat Jembatan Lima
REFRESH-INTERVAL;VALUE=DURATION:PT1H
X-Robots-Tag:noindex
X-PUBLISHED-TTL:PT1H
BEGIN:VTIMEZONE
TZID:Asia/Jakarta
BEGIN:STANDARD
TZOFFSETFROM:+0700
TZOFFSETTO:+0700
TZNAME:WIB
DTSTART:20240101T000000
END:STANDARD
END:VTIMEZONE
BEGIN:VEVENT
DTSTART;VALUE=DATE:20240818
DTEND;VALUE=DATE:20240819
DTSTAMP:20260421T100547
CREATED:20240809T160111Z
LAST-MODIFIED:20240809T160111Z
UID:990981-1723939200-1724025599@gkjjembatanlima.org
SUMMARY:Kebaktian Umum | 18 AGU 2024
DESCRIPTION:Kebaktian Umum GKJ Jemaat Jembatan Lima \nMinggu\, 18 Agustus 2024.\nTema: KRISTUS YANG MEMERDEKAKAN. \nPembicara:\nKebaktian Umum 1 (06.30) : GI. Cuniadi Tan.\nKebaktian Umum 2 (09.00) : GI. Cuniadi Tan.\nKebaktian Umum 3 (11.30) : GI. Christie.\nKebaktian Umum 4 (11.30) : GI. Cuniadi Tan.\nKebaktian Umum 5 (17.00) : Pdt. Imanuel Faofeto. \nLihat Jadwal Kebaktian Umum \n \n 
URL:https://gkjjembatanlima.org/acara/kebaktian-umum-18-agu-2024/
LOCATION:GKJ Jembatan Lima\, GKJ Jembatan Lima Jl. Tambora Raya No.44\, Jakarta Barat\, DKI Jakarta\, 11220\, Indonesia
CATEGORIES:Ibadah
ATTACH;FMTTYPE=image/jpeg:https://gkjjembatanlima.org/wp-content/uploads/2024/08/KU-18-AGU-2024.jpg
END:VEVENT
BEGIN:VEVENT
DTSTART;TZID=Asia/Jakarta:20240818T090000
DTEND;TZID=Asia/Jakarta:20240818T090000
DTSTAMP:20260421T100547
CREATED:20240810T131337Z
LAST-MODIFIED:20240810T131337Z
UID:990984-1723971600-1723971600@gkjjembatanlima.org
SUMMARY:HUT RI di Sekolah Minggu | 18 AGU 2024
DESCRIPTION:SYALLOM Mama\, Papa dan Adik-adik🙌🏻 \nDalam rangka merayakan HUT RI\, Sekolah Minggu akan mengadakan ibadah yang dilanjutkan dengan lomba pada: \nHari/Tanggal = Minggu\, 18 Agustus 2024\nJam = 09.00 – 11.00\nDresscode = merah/putih \nnote:\nUntuk Kelas 2 dan 6SD membawa pensil dan penghapus\, kelas 1 SD membawa pensil warna masing-masing. \nJangan lupa bawa teman baru dan see you!  \nGODBLESS
URL:https://gkjjembatanlima.org/acara/hut-ri-di-sekolah-minggu-18-agu-2024/
LOCATION:Gedung Sekolah Minggu\, Gedung SM Tambora Jl. Tambora Raya No. 24\, Tambora\, Jakarta Barat\, Jakarta\, Jakarta Barat\, 11220\, Indonesia
CATEGORIES:Ibadah
ATTACH;FMTTYPE=image/jpeg:https://gkjjembatanlima.org/wp-content/uploads/2024/08/SM-18-AGU-2024-01.jpg
END:VEVENT
END:VCALENDAR