BEGIN:VCALENDAR
VERSION:2.0
PRODID:-//GKJ Jemaat Jembatan Lima - ECPv6.14.0//NONSGML v1.0//EN
CALSCALE:GREGORIAN
METHOD:PUBLISH
X-ORIGINAL-URL:https://gkjjembatanlima.org
X-WR-CALDESC:Events for GKJ Jemaat Jembatan Lima
REFRESH-INTERVAL;VALUE=DURATION:PT1H
X-Robots-Tag:noindex
X-PUBLISHED-TTL:PT1H
BEGIN:VTIMEZONE
TZID:Asia/Jakarta
BEGIN:STANDARD
TZOFFSETFROM:+0700
TZOFFSETTO:+0700
TZNAME:WIB
DTSTART:20240101T000000
END:STANDARD
END:VTIMEZONE
BEGIN:VEVENT
DTSTART;TZID=Asia/Jakarta:20240921T160000
DTEND;TZID=Asia/Jakarta:20240921T160000
DTSTAMP:20260421T083805
CREATED:20240908T035456Z
LAST-MODIFIED:20240908T035456Z
UID:991044-1726934400-1726934400@gkjjembatanlima.org
SUMMARY:Ibadah Syukur Misi GKJ | 21 SEP 2024
DESCRIPTION:Hadirilah Ibadah Syukur Misi GKJ\nTema: “BANGKIT MENANGKAN DUNIA” \nPembicara: Pdt. Lee Mee On. \nHari Sabtu\, 21 September 2024 \nPukul 16.00 WIB \nBertempat di GKJ Jemaat Kartini \nBahasa: Mandarin & Indonesia \nSegera daftarkan diri anda di Gereja setempat untuk mendapatkan Tiket Undangan.
URL:https://gkjjembatanlima.org/acara/ibadah-syukur-misi-gkj-21-sep-2024/
LOCATION:GKJ Jemaat Kartini\, GKJ Kartini. Jl. Kartini V No. 16C\, Jakarta\, DKI Jakarta\, 10750\, Indonesia
CATEGORIES:Ibadah
ATTACH;FMTTYPE=image/jpeg:https://gkjjembatanlima.org/wp-content/uploads/2024/09/Pekan-Misi-2024.jpg
END:VEVENT
BEGIN:VEVENT
DTSTART;TZID=Asia/Jakarta:20240921T190000
DTEND;TZID=Asia/Jakarta:20240921T190000
DTSTAMP:20260421T083805
CREATED:20240826T123451Z
LAST-MODIFIED:20240914T124759Z
UID:991005-1726945200-1726945200@gkjjembatanlima.org
SUMMARY:Komisi Pemuda Talk Show | 21 SEP 2024
DESCRIPTION:Komisi Pemuda pada hari Sabtu\, 21 September 2024 pukul 19:00 WIB. \nTalk Show bersama Echa Soemantri. \nMengundang setiap pelayan KU 1-5\, T4C\, KP\, dan SM untuk menghadirinya. \nTema: SOLID LIKE A ROCK\, SHINE LIKE A STAR.\nNarasumber: Echa Soemantri. \nBertempat di Ruang Ibadah\nGKJ Jemaat Jembatan Lima\nJl. Tambora Raya No. 44\,\nJakarta-Barat.
URL:https://gkjjembatanlima.org/acara/komisi-pemuda-talk-show-21-sep-2024/
LOCATION:GKJ Jembatan Lima\, GKJ Jembatan Lima Jl. Tambora Raya No.44\, Jakarta Barat\, DKI Jakarta\, 11220\, Indonesia
CATEGORIES:Ibadah
ATTACH;FMTTYPE=image/webp:https://gkjjembatanlima.org/wp-content/uploads/2024/08/kp-21-sep-2024-66c9d312dd26d.webp
END:VEVENT
END:VCALENDAR