BEGIN:VCALENDAR
VERSION:2.0
PRODID:-//GKJ Jemaat Jembatan Lima - ECPv6.14.0//NONSGML v1.0//EN
CALSCALE:GREGORIAN
METHOD:PUBLISH
X-ORIGINAL-URL:https://gkjjembatanlima.org
X-WR-CALDESC:Events for GKJ Jemaat Jembatan Lima
REFRESH-INTERVAL;VALUE=DURATION:PT1H
X-Robots-Tag:noindex
X-PUBLISHED-TTL:PT1H
BEGIN:VTIMEZONE
TZID:Asia/Jakarta
BEGIN:STANDARD
TZOFFSETFROM:+0700
TZOFFSETTO:+0700
TZNAME:WIB
DTSTART:20250101T000000
END:STANDARD
END:VTIMEZONE
BEGIN:VEVENT
DTSTART;TZID=Asia/Jakarta:20250927T190000
DTEND;TZID=Asia/Jakarta:20250927T210000
DTSTAMP:20260420T134302
CREATED:20250920T153652Z
LAST-MODIFIED:20250920T153729Z
UID:992467-1758999600-1759006800@gkjjembatanlima.org
SUMMARY:Komisi Pemuda | 27 SEP 2025
DESCRIPTION:Komisi Pemuda pada hari Sabtu\, 27 September 2025 pukul 19:00 WIB. \nPRAISE AND WORSHIP x GKJ JEMBATAN BESI \nTema: BOUND BY HIS PRESENCE. \nBertempat di Ruang Ibadah Lt. 2\nGKJ Jemaat Jembatan Lima\nJl. Tambora Raya No. 44\,\nJakarta-Barat. \nKami mengundang jemaat khususnya pemuda-pemudi untuk menghadirinya. \n \n 
URL:https://gkjjembatanlima.org/acara/komisi-pemuda-27-sep-2025/
LOCATION:GKJ Jembatan Lima\, GKJ Jembatan Lima Jl. Tambora Raya No.44\, Jakarta Barat\, DKI Jakarta\, 11220\, Indonesia
CATEGORIES:Ibadah
ATTACH;FMTTYPE=image/jpeg:https://gkjjembatanlima.org/wp-content/uploads/2025/09/KP-27-SEP-2025.jpg
END:VEVENT
END:VCALENDAR