BEGIN:VCALENDAR
VERSION:2.0
PRODID:-//GKJ Jemaat Jembatan Lima - ECPv6.14.0//NONSGML v1.0//EN
CALSCALE:GREGORIAN
METHOD:PUBLISH
X-ORIGINAL-URL:https://gkjjembatanlima.org
X-WR-CALDESC:Events for GKJ Jemaat Jembatan Lima
REFRESH-INTERVAL;VALUE=DURATION:PT1H
X-Robots-Tag:noindex
X-PUBLISHED-TTL:PT1H
BEGIN:VTIMEZONE
TZID:Asia/Jakarta
BEGIN:STANDARD
TZOFFSETFROM:+0700
TZOFFSETTO:+0700
TZNAME:WIB
DTSTART:20250101T000000
END:STANDARD
END:VTIMEZONE
BEGIN:VEVENT
DTSTART;TZID=Asia/Jakarta:20260314T190000
DTEND;TZID=Asia/Jakarta:20260314T190000
DTSTAMP:20260420T012351
CREATED:20260307T132803Z
LAST-MODIFIED:20260307T132803Z
UID:993288-1773514800-1773514800@gkjjembatanlima.org
SUMMARY:Komisi Pemuda | 14 MAR 2026
DESCRIPTION:Komisi Pemuda pada hari Sabtu\, 14 Maret 2026 pukul 19:00 WIB. \nTema: KEMBALI KE HATI YANG BENAR.\nPembicara: G.I. Widya Laras. \nBertempat di Ruang Ibadah Lt. 2\nGKJ Jemaat Jembatan Lima\nJl. Tambora Raya No. 44\,\nJakarta-Barat. \nKami mengundang jemaat khususnya pemuda-pemudi untuk menghadirinya. \n \n 
URL:https://gkjjembatanlima.org/acara/komisi-pemuda-14-mar-2026/
LOCATION:GKJ Jembatan Lima\, GKJ Jembatan Lima Jl. Tambora Raya No.44\, Jakarta Barat\, DKI Jakarta\, 11220\, Indonesia
CATEGORIES:Ibadah
ATTACH;FMTTYPE=image/jpeg:https://gkjjembatanlima.org/wp-content/uploads/2026/03/KP-14-MAR-2026.jpg
END:VEVENT
BEGIN:VEVENT
DTSTART;VALUE=DATE:20260308
DTEND;VALUE=DATE:20260309
DTSTAMP:20260420T012351
CREATED:20260228T130037Z
LAST-MODIFIED:20260301T024352Z
UID:993251-1772928000-1773014399@gkjjembatanlima.org
SUMMARY:Kebaktian Umum | 08 MAR 2026
DESCRIPTION:Kebaktian Umum GKJ Jemaat Jembatan Lima\n五角桥堂会主日崇拜.\n\nMinggu\, 08 Maret 2026\n2026年3月8日 星期日. \nTema 主题: MENGANDALKAN TUHAN DI TENGAH KRISIS 在危機中依靠上帝. \nPengkhotbah 讲员:\nKebaktian Umum 1 (06.30) : G.I. Daniel Kristiawan 戴耐強傳道.\nKebaktian Umum 2 (09.00) : G.I. Daniel Kristiawan 戴耐強傳道.\nKebaktian Umum 3 (09.00) : G.I. Widayanti Emmanuella.\nKebaktian Umum 4 (11.30) : G.I. Daniel Kristiawan 戴耐強傳道.\nKebaktian Umum 5 (17.00) : G.I. Widya Laras 范萌谐传道. \nLihat Jadwal Kebaktian Umum
URL:https://gkjjembatanlima.org/acara/kebaktian-umum-08-mar-2026-2/
LOCATION:GKJ Jembatan Lima\, GKJ Jembatan Lima Jl. Tambora Raya No.44\, Jakarta Barat\, DKI Jakarta\, 11220\, Indonesia
CATEGORIES:Ibadah
ATTACH;FMTTYPE=image/jpeg:https://gkjjembatanlima.org/wp-content/uploads/2026/02/KU-08-MAR-2026.jpg
END:VEVENT
BEGIN:VEVENT
DTSTART;TZID=Asia/Jakarta:20260307T190000
DTEND;TZID=Asia/Jakarta:20260307T190000
DTSTAMP:20260420T012352
CREATED:20260221T060945Z
LAST-MODIFIED:20260301T085522Z
UID:993228-1772910000-1772910000@gkjjembatanlima.org
SUMMARY:HUT Komisi Pemuda | 07 MAR 2026
DESCRIPTION:Perayaan HUT Komisi Pemuda yang ke-41 pada hari Sabtu\, 07 Maret 2026 pukul 19:00 WIB. \nTema: FAITH UNDER PRESSURE. \nBertempat di Ruang Ibadah\nGKJ Jemaat Jembatan Lima\nJl. Tambora Raya No. 44\,\nJakarta-Barat. \nKami mengundang jemaat khususnya pemuda-pemudi untuk menghadirinya. \n \n 
URL:https://gkjjembatanlima.org/acara/hut-komisi-pemuda-07-mar-2026/
LOCATION:GKJ Jembatan Lima\, GKJ Jembatan Lima Jl. Tambora Raya No.44\, Jakarta Barat\, DKI Jakarta\, 11220\, Indonesia
CATEGORIES:Ibadah
ATTACH;FMTTYPE=image/jpeg:https://gkjjembatanlima.org/wp-content/uploads/2026/02/kp-hut-polos.jpg
END:VEVENT
BEGIN:VEVENT
DTSTART;TZID=Asia/Jakarta:20260303T183000
DTEND;TZID=Asia/Jakarta:20260303T183000
DTSTAMP:20260420T012352
CREATED:20260214T132428Z
LAST-MODIFIED:20260214T132428Z
UID:993195-1772562600-1772562600@gkjjembatanlima.org
SUMMARY:Ibadah Pasutri | 03 MAR 2026
DESCRIPTION:Ibadah Pasutri akan diadakan pada: \nHari Selasa\, 03 Maret 2026 \nPukul 18.30 WIB \nBertempat di \nGKJ Jembatan Lima\nJl. Tambora Raya No.44 \nTema: BAHASA CINTA DALAM RUMAH TANGGA. \nPembicara: Pdt. Faoziduhu Lahagu\, M.Th. \nKami mengundang jemaat Pasutri untuk dapat menghadirinya.
URL:https://gkjjembatanlima.org/acara/ibadah-pasutri-03-mar-2026/
LOCATION:GKJ Jembatan Lima\, GKJ Jembatan Lima Jl. Tambora Raya No.44\, Jakarta Barat\, DKI Jakarta\, 11220\, Indonesia
CATEGORIES:Ibadah
ATTACH;FMTTYPE=image/jpeg:https://gkjjembatanlima.org/wp-content/uploads/2026/02/IBADAH-PASUTRI-03-MAR-2026.jpg
END:VEVENT
BEGIN:VEVENT
DTSTART;TZID=Asia/Jakarta:20260301T170000
DTEND;TZID=Asia/Jakarta:20260301T170000
DTSTAMP:20260420T012352
CREATED:20260207T145944Z
LAST-MODIFIED:20260214T131259Z
UID:993166-1772384400-1772384400@gkjjembatanlima.org
SUMMARY:KKR | 01 MAR 2026
DESCRIPTION:Kebaktian Kebangunan Rohani (KKR) Mandarin-Indonesia GKJ\n华语-印尼语培灵布道会椰嘉達基督徒會堂\nHari & Tanggal (日期) : Minggu\, 01 Maret 2026 (2026年3月1日 星期日).\nWaktu (时间) : 17.00 WIB (下午五点). \nTema 主题: HIDUP YANG BERBAHAGIA 辛福人生.\nPembicara 講員: Pdt. Zhang Han Lin (Singapore) (張漢林牧師(新加坡)). \nLokasi 地點 :\nGKJ Jemaat Jembatan Lima\nJl. Tambora Raya No. 44\, Jakarta Barat \n“Doakan & ajak keluarga\, kerabat dan teman yang belum percaya Tuhan menghadirinya”\n“请代祷欢迎带尚未信主的亲戚朋友们踊跃参加” \nNote: Kartu undangan dapat diambil melalui tim KU masing-masing.
URL:https://gkjjembatanlima.org/acara/kkr-01-mar-2026-2/
LOCATION:GKJ Jembatan Lima\, GKJ Jembatan Lima Jl. Tambora Raya No.44\, Jakarta Barat\, DKI Jakarta\, 11220\, Indonesia
CATEGORIES:Ibadah
ATTACH;FMTTYPE=image/jpeg:https://gkjjembatanlima.org/wp-content/uploads/2026/02/KKR-GKJ-01-MAR-2026.jpg
END:VEVENT
BEGIN:VEVENT
DTSTART;VALUE=DATE:20260301
DTEND;VALUE=DATE:20260302
DTSTAMP:20260420T012352
CREATED:20260221T054320Z
LAST-MODIFIED:20260222T011502Z
UID:993209-1772323200-1772409599@gkjjembatanlima.org
SUMMARY:Kebaktian Umum & Perjamuan Kudus | 01 MAR 2026
DESCRIPTION:Kebaktian Umum GKJ Jemaat Jembatan Lima &\nPerjamuan Kudus Bulan Maret 2026\n五角桥堂会主日崇拜暨2026年3月圣餐.\nMinggu\, 01 Maret 2026\n2026年3月1日 星期日. \nTema 主题: IMAN YANG DIUJI DAN DIMURNIKAN 被試驗和驗淨的信心. \nPengkhotbah 讲员:\nKebaktian Umum 1 (06.30) : Pdt. Ang Tjoe Mio 洪祖茂牧師.\nKebaktian Umum 2 (09.00) : Pdt. Ang Tjoe Mio 洪祖茂牧師.\nKebaktian Umum 4 (11.30) : Pdt. Ang Tjoe Mio 洪祖茂牧師.\nKebaktian Umum 5 (17.00) : KKR: Pdt. Zhang Han Lin 張漢林牧師. \nLihat Jadwal Kebaktian Umum
URL:https://gkjjembatanlima.org/acara/kebaktian-umum-perjamuan-kudus-01-mar-2026/
LOCATION:GKJ Jembatan Lima\, GKJ Jembatan Lima Jl. Tambora Raya No.44\, Jakarta Barat\, DKI Jakarta\, 11220\, Indonesia
CATEGORIES:Ibadah
ATTACH;FMTTYPE=image/jpeg:https://gkjjembatanlima.org/wp-content/uploads/2026/02/KU-01-MAR-2026.jpg
END:VEVENT
BEGIN:VEVENT
DTSTART;TZID=Asia/Jakarta:20260228T190000
DTEND;TZID=Asia/Jakarta:20260228T190000
DTSTAMP:20260420T012352
CREATED:20260221T054904Z
LAST-MODIFIED:20260221T054904Z
UID:993216-1772305200-1772305200@gkjjembatanlima.org
SUMMARY:Komisi Pemuda | 28 FEB 2026
DESCRIPTION:Komisi Pemuda pada hari Sabtu\, 28 Februari 2026 pukul 19:00 WIB. \nAcara: FELLOWSHIP.\nPembicara: G.I. Widya Laras. \nBertempat di Ruang Ibadah Lt. 2\nGKJ Jemaat Jembatan Lima\nJl. Tambora Raya No. 44\,\nJakarta-Barat. \nKami mengundang jemaat khususnya pemuda-pemudi untuk menghadirinya. \n \n 
URL:https://gkjjembatanlima.org/acara/komisi-pemuda-28-feb-2026/
LOCATION:GKJ Jembatan Lima\, GKJ Jembatan Lima Jl. Tambora Raya No.44\, Jakarta Barat\, DKI Jakarta\, 11220\, Indonesia
CATEGORIES:Ibadah
ATTACH;FMTTYPE=image/jpeg:https://gkjjembatanlima.org/wp-content/uploads/2026/02/KP-28-FEB-2026.jpg
END:VEVENT
BEGIN:VEVENT
DTSTART;TZID=Asia/Jakarta:20260227T150000
DTEND;TZID=Asia/Jakarta:20260227T150000
DTSTAMP:20260420T012352
CREATED:20260221T055403Z
LAST-MODIFIED:20260221T055519Z
UID:993219-1772204400-1772204400@gkjjembatanlima.org
SUMMARY:Ibadah Usia Sukacita | 27 FEB 2026
DESCRIPTION:Ibadah Usia Sukacita GKJ Jembatan Lima\n雅加达基督徒堂五角桥堂会欢乐团契聚会\nKami mengundang Saudara/i yang berusia 50 Tahun keatas untuk menghadiri Ibadah Usia Sukacita.\n本堂欢乐团契聚会邀请五十岁以上兄姐们踊跃来参加 同沐主恩 \nTema 主题: \nMENGASIHI TUHAN DENGAN SEGENAP HATI\, JIWA\, DAN RAGA\n尽心、尽性、尽意、尽力爱主. \nPengkhotbah 讲员: \nPdt. Cong Cin Bui. \nHari & Tanggal 日期: \nJumat\, 27 Februari 2026 \n2026年2月27日 星期五. \nWaktu 时间: \n15:00 WIB \n下午三点. \n \n 
URL:https://gkjjembatanlima.org/acara/ibadah-usia-sukacita-27-feb-2026/
LOCATION:GKJ Jembatan Lima\, GKJ Jembatan Lima Jl. Tambora Raya No.44\, Jakarta Barat\, DKI Jakarta\, 11220\, Indonesia
CATEGORIES:Ibadah
ATTACH;FMTTYPE=image/jpeg:https://gkjjembatanlima.org/wp-content/uploads/2026/02/US-27-FEB-2026.jpg
END:VEVENT
BEGIN:VEVENT
DTSTART;VALUE=DATE:20260222
DTEND;VALUE=DATE:20260223
DTSTAMP:20260420T012352
CREATED:20260214T130709Z
LAST-MODIFIED:20260220T182016Z
UID:993188-1771718400-1771804799@gkjjembatanlima.org
SUMMARY:Kebaktian Umum | 22 FEB 2026
DESCRIPTION:Kebaktian Umum GKJ Jemaat Jembatan Lima\n五角桥堂会主日崇拜.\n\nMinggu\, 22 Februari 2026\n2026年2月22日 星期日. \nTema 主题: KEAGUNGAN HUKUM KASIH 律法之愛最偉大. \nPengkhotbah 讲员:\nKebaktian Umum 1 (06.30) : G.I. Alfa Imannuel 于来發傳道.\nKebaktian Umum 2 (09.00) : G.I. Alfa Imannuel 于来發傳道.\nKebaktian Umum 3 (09.00) : Pdt. Grace Bustami.\nKebaktian Umum 4 (11.30) : G.I. Alfa Imannuel 于来發傳道.\nKebaktian Umum 5 (17.00) : G.I. Alfa Imannuel 于来發傳道. \nLihat Jadwal Kebaktian Umum \n 
URL:https://gkjjembatanlima.org/acara/kebaktian-umum-22-feb-2026/
LOCATION:GKJ Jembatan Lima\, GKJ Jembatan Lima Jl. Tambora Raya No.44\, Jakarta Barat\, DKI Jakarta\, 11220\, Indonesia
CATEGORIES:Ibadah
ATTACH;FMTTYPE=image/jpeg:https://gkjjembatanlima.org/wp-content/uploads/2026/02/KU-22-FEB-2026.jpg
END:VEVENT
BEGIN:VEVENT
DTSTART;TZID=Asia/Jakarta:20260221T190000
DTEND;TZID=Asia/Jakarta:20260221T190000
DTSTAMP:20260420T012352
CREATED:20260214T130221Z
LAST-MODIFIED:20260214T130221Z
UID:993184-1771700400-1771700400@gkjjembatanlima.org
SUMMARY:Komisi Pemuda | 21 FEB 2026
DESCRIPTION:Komisi Pemuda pada hari Sabtu\, 21 Februari 2026 pukul 19:00 WIB. \nTema: MORE THAN ANGPAO.\nPembicara: Ev. Sudi Hartono. \nBertempat di Ruang Ibadah Lt. 2\nGKJ Jemaat Jembatan Lima\nJl. Tambora Raya No. 44\,\nJakarta-Barat. \nKami mengundang jemaat khususnya pemuda-pemudi untuk menghadirinya. \n \n 
URL:https://gkjjembatanlima.org/acara/komisi-pemuda-21-feb-2026/
LOCATION:GKJ Jembatan Lima\, GKJ Jembatan Lima Jl. Tambora Raya No.44\, Jakarta Barat\, DKI Jakarta\, 11220\, Indonesia
CATEGORIES:Ibadah
ATTACH;FMTTYPE=image/jpeg:https://gkjjembatanlima.org/wp-content/uploads/2026/02/KP-21-FEB-2026.jpg
END:VEVENT
BEGIN:VEVENT
DTSTART;VALUE=DATE:20260215
DTEND;VALUE=DATE:20260216
DTSTAMP:20260420T012352
CREATED:20260207T144157Z
LAST-MODIFIED:20260212T032550Z
UID:993153-1771113600-1771199999@gkjjembatanlima.org
SUMMARY:Kebaktian Umum | 15 FEB 2026
DESCRIPTION:Kebaktian Umum GKJ Jemaat Jembatan Lima\n五角桥堂会主日崇拜.\n\nMinggu\, 15 Februari 2026\n2026年2月15日 星期日. \nTema 主题: KASIH: PERINTAH YANG MEMBEBASKAN 愛:得自由的命令. \nPengkhotbah 讲员:\nKebaktian Umum 1 (06.30) : G.I. Cuniadi Tan 陈良春傳道.\nKebaktian Umum 2 (09.00) : G.I. Cuniadi Tan 陈良春傳道.\nKebaktian Umum 3 (09.00) : G.I. Swannius Bong 蔡國閃傳道.\nKebaktian Umum 4 (11.30) : G.I. Cuniadi Tan 陈良春傳道.\nKebaktian Umum 5 (17.00) : Philip Bong 刘秒亮. \nLihat Jadwal Kebaktian Umum
URL:https://gkjjembatanlima.org/acara/kebaktian-umum-15-feb-2026/
LOCATION:GKJ Jembatan Lima\, GKJ Jembatan Lima Jl. Tambora Raya No.44\, Jakarta Barat\, DKI Jakarta\, 11220\, Indonesia
CATEGORIES:Ibadah
ATTACH;FMTTYPE=image/jpeg:https://gkjjembatanlima.org/wp-content/uploads/2026/02/KU-15-FEB-2026.jpg
END:VEVENT
BEGIN:VEVENT
DTSTART;TZID=Asia/Jakarta:20260214T190000
DTEND;TZID=Asia/Jakarta:20260214T190000
DTSTAMP:20260420T012352
CREATED:20260207T143915Z
LAST-MODIFIED:20260207T143915Z
UID:993150-1771095600-1771095600@gkjjembatanlima.org
SUMMARY:Komisi Pemuda | 14 FEB 2026
DESCRIPTION:Komisi Pemuda pada hari Sabtu\, 14 Februari 2026 pukul 19:00 WIB. \nTema: DIKENAL\, DITERIMA\, DAN DIKASIHI.\nPembicara: G.I. Noriana Nori. \nBertempat di Ruang Ibadah Lt. 2\nGKJ Jemaat Jembatan Lima\nJl. Tambora Raya No. 44\,\nJakarta-Barat. \nKami mengundang jemaat khususnya pemuda-pemudi untuk menghadirinya. \n \n 
URL:https://gkjjembatanlima.org/acara/komisi-pemuda-14-feb-2026/
LOCATION:GKJ Jembatan Lima\, GKJ Jembatan Lima Jl. Tambora Raya No.44\, Jakarta Barat\, DKI Jakarta\, 11220\, Indonesia
CATEGORIES:Ibadah
ATTACH;FMTTYPE=image/jpeg:https://gkjjembatanlima.org/wp-content/uploads/2026/02/KP14-FEB-2026.jpg
END:VEVENT
BEGIN:VEVENT
DTSTART;VALUE=DATE:20260208
DTEND;VALUE=DATE:20260209
DTSTAMP:20260420T012352
CREATED:20260131T132328Z
LAST-MODIFIED:20260208T014722Z
UID:993113-1770508800-1770595199@gkjjembatanlima.org
SUMMARY:Kebaktian Umum | 08 FEB 2026
DESCRIPTION:Kebaktian Umum GKJ Jemaat Jembatan Lima\n五角桥堂会主日崇拜.\n\nMinggu\, 08 Februari 2026\n2026年2月8日 星期日. \nTema 主题: KASIH KEPADA YANG BERBEDA 愛那些與我們不同的. \nPembicara 講員:\nKebaktian Umum 1 (06.30) : G.I. Stanley Theofilus.\nKebaktian Umum 2 (09.00) : G.I. Stanley Theofilus.\nKebaktian Umum 3 (09.00) : G.I. Widya Tuluswati 李維錦傳道.\nKebaktian Umum 4 (11.30) : G.I. Stanley Theofilus.\nKebaktian Umum 5 (17.00) : G.I. Stanley Theofilus. \nLihat Jadwal Kebaktian Umum \n 
URL:https://gkjjembatanlima.org/acara/kebaktian-umum-08-feb-2026/
LOCATION:GKJ Jembatan Lima\, GKJ Jembatan Lima Jl. Tambora Raya No.44\, Jakarta Barat\, DKI Jakarta\, 11220\, Indonesia
CATEGORIES:Ibadah
ATTACH;FMTTYPE=image/jpeg:https://gkjjembatanlima.org/wp-content/uploads/2026/01/KU-08-FEB-2026.jpg
END:VEVENT
BEGIN:VEVENT
DTSTART;TZID=Asia/Jakarta:20260207T190000
DTEND;TZID=Asia/Jakarta:20260207T190000
DTSTAMP:20260420T012352
CREATED:20260131T131800Z
LAST-MODIFIED:20260131T131800Z
UID:993110-1770490800-1770490800@gkjjembatanlima.org
SUMMARY:Komisi Pemuda | 07 FEB 2026
DESCRIPTION:Komisi Pemuda pada hari Sabtu\, 07 Februari 2026 pukul 19:00 WIB. \nTema: MENCINTAI HANYA UNTUK PEMBERANI.\nPembicara: Sdr. Donny. \nBertempat di Ruang Ibadah Lt. 2\nGKJ Jemaat Jembatan Lima\nJl. Tambora Raya No. 44\,\nJakarta-Barat. \nKami mengundang jemaat khususnya pemuda-pemudi untuk menghadirinya. \n \n 
URL:https://gkjjembatanlima.org/acara/komisi-pemuda-07-feb-2026/
LOCATION:GKJ Jembatan Lima\, GKJ Jembatan Lima Jl. Tambora Raya No.44\, Jakarta Barat\, DKI Jakarta\, 11220\, Indonesia
CATEGORIES:Ibadah
ATTACH;FMTTYPE=image/jpeg:https://gkjjembatanlima.org/wp-content/uploads/2026/01/KP-07-FEB-2026.jpg
END:VEVENT
BEGIN:VEVENT
DTSTART;VALUE=DATE:20260201
DTEND;VALUE=DATE:20260202
DTSTAMP:20260420T012352
CREATED:20260124T132342Z
LAST-MODIFIED:20260125T041555Z
UID:993092-1769904000-1769990399@gkjjembatanlima.org
SUMMARY:Kebaktian Umum & Perjamuan Kudus | 01 FEB2026
DESCRIPTION:Kebaktian Umum GKJ Jemaat Jembatan Lima &\nPerjamuan Kudus Bulan Februari 2026\n五角桥堂会主日崇拜暨2026年2月圣餐.\nMinggu\, 01 Februari 2026\n2026年2月1日星期日. \nTema 主题: KASIH: KEBEBASAN ATAU KEHARUSAN? 愛:是自由或必須? \nPembicara 講員:\nKebaktian Umum 1 (06.30) : Pdt. Ang Tjoe Mio 洪祖茂牧師.\nKebaktian Umum 2 (09.00) : Pdt. Ang Tjoe Mio 洪祖茂牧師.\nKebaktian Umum 4 (11.30) : Pdt. Ang Tjoe Mio 洪祖茂牧師.\nKebaktian Umum 5 (17.00) : Pdt. Ang Tjoe Mio 洪祖茂牧師. \nLihat Jadwal Kebaktian Umum
URL:https://gkjjembatanlima.org/acara/kebaktian-umum-perjamuan-kudus-01-feb2026/
LOCATION:GKJ Jembatan Lima\, GKJ Jembatan Lima Jl. Tambora Raya No.44\, Jakarta Barat\, DKI Jakarta\, 11220\, Indonesia
CATEGORIES:Ibadah
ATTACH;FMTTYPE=image/jpeg:https://gkjjembatanlima.org/wp-content/uploads/2026/01/KU-01-FEB-2026.jpg
END:VEVENT
BEGIN:VEVENT
DTSTART;TZID=Asia/Jakarta:20260131T190000
DTEND;TZID=Asia/Jakarta:20260131T190000
DTSTAMP:20260420T012352
CREATED:20260124T125546Z
LAST-MODIFIED:20260124T125546Z
UID:993089-1769886000-1769886000@gkjjembatanlima.org
SUMMARY:Komisi Pemuda | 31 JAN 2026
DESCRIPTION:Komisi Pemuda pada hari Sabtu\, 31 Januari 2026 pukul 19:00 WIB. \nTema: HIDUP HARUS TERUS BERJALAN.\nPembicara: Pdt. Ang Tjoe Mio. \nBertempat di Ruang Ibadah Lt. 2\nGKJ Jemaat Jembatan Lima\nJl. Tambora Raya No. 44\,\nJakarta-Barat. \nKami mengundang jemaat khususnya pemuda-pemudi untuk menghadirinya. \n \n 
URL:https://gkjjembatanlima.org/acara/komisi-pemuda-31-jan-2026/
LOCATION:GKJ Jembatan Lima\, GKJ Jembatan Lima Jl. Tambora Raya No.44\, Jakarta Barat\, DKI Jakarta\, 11220\, Indonesia
CATEGORIES:Ibadah
ATTACH;FMTTYPE=image/jpeg:https://gkjjembatanlima.org/wp-content/uploads/2026/01/KP-31-JAN-2026.jpg
END:VEVENT
BEGIN:VEVENT
DTSTART;VALUE=DATE:20260125
DTEND;VALUE=DATE:20260126
DTSTAMP:20260420T012352
CREATED:20260117T043137Z
LAST-MODIFIED:20260124T132422Z
UID:992949-1769299200-1769385599@gkjjembatanlima.org
SUMMARY:Kebaktian Umum | 25 JAN 2026
DESCRIPTION:Kebaktian Umum GKJ Jemaat Jembatan Lima\n五角桥堂会主日崇拜.\n\nMinggu\, 25 Januari 2026\n2026年1月25日星期日. \nTema 主题: RELASI YANG DIMURNIKAN 純净關係. \nPembicara 講員:\nKebaktian Umum 1 (06.30) : G.I. Alfa Imannuel 于来發傳道.\nKebaktian Umum 2 (09.00) : G.I. Alfa Imannuel 于来發傳道.\nKebaktian Umum 3 (09.00) : G.I. Jennifer Gabriela.\nKebaktian Umum 4 (11.30) : G.I. Andreas Nikodemus 房華平傳道.\nKebaktian Umum 5 (17.00) : G.I. Andreas Nikodemus 房華平傳道. \nLihat Jadwal Kebaktian Umum
URL:https://gkjjembatanlima.org/acara/kebaktian-umum-25-jan-2026/
LOCATION:GKJ Jembatan Lima\, GKJ Jembatan Lima Jl. Tambora Raya No.44\, Jakarta Barat\, DKI Jakarta\, 11220\, Indonesia
CATEGORIES:Ibadah
ATTACH;FMTTYPE=image/jpeg:https://gkjjembatanlima.org/wp-content/uploads/2026/01/KU-25-JAN-2026.jpg
END:VEVENT
BEGIN:VEVENT
DTSTART;TZID=Asia/Jakarta:20260124T190000
DTEND;TZID=Asia/Jakarta:20260124T190000
DTSTAMP:20260420T012352
CREATED:20260117T042523Z
LAST-MODIFIED:20260118T015448Z
UID:992946-1769281200-1769281200@gkjjembatanlima.org
SUMMARY:Komisi Pemuda | 24 JAN 2026
DESCRIPTION:Komisi Pemuda pada hari Sabtu\, 24 Januari 2026 pukul 19:00 WIB. \nTema: KOMUNITAS SEPERJALANAN.\nPembicara: G.I. Widya Laras. \nBertempat di Ruang Ibadah Lt. 2\nGKJ Jemaat Jembatan Lima\nJl. Tambora Raya No. 44\,\nJakarta-Barat. \nKami mengundang jemaat khususnya pemuda-pemudi untuk menghadirinya. \n \n 
URL:https://gkjjembatanlima.org/acara/komisi-pemuda-24-jan-2026/
LOCATION:GKJ Jembatan Lima\, GKJ Jembatan Lima Jl. Tambora Raya No.44\, Jakarta Barat\, DKI Jakarta\, 11220\, Indonesia
CATEGORIES:Ibadah
ATTACH;FMTTYPE=image/jpeg:https://gkjjembatanlima.org/wp-content/uploads/2026/01/KP-24-JAN-2026.jpg
END:VEVENT
BEGIN:VEVENT
DTSTART;TZID=Asia/Jakarta:20260123T150000
DTEND;TZID=Asia/Jakarta:20260123T150000
DTSTAMP:20260420T012352
CREATED:20260117T044113Z
LAST-MODIFIED:20260118T014827Z
UID:992952-1769180400-1769180400@gkjjembatanlima.org
SUMMARY:Ibadah Usia Sukacita | 23 JAN 2026
DESCRIPTION:Ibadah Usia Sukacita GKJ Jembatan Lima\n雅加达基督徒堂五角桥堂会欢乐团契聚会\nKami mengundang Saudara/i yang berusia 50 Tahun keatas untuk menghadiri Ibadah Usia Sukacita.\n本堂欢乐团契聚会邀请五十岁以上兄姐们踊跃来参加 同沐主恩 \nTema 主题: \nKASIH YANG TERUTAMA – MENGENAL HATI BAPA\n最重要的爱 – 认识天父的心. \nPembicara 講員: \nPdt. Siujono Sung 宋國壽牧師. \nHari & Tanggal 日期: \nJumat\, 23 Januari 2026 \n2026年1月23日星期五. \nWaktu 时间: \n15:00 WIB \n下午三点. \n \n 
URL:https://gkjjembatanlima.org/acara/ibadah-usia-sukacita-23-jan-2026/
LOCATION:GKJ Jembatan Lima\, GKJ Jembatan Lima Jl. Tambora Raya No.44\, Jakarta Barat\, DKI Jakarta\, 11220\, Indonesia
CATEGORIES:Ibadah
ATTACH;FMTTYPE=image/jpeg:https://gkjjembatanlima.org/wp-content/uploads/2026/01/US-23-JAN-2026.jpg
END:VEVENT
BEGIN:VEVENT
DTSTART;VALUE=DATE:20260118
DTEND;VALUE=DATE:20260119
DTSTAMP:20260420T012352
CREATED:20260110T132527Z
LAST-MODIFIED:20260118T020231Z
UID:992919-1768694400-1768780799@gkjjembatanlima.org
SUMMARY:Kebaktian Umum | 18 JAN 2026
DESCRIPTION:Kebaktian Umum GKJ Jemaat Jembatan Lima\n五角桥堂会主日崇拜\n\nMinggu\, 18 Januari 2026\n2026年1月18日 星期日. \nTema 主题: POLA PIKIR YANG DILURUSKAN 調正心態. \nPembicara 讲员:\nKebaktian Umum 1 (06.30) : Pdt. Bobby Messakh 馬波比牧師.\nKebaktian Umum 2 (09.00) : Pdt. Bobby Messakh 馬波比牧師.\nKebaktian Umum 3 (09.00) : G.I. Agnes Christina 林玲玲傳道.\nKebaktian Umum 4 (11.30) : Pdt. Bobby Messakh 馬波比牧師.\nKebaktian Umum 5 (17.00) : G.I. Hady Sonatan Dedy 陳順安傳道. \nLihat Jadwal Kebaktian Umum
URL:https://gkjjembatanlima.org/acara/kebaktian-umum-18-jan-2026/
LOCATION:GKJ Jembatan Lima\, GKJ Jembatan Lima Jl. Tambora Raya No.44\, Jakarta Barat\, DKI Jakarta\, 11220\, Indonesia
CATEGORIES:Ibadah
ATTACH;FMTTYPE=image/jpeg:https://gkjjembatanlima.org/wp-content/uploads/2026/01/KU-18-JAN-2026.jpg
END:VEVENT
BEGIN:VEVENT
DTSTART;TZID=Asia/Jakarta:20260117T190000
DTEND;TZID=Asia/Jakarta:20260117T190000
DTSTAMP:20260420T012352
CREATED:20260110T132236Z
LAST-MODIFIED:20260110T132236Z
UID:992916-1768676400-1768676400@gkjjembatanlima.org
SUMMARY:Komisi Pemuda | 17 JAN 2026
DESCRIPTION:Komisi Pemuda pada hari Sabtu\, 17 Januari 2026 pukul 19:00 WIB. \nTema: MENGENAL TUHAN\, MENGENAL DIRI.\nPembicara: G.I. Ronny Sitorus. \nBertempat di Ruang Ibadah Lt. 2\nGKJ Jemaat Jembatan Lima\nJl. Tambora Raya No. 44\,\nJakarta-Barat. \nKami mengundang jemaat khususnya pemuda-pemudi untuk menghadirinya. \n \n 
URL:https://gkjjembatanlima.org/acara/komisi-pemuda-17-jan-2026/
LOCATION:GKJ Jembatan Lima\, GKJ Jembatan Lima Jl. Tambora Raya No.44\, Jakarta Barat\, DKI Jakarta\, 11220\, Indonesia
CATEGORIES:Ibadah
ATTACH;FMTTYPE=image/jpeg:https://gkjjembatanlima.org/wp-content/uploads/2026/01/KP-17-JAN-2026.jpg
END:VEVENT
BEGIN:VEVENT
DTSTART;VALUE=DATE:20260111
DTEND;VALUE=DATE:20260112
DTSTAMP:20260420T012352
CREATED:20260103T042722Z
LAST-MODIFIED:20260103T170602Z
UID:992887-1768089600-1768175999@gkjjembatanlima.org
SUMMARY:Kebaktian Umum | 11 JAN 2026
DESCRIPTION:Kebaktian Umum GKJ Jemaat Jembatan Lima \nMinggu\, 11 Januari 2026.\nTema: IBADAH YANG DIKUDUSKAN 潔净敬拜. \nPembicara:\nKebaktian Umum 1 (06.30) : G.I. Wediya Tuluswati 李維錦傳道.\nKebaktian Umum 2 (09.00) : G.I. Widya Laras 范萌谐传道.\nKebaktian Umum 3 (09.00) : G.I. Noriana Nori 李雅娜傳道.\nKebaktian Umum 4 (11.30) : G.I. Widya Laras 范萌谐传道.\nKebaktian Umum 5 (17.00) : G.I. Wediya Tuluswati 李維錦傳道. \nLihat Jadwal Kebaktian Umum
URL:https://gkjjembatanlima.org/acara/kebaktian-umum-11-jan-2026/
LOCATION:GKJ Jembatan Lima\, GKJ Jembatan Lima Jl. Tambora Raya No.44\, Jakarta Barat\, DKI Jakarta\, 11220\, Indonesia
CATEGORIES:Ibadah
ATTACH;FMTTYPE=image/jpeg:https://gkjjembatanlima.org/wp-content/uploads/2026/01/KU-11-JAN-2026.jpg
END:VEVENT
BEGIN:VEVENT
DTSTART;TZID=Asia/Jakarta:20260110T190000
DTEND;TZID=Asia/Jakarta:20260110T190000
DTSTAMP:20260420T012352
CREATED:20260103T042403Z
LAST-MODIFIED:20260103T042403Z
UID:992882-1768071600-1768071600@gkjjembatanlima.org
SUMMARY:Komisi Pemuda | 10 JAN 2026
DESCRIPTION:Komisi Pemuda pada hari Sabtu\, 10 Januari 2026 pukul 19:00 WIB. \nTema: JALAN SETAPAK HIKMAT.\nPembicara: G.I. Alfa Imannuel. \nBertempat di Ruang Ibadah Lt. 2\nGKJ Jemaat Jembatan Lima\nJl. Tambora Raya No. 44\,\nJakarta-Barat. \nKami mengundang jemaat khususnya pemuda-pemudi untuk menghadirinya. \n \n 
URL:https://gkjjembatanlima.org/acara/komisi-pemuda-10-jan-2026/
LOCATION:GKJ Jembatan Lima\, GKJ Jembatan Lima Jl. Tambora Raya No.44\, Jakarta Barat\, DKI Jakarta\, 11220\, Indonesia
CATEGORIES:Ibadah
ATTACH;FMTTYPE=image/jpeg:https://gkjjembatanlima.org/wp-content/uploads/2026/01/KP-10-JAN-2026.jpg
END:VEVENT
BEGIN:VEVENT
DTSTART;VALUE=DATE:20260104
DTEND;VALUE=DATE:20260105
DTSTAMP:20260420T012352
CREATED:20251227T083531Z
LAST-MODIFIED:20251228T133809Z
UID:992863-1767484800-1767571199@gkjjembatanlima.org
SUMMARY:Kebaktian Umum & Perjamuan Kudus | 04 JAN 2026
DESCRIPTION:Kebaktian Umum GKJ Jemaat Jembatan Lima &\nPerjamuan Kudus Bulan Januari 2026\n \nMinggu\, 04 Januari 2026. \nTema: PRIORITAS YANG DIPULIHKAN 復興優先. \nPembicara:\nKebaktian Umum 1 (06.30) : Pdt. Ang Tjoe Mio 洪祖茂牧師.\nKebaktian Umum 2 (09.00) : Pdt. Ang Tjoe Mio 洪祖茂牧師.\nKebaktian Umum 4 (11.30) : Pdt. Ang Tjoe Mio 洪祖茂牧師.\nKebaktian Umum 5 (17.00) : Pdt. Ang Tjoe Mio 洪祖茂牧師. \nLihat Jadwal Kebaktian Umum
URL:https://gkjjembatanlima.org/acara/kebaktian-umum-perjamuan-kudus-04-jan-2026/
LOCATION:GKJ Jembatan Lima\, GKJ Jembatan Lima Jl. Tambora Raya No.44\, Jakarta Barat\, DKI Jakarta\, 11220\, Indonesia
CATEGORIES:Ibadah
ATTACH;FMTTYPE=image/jpeg:https://gkjjembatanlima.org/wp-content/uploads/2025/12/KU-04-JAN-2026.jpg
END:VEVENT
BEGIN:VEVENT
DTSTART;TZID=Asia/Jakarta:20260103T190000
DTEND;TZID=Asia/Jakarta:20260103T190000
DTSTAMP:20260420T012352
CREATED:20251227T082916Z
LAST-MODIFIED:20251228T133728Z
UID:992859-1767466800-1767466800@gkjjembatanlima.org
SUMMARY:Komisi Pemuda | 03 JAN 2026
DESCRIPTION:Komisi Pemuda pada hari Sabtu\, 03 Januari 2026 pukul 19:00 WIB. \nTema: NEW YEAR NEW ME.\nPembicara: G.I. Andreas Nikodemus. \nBertempat di Ruang Ibadah Lt. 2\nGKJ Jemaat Jembatan Lima\nJl. Tambora Raya No. 44\,\nJakarta-Barat. \nKami mengundang jemaat khususnya pemuda-pemudi untuk menghadirinya. \n \n 
URL:https://gkjjembatanlima.org/acara/komisi-pemuda-03-jan-2026/
LOCATION:GKJ Jembatan Lima\, GKJ Jembatan Lima Jl. Tambora Raya No.44\, Jakarta Barat\, DKI Jakarta\, 11220\, Indonesia
CATEGORIES:Ibadah
ATTACH;FMTTYPE=image/jpeg:https://gkjjembatanlima.org/wp-content/uploads/2025/12/KP-03-JAN-2026.jpg
END:VEVENT
BEGIN:VEVENT
DTSTART;TZID=Asia/Jakarta:20260101T100000
DTEND;TZID=Asia/Jakarta:20260101T100000
DTSTAMP:20260420T012352
CREATED:20251101T162645Z
LAST-MODIFIED:20251108T145512Z
UID:992653-1767261600-1767261600@gkjjembatanlima.org
SUMMARY:IBADAH TAHUN BARU | 01 JAN 2026
DESCRIPTION:IBADAH TAHUN BARU \nHari Kamis\, 01 Januari 2026\nPukul 10:00 WIB\nBertempat di: Ruang Ibadah Lt. 2\, GKJ Jemaat Jembatan Lima. \nTema: HIDUP BARU DALAM KRISTUS (HARAPAN).\nPembicara: G.I. Andreas Nikodemus 房華平傳道. \nIbadah Tahun Baru akan disertai dengan Perjamuan Kudus. Mengundang seluruh jemaat dapat menghadirinya. \n \n 
URL:https://gkjjembatanlima.org/acara/ibadah-tahun-baru-01-jan-2026/
LOCATION:GKJ Jembatan Lima\, GKJ Jembatan Lima Jl. Tambora Raya No.44\, Jakarta Barat\, DKI Jakarta\, 11220\, Indonesia
CATEGORIES:Ibadah
ATTACH;FMTTYPE=image/jpeg:https://gkjjembatanlima.org/wp-content/uploads/2025/11/Ibadah-Tahun-Baru-2026-_rev.jpg
END:VEVENT
BEGIN:VEVENT
DTSTART;VALUE=DATE:20251228
DTEND;VALUE=DATE:20251229
DTSTAMP:20260420T012352
CREATED:20251220T234005Z
LAST-MODIFIED:20251220T234005Z
UID:992838-1766880000-1766966399@gkjjembatanlima.org
SUMMARY:Kebaktian Umum | 28 DES 2025
DESCRIPTION:Kebaktian Umum GKJ Jemaat Jembatan Lima \nMinggu\, 28 Desember 2025.\nTema: SEMUA TENTANG KRISTUS 一切關於基督. \nPembicara:\nKebaktian Umum 1 (06.30) : G.I. Alfa Imannuel 于来發傳道.\nKebaktian Umum 2 (09.00) :G.I. Alfa Imannuel 于来發傳道.\nKebaktian Umum 3 (09.00) : G.I. Widya Laras 范萌谐传道.\nKebaktian Umum 4 (11.30) : G.I. Alfa Imannuel 于来發傳道.\nKebaktian Umum 5 (17.00) : G.I. Alfa Imannuel 于来發傳道. \nLihat Jadwal Kebaktian Umum
URL:https://gkjjembatanlima.org/acara/kebaktian-umum-28-des-2025/
LOCATION:GKJ Jembatan Lima\, GKJ Jembatan Lima Jl. Tambora Raya No.44\, Jakarta Barat\, DKI Jakarta\, 11220\, Indonesia
CATEGORIES:Ibadah
ATTACH;FMTTYPE=image/jpeg:https://gkjjembatanlima.org/wp-content/uploads/2025/12/KU-28-DES-2025.jpg
END:VEVENT
BEGIN:VEVENT
DTSTART;TZID=Asia/Jakarta:20251227T190000
DTEND;TZID=Asia/Jakarta:20251227T190000
DTSTAMP:20260420T012352
CREATED:20251220T234141Z
LAST-MODIFIED:20251220T234141Z
UID:992841-1766862000-1766862000@gkjjembatanlima.org
SUMMARY:Komisi Pemuda | 27 DES 2025
DESCRIPTION:Komisi Pemuda pada hari Sabtu\, 27 Desember 2025 pukul 19:00 WIB. \nAcara: FELLOWSHIP. \nBertempat di Ruang Ibadah Lt. 2\nGKJ Jemaat Jembatan Lima\nJl. Tambora Raya No. 44\,\nJakarta-Barat. \nKami mengundang jemaat khususnya pemuda-pemudi untuk menghadirinya.
URL:https://gkjjembatanlima.org/acara/komisi-pemuda-27-des-2025/
LOCATION:GKJ Jembatan Lima\, GKJ Jembatan Lima Jl. Tambora Raya No.44\, Jakarta Barat\, DKI Jakarta\, 11220\, Indonesia
CATEGORIES:Ibadah
ATTACH;FMTTYPE=image/jpeg:https://gkjjembatanlima.org/wp-content/uploads/2025/12/KP-27-DES-2025.jpg
END:VEVENT
BEGIN:VEVENT
DTSTART;TZID=Asia/Jakarta:20251225T100000
DTEND;TZID=Asia/Jakarta:20251225T120000
DTSTAMP:20260420T012352
CREATED:20251104T024636Z
LAST-MODIFIED:20251108T131010Z
UID:992637-1766656800-1766664000@gkjjembatanlima.org
SUMMARY:NATAL MANDARIN | 25 DES 2025
DESCRIPTION:IBADAH NATAL BAHASA MANDARIN \nHari Kamis\, 25 Desember 2025\nPukul 10:00 WIB\nBertempat di: Ruang Ibadah Lt. 2\, GKJ Jemaat Jembatan Lima. \nTema: BERSAMA DIA\, AKU TENANG ~ 与祂同在，我心安宁.\nPembicara: G.I. Alfa Imannuel 于来發傳道. \nMengundang seluruh jemaat dapat menghadirinya.
URL:https://gkjjembatanlima.org/acara/natal-mandarin-25-des-2025/
LOCATION:GKJ Jembatan Lima\, GKJ Jembatan Lima Jl. Tambora Raya No.44\, Jakarta Barat\, DKI Jakarta\, 11220\, Indonesia
CATEGORIES:Ibadah
ATTACH;FMTTYPE=image/jpeg:https://gkjjembatanlima.org/wp-content/uploads/2025/11/Natal-Mandarin-25-DES-2025-_fix.jpg
END:VEVENT
BEGIN:VEVENT
DTSTART;TZID=Asia/Jakarta:20251224T170000
DTEND;TZID=Asia/Jakarta:20251224T190000
DTSTAMP:20260420T012352
CREATED:20251101T154828Z
LAST-MODIFIED:20251108T130757Z
UID:992634-1766595600-1766602800@gkjjembatanlima.org
SUMMARY:NATAL INDONESIA | 24 DES 2025
DESCRIPTION:IBADAH NATAL BAHASA INDONESIA \nHari Rabu\, 24 Desember 2025\nPukul 17:00 WIB\nBertempat di: Ruang Ibadah Lt. 2\, GKJ Jemaat Jembatan Lima. \nTema: BERSAMA DIA\, AKU TENANG.\nPembicara: G.I. Alfa Imannuel. \nMengundang seluruh jemaat dapat menghadirinya. \n 
URL:https://gkjjembatanlima.org/acara/natal-indonesia-24-des-2025/
LOCATION:GKJ Jembatan Lima\, GKJ Jembatan Lima Jl. Tambora Raya No.44\, Jakarta Barat\, DKI Jakarta\, 11220\, Indonesia
CATEGORIES:Ibadah
ATTACH;FMTTYPE=image/jpeg:https://gkjjembatanlima.org/wp-content/uploads/2025/11/Natal-Indonesia-24-DES-2025.jpg
END:VEVENT
END:VCALENDAR