BEGIN:VCALENDAR
VERSION:2.0
PRODID:-//GKJ Jemaat Jembatan Lima - ECPv6.14.0//NONSGML v1.0//EN
CALSCALE:GREGORIAN
METHOD:PUBLISH
X-ORIGINAL-URL:https://gkjjembatanlima.org
X-WR-CALDESC:Events for GKJ Jemaat Jembatan Lima
REFRESH-INTERVAL;VALUE=DURATION:PT1H
X-Robots-Tag:noindex
X-PUBLISHED-TTL:PT1H
BEGIN:VTIMEZONE
TZID:Asia/Jakarta
BEGIN:STANDARD
TZOFFSETFROM:+0700
TZOFFSETTO:+0700
TZNAME:WIB
DTSTART:20230101T000000
END:STANDARD
END:VTIMEZONE
BEGIN:VEVENT
DTSTART;TZID=Asia/Jakarta:20230930T170000
DTEND;TZID=Asia/Jakarta:20230930T170000
DTSTAMP:20260421T172024
CREATED:20230902T094533Z
LAST-MODIFIED:20230902T094533Z
UID:989656-1696093200-1696093200@gkjjembatanlima.org
SUMMARY:Kebaktian Syukur Misi GKJ Ke-46 (Mandarin-Indonesia)
DESCRIPTION:Hadirilah Kebaktian Syukur Misi Sinode GKJ ke-46. \nDengan Tema: Biarlah Semua Telinga Mendengar. \nBahasa Indonesia:\nSabtu\, 30 September 2023\,\nPukul 17:00 WIB. \nPembicara: GI. Yeni. \nBertempat di GKJ Jemaat Kartini.\nJl. Kartini V No. 16C\, Jakarta Pusat. \nJemaat wajib mendaftarkan diri melalui link yang tertera dibawah ini atau mendaftar di meja pendaftaran gereja lokal masing-masing. \n \n 
URL:https://gkjjembatanlima.org/acara/kebaktian-syukur-misi-gkj-ke-46-mandarin-indonesia/
LOCATION:GKJ Jemaat Kartini\, GKJ Kartini. Jl. Kartini V No. 16C\, Jakarta\, DKI Jakarta\, 10750\, Indonesia
CATEGORIES:Ibadah
END:VEVENT
BEGIN:VEVENT
DTSTART;VALUE=DATE:20230924
DTEND;VALUE=DATE:20230925
DTSTAMP:20260421T172024
CREATED:20230916T105430Z
LAST-MODIFIED:20230916T105430Z
UID:989724-1695513600-1695599999@gkjjembatanlima.org
SUMMARY:Kebaktian Umum Minggu 24 September 2023
DESCRIPTION:Kebaktian Umum GKJ Jemaat Jembatan Lima\nMinggu\, 24 September 2023.\nTema: BISNIS KERAJAAN ALLAH. \nPembicara:\nKU 1 : GI. Noptianus Zendrato.\nKU 2&4 : GI. Noptianus Zendrato.\nKU 5 : GI. Noptianus Zendrato. \nLihat Jadwal Kebaktian Umum
URL:https://gkjjembatanlima.org/acara/kebaktian-umum-minggu-24-september-2023/
LOCATION:GKJ Jembatan Lima\, GKJ Jembatan Lima Jl. Tambora Raya No.44\, Jakarta Barat\, DKI Jakarta\, 11220\, Indonesia
CATEGORIES:Ibadah
END:VEVENT
BEGIN:VEVENT
DTSTART;TZID=Asia/Jakarta:20230923T190000
DTEND;TZID=Asia/Jakarta:20230923T190000
DTSTAMP:20260421T172024
CREATED:20230916T104352Z
LAST-MODIFIED:20230916T104352Z
UID:989718-1695495600-1695495600@gkjjembatanlima.org
SUMMARY:Komisi Pemuda 23 September 2023
DESCRIPTION:Komisi Pemuda pada hari Sabtu\, 23 September 2023 pukul 19:00 WIB. \nTema: Kasih yang Memberi Kekuatan.\nPembicara: GI. Alfa Immanuel. \nBertempat di Ruang Ibadah\nGKJ Jemaat Jembatan Lima\nJl. Tambora Raya No. 44\,\nJakarta-Barat. \nKami mengundang jemaat khususnya pemuda pemudi untuk menghadirinya.
URL:https://gkjjembatanlima.org/acara/komisi-pemuda-23-september-2023/
LOCATION:GKJ Jembatan Lima\, GKJ Jembatan Lima Jl. Tambora Raya No.44\, Jakarta Barat\, DKI Jakarta\, 11220\, Indonesia
CATEGORIES:Ibadah
END:VEVENT
BEGIN:VEVENT
DTSTART;TZID=Asia/Jakarta:20230923T180000
DTEND;TZID=Asia/Jakarta:20230923T180000
DTSTAMP:20260421T172024
CREATED:20230902T093551Z
LAST-MODIFIED:20230902T094115Z
UID:989648-1695492000-1695492000@gkjjembatanlima.org
SUMMARY:Kebaktian Syukur Misi GKJ Ke-46 (Indonesia)
DESCRIPTION:Hadirilah Kebaktian Syukur Misi Sinode GKJ ke-46. \nDengan Tema: Biarlah Semua Telinga Mendengar. \nBahasa Indonesia:\nSabtu\, 23 September 2023\,\nPukul 18:00 WIB. \nPembicara: Pdt. Noh Ruku. \nBertempat di GKJ Jemaat Seasons City.\nSeasons City Mall\,\nLantai UG Unit C01/01 – C01/02\,\nJakarta Barat. \nJemaat wajib mendaftarkan diri melalui link yang tertera dibawah ini atau mendaftar di meja pendaftaran gereja lokal masing-masing. \n \n 
URL:https://gkjjembatanlima.org/acara/kebaktian-syukur-misi-gkj-ke-46-indonesia/
LOCATION:GKJ Jemaat Seasons City\, GKJ Seasons City. Seasons City Mall\, Lt. UG Unit C01/01 - C01/02\, Jakarta\, DKI Jakarta\, 11320\, Indonesia
CATEGORIES:Ibadah
END:VEVENT
BEGIN:VEVENT
DTSTART;VALUE=DATE:20230917
DTEND;VALUE=DATE:20230918
DTSTAMP:20260421T172024
CREATED:20230910T024958Z
LAST-MODIFIED:20230910T024958Z
UID:989703-1694908800-1694995199@gkjjembatanlima.org
SUMMARY:Kebaktian Umum Minggu 17 September 2023
DESCRIPTION:Kebaktian Umum GKJ Jemaat Jembatan Lima\nMinggu\, 17 September 2023.\nTema: PENGINJILAN 5.0 \nPembicara:\nKU 1 : Pdt. Pierre Tilaar\nKU 2&4 : Pdt. Pierre Tilaar\nKU 5 : Pdt. Pierre Tilaar \nLihat Jadwal Kebaktian Umum
URL:https://gkjjembatanlima.org/acara/kebaktian-umum-minggu-17-september-2023/
LOCATION:GKJ Jembatan Lima\, GKJ Jembatan Lima Jl. Tambora Raya No.44\, Jakarta Barat\, DKI Jakarta\, 11220\, Indonesia
CATEGORIES:Ibadah
END:VEVENT
BEGIN:VEVENT
DTSTART;TZID=Asia/Jakarta:20230916T190000
DTEND;TZID=Asia/Jakarta:20230916T190000
DTSTAMP:20260421T172024
CREATED:20230910T023154Z
LAST-MODIFIED:20230910T023154Z
UID:989688-1694890800-1694890800@gkjjembatanlima.org
SUMMARY:Komisi Pemuda 16 September 2023
DESCRIPTION:Komisi Pemuda pada hari Sabtu\, 16 September 2023 pukul 19:00 WIB. \nTema: Setia.\nPembicara: GI. Widya Tuluswati. \nBertempat di Ruang Ibadah\nGKJ Jemaat Jembatan Lima\nJl. Tambora Raya No. 44\,\nJakarta-Barat. \nKami mengundang jemaat khususnya pemuda pemudi untuk menghadirinya.
URL:https://gkjjembatanlima.org/acara/komisi-pemuda-16-september-2023/
LOCATION:GKJ Jembatan Lima\, GKJ Jembatan Lima Jl. Tambora Raya No.44\, Jakarta Barat\, DKI Jakarta\, 11220\, Indonesia
CATEGORIES:Ibadah
END:VEVENT
BEGIN:VEVENT
DTSTART;TZID=Asia/Jakarta:20230910T113000
DTEND;TZID=Asia/Jakarta:20230910T113000
DTSTAMP:20260421T172024
CREATED:20230902T083703Z
LAST-MODIFIED:20230902T083703Z
UID:989640-1694345400-1694345400@gkjjembatanlima.org
SUMMARY:Kebaktian Umum 3 (Muda Remaja) - Minggu 10 September 2023
DESCRIPTION:Kebaktian Umum 3 (Muda Remaja)\nGKJ Jemaat Jembatan Lima\nMinggu\, 10 September 2023.\nPukul 11:30 WIB.\nTema: SIAPAKAH SESAMAKU? \nPembicara: GI. Widya Tuluswati. \nBertempat di Lantai 3 GKJ Jemaat Jembatan Lima.
URL:https://gkjjembatanlima.org/acara/kebaktian-umum-3-muda-remaja-minggu-10-september-2023/
LOCATION:GKJ Jembatan Lima\, GKJ Jembatan Lima Jl. Tambora Raya No.44\, Jakarta Barat\, DKI Jakarta\, 11220\, Indonesia
CATEGORIES:Ibadah
END:VEVENT
BEGIN:VEVENT
DTSTART;VALUE=DATE:20230910
DTEND;VALUE=DATE:20230911
DTSTAMP:20260421T172024
CREATED:20230902T065711Z
LAST-MODIFIED:20230902T065711Z
UID:989622-1694304000-1694390399@gkjjembatanlima.org
SUMMARY:Kebaktian Umum Minggu 10 September 2023
DESCRIPTION:Kebaktian Umum GKJ Jemaat Jembatan Lima\nMinggu\, 10 September 2023.\nTema: SIAPAKAH SESAMAKU? \nPembicara:\nKU 1 : Pdt. Bagus Surjantoro\nKU 2&4 : Pdt. Bagus Surjantoro\nKU 5 : Pdt. Bagus Surjantoro \nLihat Jadwal Kebaktian Umum
URL:https://gkjjembatanlima.org/acara/kebaktian-umum-minggu-10-september-2023/
LOCATION:GKJ Jembatan Lima\, GKJ Jembatan Lima Jl. Tambora Raya No.44\, Jakarta Barat\, DKI Jakarta\, 11220\, Indonesia
CATEGORIES:Ibadah
END:VEVENT
BEGIN:VEVENT
DTSTART;TZID=Asia/Jakarta:20230909T190000
DTEND;TZID=Asia/Jakarta:20230909T190000
DTSTAMP:20260421T172024
CREATED:20230902T075352Z
LAST-MODIFIED:20230902T075352Z
UID:989635-1694286000-1694286000@gkjjembatanlima.org
SUMMARY:Komisi Pemuda 09 September 2023
DESCRIPTION:Komisi Pemuda pada hari Sabtu\, 09 September 2023 pukul 19:00 WIB. \nTema: Tindakan dan Ucapan.\nPembicara: GI. Yuneari Lase. \nBertempat di Ruang Ibadah\nGKJ Jemaat Jembatan Lima\nJl. Tambora Raya No. 44\,\nJakarta-Barat. \nKami mengundang jemaat khususnya pemuda pemudi untuk menghadirinya.
URL:https://gkjjembatanlima.org/acara/komisi-pemuda-09-september-2023/
LOCATION:GKJ Jembatan Lima\, GKJ Jembatan Lima Jl. Tambora Raya No.44\, Jakarta Barat\, DKI Jakarta\, 11220\, Indonesia
CATEGORIES:Ibadah
END:VEVENT
BEGIN:VEVENT
DTSTART;VALUE=DATE:20230903
DTEND;VALUE=DATE:20230904
DTSTAMP:20260421T172024
CREATED:20230827T051058Z
LAST-MODIFIED:20230827T051058Z
UID:989611-1693699200-1693785599@gkjjembatanlima.org
SUMMARY:Perjamuan Kudus September 2023
DESCRIPTION:Perjamuan Kudus bulan September 2023: \nMinggu\, 03 September 2023\ndi seluruh Kebaktian Umum \nLihat Jadwal Kebaktian Umum
URL:https://gkjjembatanlima.org/acara/perjamuan-kudus-september-2023/
LOCATION:GKJ Jembatan Lima\, GKJ Jembatan Lima Jl. Tambora Raya No.44\, Jakarta Barat\, DKI Jakarta\, 11220\, Indonesia
CATEGORIES:Ibadah
ATTACH;FMTTYPE=image/jpeg:https://gkjjembatanlima.org/wp-content/uploads/2023/08/PERJAMUAN-KUDUS-2.jpg
END:VEVENT
BEGIN:VEVENT
DTSTART;TZID=Asia/Jakarta:20230902T190000
DTEND;TZID=Asia/Jakarta:20230902T190000
DTSTAMP:20260421T172024
CREATED:20230827T050227Z
LAST-MODIFIED:20230827T050440Z
UID:989601-1693681200-1693681200@gkjjembatanlima.org
SUMMARY:Komisi Pemuda 02 September 2023
DESCRIPTION:Komisi Pemuda pada hari Sabtu\, 02 September 2023 pukul 19:00 WIB. \nTema: Be Responsible.\nPembicara: Pdt. Ang Tjoe Mio. \nBertempat di Ruang Ibadah\nGKJ Jemaat Jembatan Lima\nJl. Tambora Raya No. 44\,\nJakarta-Barat. \nKami mengundang jemaat khususnya pemuda pemudi untuk menghadirinya.
URL:https://gkjjembatanlima.org/acara/komisi-pemuda-02-september-2023/
LOCATION:GKJ Jembatan Lima\, GKJ Jembatan Lima Jl. Tambora Raya No.44\, Jakarta Barat\, DKI Jakarta\, 11220\, Indonesia
CATEGORIES:Ibadah
ATTACH;FMTTYPE=image/jpeg:https://gkjjembatanlima.org/wp-content/uploads/2023/08/KP-02-SEPT-2023.jpg
END:VEVENT
BEGIN:VEVENT
DTSTART;VALUE=DATE:20230827
DTEND;VALUE=DATE:20230828
DTSTAMP:20260421T172024
CREATED:20230819T141847Z
LAST-MODIFIED:20230819T141847Z
UID:989557-1693094400-1693180799@gkjjembatanlima.org
SUMMARY:Kebaktian Umum Minggu 27 Agustus 2023
DESCRIPTION:Kebaktian Umum GKJ Jemaat Jembatan Lima\nMinggu\, 27 Agustus 2023.\nTema: MENYENDIRI BERSAMA ALLAH. \nLihat Jadwal Kebaktian Umum
URL:https://gkjjembatanlima.org/acara/kebaktian-umum-minggu-27-agustus-2023/
LOCATION:GKJ Jembatan Lima\, GKJ Jembatan Lima Jl. Tambora Raya No.44\, Jakarta Barat\, DKI Jakarta\, 11220\, Indonesia
CATEGORIES:Ibadah
ATTACH;FMTTYPE=image/jpeg:https://gkjjembatanlima.org/wp-content/uploads/2023/08/Flayer-Umum-27-Agust.jpg
END:VEVENT
BEGIN:VEVENT
DTSTART;TZID=Asia/Jakarta:20230826T190000
DTEND;TZID=Asia/Jakarta:20230826T190000
DTSTAMP:20260421T172024
CREATED:20230819T141201Z
LAST-MODIFIED:20230819T141201Z
UID:989550-1693076400-1693076400@gkjjembatanlima.org
SUMMARY:Komisi Pemuda 26 Agustus 2023
DESCRIPTION:Komisi Pemuda pada hari Sabtu\, 26 Agustus 2023 pukul 19:00 WIB. \nAcara: Fellowship \nBertempat di Ruang Ibadah\nGKJ Jemaat Jembatan Lima\nJl. Tambora Raya No. 44\,\nJakarta-Barat. \nKami mengundang jemaat khususnya pemuda pemudi untuk menghadirinya.
URL:https://gkjjembatanlima.org/acara/komisi-pemuda-26-agustus-2023/
LOCATION:GKJ Jembatan Lima\, GKJ Jembatan Lima Jl. Tambora Raya No.44\, Jakarta Barat\, DKI Jakarta\, 11220\, Indonesia
CATEGORIES:Ibadah
ATTACH;FMTTYPE=image/jpeg:https://gkjjembatanlima.org/wp-content/uploads/2023/08/KP-26-AGUST-2023.jpg
END:VEVENT
BEGIN:VEVENT
DTSTART;TZID=Asia/Jakarta:20230825T150000
DTEND;TZID=Asia/Jakarta:20230825T150000
DTSTAMP:20260421T172024
CREATED:20230819T141544Z
LAST-MODIFIED:20230819T141544Z
UID:989554-1692975600-1692975600@gkjjembatanlima.org
SUMMARY:Ibadah Usia Sukacita - 25 Agustus 2023
DESCRIPTION:Ibadah Usia Sukacita GKJ Jembatan Lima\n雅加达基督徒堂五角桥堂会欢乐团契聚会\nKami mengundang Saudara/i yang berusia 50 Tahun keatas untuk menghadiri Ibadah Usia Sukacita.\n本堂欢乐团契聚会邀请五十岁以上兄姐们踊跃来参加 同沐主恩 \nTema:\nSukacita Karena Kebenaran \nPembicara:\nGI. Alfa Imannuel \nHari & Waktu:\nJumat\, 25 Agustus 2023\nPukul 15:00 WIB \n \n 
URL:https://gkjjembatanlima.org/acara/ibadah-usia-sukacita-25-agustus-2023/
LOCATION:GKJ Jembatan Lima\, GKJ Jembatan Lima Jl. Tambora Raya No.44\, Jakarta Barat\, DKI Jakarta\, 11220\, Indonesia
CATEGORIES:Ibadah
ATTACH;FMTTYPE=image/jpeg:https://gkjjembatanlima.org/wp-content/uploads/2023/08/Usia-Sukacita-25-Agust-2023.jpg
END:VEVENT
BEGIN:VEVENT
DTSTART;VALUE=DATE:20230820
DTEND;VALUE=DATE:20230821
DTSTAMP:20260421T172024
CREATED:20230812T032427Z
LAST-MODIFIED:20230812T032427Z
UID:989482-1692489600-1692575999@gkjjembatanlima.org
SUMMARY:Kebaktian Umum Minggu 20 Agustus 2023
DESCRIPTION:Kebaktian Umum GKJ Jemaat Jembatan Lima\nMinggu\, 20 Agustus 2023.\nTema: TENANG DEKAT ALLAH. \nLihat Jadwal Kebaktian Umum
URL:https://gkjjembatanlima.org/acara/kebaktian-umum-minggu-20-agustus-2023/
LOCATION:GKJ Jembatan Lima\, GKJ Jembatan Lima Jl. Tambora Raya No.44\, Jakarta Barat\, DKI Jakarta\, 11220\, Indonesia
CATEGORIES:Ibadah
ATTACH;FMTTYPE=image/jpeg:https://gkjjembatanlima.org/wp-content/uploads/2023/08/Flayer-Umum-13-Agust-1.jpg
END:VEVENT
BEGIN:VEVENT
DTSTART;TZID=Asia/Jakarta:20230819T190000
DTEND;TZID=Asia/Jakarta:20230819T190000
DTSTAMP:20260421T172024
CREATED:20230812T032958Z
LAST-MODIFIED:20230812T033027Z
UID:989487-1692471600-1692471600@gkjjembatanlima.org
SUMMARY:Komisi Pemuda 19 Agustus 2023
DESCRIPTION:Komisi Pemuda pada hari Sabtu\, 19 Agustus 2023 pukul 19:00 WIB. \nTema: Kompak Yuk.\nOleh: GI. Noptianus Zendrato. \nBertempat di Ruang Ibadah\nGKJ Jemaat Jembatan Lima\nJl. Tambora Raya No. 44\,\nJakarta-Barat. \nKami mengundang jemaat khususnya pemuda pemudi untuk menghadirinya.
URL:https://gkjjembatanlima.org/acara/komisi-pemuda-19-agustus-2023/
LOCATION:GKJ Jembatan Lima\, GKJ Jembatan Lima Jl. Tambora Raya No.44\, Jakarta Barat\, DKI Jakarta\, 11220\, Indonesia
CATEGORIES:Ibadah
ATTACH;FMTTYPE=image/jpeg:https://gkjjembatanlima.org/wp-content/uploads/2023/08/KP-19-AGUST-2023.jpg
END:VEVENT
BEGIN:VEVENT
DTSTART;VALUE=DATE:20230813
DTEND;VALUE=DATE:20230814
DTSTAMP:20260421T172024
CREATED:20230806T012920Z
LAST-MODIFIED:20230812T032237Z
UID:989460-1691884800-1691971199@gkjjembatanlima.org
SUMMARY:Kebaktian Umum Minggu 13 Agustus 2023
DESCRIPTION:Kebaktian Umum GKJ Jemaat Jembatan Lima\nMinggu\, 13 Agustus 2023.\nTema: HASRAT AKAN ALLAH. \nLihat Jadwal Kebaktian Umum
URL:https://gkjjembatanlima.org/acara/kebaktian-umum-minggu-13-agustus-2023/
LOCATION:GKJ Jembatan Lima\, GKJ Jembatan Lima Jl. Tambora Raya No.44\, Jakarta Barat\, DKI Jakarta\, 11220\, Indonesia
CATEGORIES:Ibadah
ATTACH;FMTTYPE=image/jpeg:https://gkjjembatanlima.org/wp-content/uploads/2023/08/Flayer-Umum-13-AGUST.jpg
END:VEVENT
BEGIN:VEVENT
DTSTART;TZID=Asia/Jakarta:20230812T190000
DTEND;TZID=Asia/Jakarta:20230812T190000
DTSTAMP:20260421T172024
CREATED:20230805T104043Z
LAST-MODIFIED:20230805T104043Z
UID:989427-1691866800-1691866800@gkjjembatanlima.org
SUMMARY:Komisi Pemuda 12 Agustus 2023
DESCRIPTION:Komisi Pemuda pada hari Sabtu\, 12 Agustus 2023 pukul 19:00 WIB. \nTema: The Power of Evangelism.\nOleh: GI. Alfa Imannuel. \nBertempat di Ruang Ibadah\nGKJ Jemaat Jembatan Lima\nJl. Tambora Raya No. 44\,\nJakarta-Barat. \nKami mengundang jemaat khususnya pemuda pemudi untuk menghadirinya.
URL:https://gkjjembatanlima.org/acara/komisi-pemuda-12-agustus-2023/
LOCATION:GKJ Jembatan Lima\, GKJ Jembatan Lima Jl. Tambora Raya No.44\, Jakarta Barat\, DKI Jakarta\, 11220\, Indonesia
CATEGORIES:Ibadah
ATTACH;FMTTYPE=image/jpeg:https://gkjjembatanlima.org/wp-content/uploads/2023/08/KP-12-AGUSTUS.jpg
END:VEVENT
BEGIN:VEVENT
DTSTART;TZID=Asia/Jakarta:20230810T180000
DTEND;TZID=Asia/Jakarta:20230810T180000
DTSTAMP:20260421T172024
CREATED:20230728T160342Z
LAST-MODIFIED:20230805T103835Z
UID:989407-1691690400-1691690400@gkjjembatanlima.org
SUMMARY:Persekutuan Pasutri 10 Agustus 2023
DESCRIPTION:Departemen Penggembalaan GKJ Jembatan Lima\nPersekutuan Pasutri (Pasangan Suami Istri) GKJ Jemaat Jembatan Lima. \nKamis\, 10 Agustus 2023.\nPukul 18:00 WIB. \nDengan Tema: Jatuh Cinta Lagi.\nPembicara: Pdt. Johan Gopur.
URL:https://gkjjembatanlima.org/acara/persekutuan-pasutri-10-agustus-2023/
LOCATION:GKJ Jembatan Lima\, GKJ Jembatan Lima Jl. Tambora Raya No.44\, Jakarta Barat\, DKI Jakarta\, 11220\, Indonesia
CATEGORIES:Ibadah
ATTACH;FMTTYPE=image/jpeg:https://gkjjembatanlima.org/wp-content/uploads/2023/07/Promo-3-Pasutri.mp4_20230805_172714.552.jpg
END:VEVENT
BEGIN:VEVENT
DTSTART;VALUE=DATE:20230806
DTEND;VALUE=DATE:20230807
DTSTAMP:20260421T172024
CREATED:20230728T160034Z
LAST-MODIFIED:20230728T160446Z
UID:989403-1691280000-1691366399@gkjjembatanlima.org
SUMMARY:Perjamuan Kudus Agustus 2023
DESCRIPTION:Perjamuan Kudus bulan Agustus 2023: \nMinggu\, 06 Agustus 2023\ndi seluruh Kebaktian Umum \nLihat Jadwal Kebaktian Umum
URL:https://gkjjembatanlima.org/acara/perjamuan-kudus-agustus-2023/
LOCATION:GKJ Jembatan Lima\, GKJ Jembatan Lima Jl. Tambora Raya No.44\, Jakarta Barat\, DKI Jakarta\, 11220\, Indonesia
CATEGORIES:Ibadah
ATTACH;FMTTYPE=image/jpeg:https://gkjjembatanlima.org/wp-content/uploads/2023/07/PERJAMUAN-KUDUS-2.jpg
END:VEVENT
BEGIN:VEVENT
DTSTART;TZID=Asia/Jakarta:20230805T190000
DTEND;TZID=Asia/Jakarta:20230805T190000
DTSTAMP:20260421T172024
CREATED:20230728T155808Z
LAST-MODIFIED:20230728T155808Z
UID:989400-1691262000-1691262000@gkjjembatanlima.org
SUMMARY:Komisi Pemuda 05 Agustus 2023
DESCRIPTION:Komisi Pemuda pada hari Sabtu\, 05 Agustus 2023 pukul 19:00 WIB. \nTema: Dengarlah Panggilan-Nya.\nOleh: GI. Widya Tuluswati. \nBertempat di Ruang Ibadah\nGKJ Jemaat Jembatan Lima\nJl. Tambora Raya No. 44\,\nJakarta-Barat. \nKami mengundang jemaat khususnya pemuda pemudi untuk menghadirinya.
URL:https://gkjjembatanlima.org/acara/komisi-pemuda-05-agustus-2023/
LOCATION:GKJ Jembatan Lima\, GKJ Jembatan Lima Jl. Tambora Raya No.44\, Jakarta Barat\, DKI Jakarta\, 11220\, Indonesia
CATEGORIES:Ibadah
ATTACH;FMTTYPE=image/jpeg:https://gkjjembatanlima.org/wp-content/uploads/2023/07/KP-05-AGUST-2023.jpg
END:VEVENT
BEGIN:VEVENT
DTSTART;VALUE=DATE:20230730
DTEND;VALUE=DATE:20230731
DTSTAMP:20260421T172024
CREATED:20230722T100212Z
LAST-MODIFIED:20230722T100212Z
UID:989382-1690675200-1690761599@gkjjembatanlima.org
SUMMARY:Kebaktan Umum Minggu 30 Juli 2023
DESCRIPTION:Kebaktian Umum GKJ Jemaat Jembatan Lima\nMinggu\, 30 Juli 2023.\nTema: YANG TELAH RUSAK DIBENTUK. \nLihat Jadwal Kebaktian Umum
URL:https://gkjjembatanlima.org/acara/kebaktan-umum-minggu-30-juli-2023/
LOCATION:GKJ Jembatan Lima\, GKJ Jembatan Lima Jl. Tambora Raya No.44\, Jakarta Barat\, DKI Jakarta\, 11220\, Indonesia
CATEGORIES:Ibadah
ATTACH;FMTTYPE=image/jpeg:https://gkjjembatanlima.org/wp-content/uploads/2023/07/Flayer-Umum-30-Juli.jpg
END:VEVENT
BEGIN:VEVENT
DTSTART;TZID=Asia/Jakarta:20230729T190000
DTEND;TZID=Asia/Jakarta:20230729T190000
DTSTAMP:20260421T172024
CREATED:20230722T094559Z
LAST-MODIFIED:20230722T173853Z
UID:989365-1690657200-1690657200@gkjjembatanlima.org
SUMMARY:Komisi Pemuda 29 Juli 2023
DESCRIPTION:Komisi Pemuda pada hari Sabtu\, 29 Juli 2023 pukul 19:00 WIB. \nAcara Malam Kesaksian. \nBertempat di Ruang Ibadah\nGKJ Jemaat Jembatan Lima\nJl. Tambora Raya No. 44\,\nJakarta-Barat. \nBagi teman-teman yang rindu untuk kesaksian dapat mendaftarkan diri kepada pengurus KP atau dengan menghubungi nomor Komisi Pemuda Tambora di 0812-8122-2652. \nKesaksian dapat berupa:\n– Kesaksian hidup (Sharing life)\n– Bermain Musik\n– Bernyanyi (Lagu Rohani) \nKami mengundang jemaat khususnya pemuda pemudi untuk menghadirinya.
URL:https://gkjjembatanlima.org/acara/komisi-pemuda-29-juli-2023/
LOCATION:GKJ Jembatan Lima\, GKJ Jembatan Lima Jl. Tambora Raya No.44\, Jakarta Barat\, DKI Jakarta\, 11220\, Indonesia
CATEGORIES:Ibadah
ATTACH;FMTTYPE=image/jpeg:https://gkjjembatanlima.org/wp-content/uploads/2023/07/KP-29-juli.jpg
END:VEVENT
BEGIN:VEVENT
DTSTART;TZID=Asia/Jakarta:20230728T150000
DTEND;TZID=Asia/Jakarta:20230728T170000
DTSTAMP:20260421T172024
CREATED:20230722T095945Z
LAST-MODIFIED:20230722T095945Z
UID:989379-1690556400-1690563600@gkjjembatanlima.org
SUMMARY:Ibadah Usia Sukacita - 28 Juli 2023
DESCRIPTION:Ibadah Usia Sukacita GKJ Jembatan Lima\n雅加达基督徒堂五角桥堂会欢乐团契聚会\nKami mengundang Saudara/i yang berusia 50 Tahun keatas untuk menghadiri Ibadah Usia Sukacita.\n本堂欢乐团契聚会邀请五十岁以上兄姐们踊跃来参加 同沐主恩 \nTema:\nSukacita Sebagai Utusan Kristus \nPembicara:\nGI. Widya Tuluswati \nHari & Waktu:\nJumat\, 28 Juli 2023\nPukul 15:00 WIB \n \n 
URL:https://gkjjembatanlima.org/acara/ibadah-usia-sukacita-28-juli-2023/
LOCATION:GKJ Jembatan Lima\, GKJ Jembatan Lima Jl. Tambora Raya No.44\, Jakarta Barat\, DKI Jakarta\, 11220\, Indonesia
CATEGORIES:Ibadah
ATTACH;FMTTYPE=image/jpeg:https://gkjjembatanlima.org/wp-content/uploads/2023/07/Usia-Sukacita-28-Juli-2023.jpg
END:VEVENT
BEGIN:VEVENT
DTSTART;VALUE=DATE:20230723
DTEND;VALUE=DATE:20230724
DTSTAMP:20260421T172024
CREATED:20230721T015126Z
LAST-MODIFIED:20230721T015617Z
UID:989350-1690070400-1690156799@gkjjembatanlima.org
SUMMARY:Kebaktian Umum Minggu 23 Juli 2023
DESCRIPTION:Kebaktian Umum GKJ Jemaat Jembatan Lima\nMinggu\, 23 Juli 2023.\nTema: YANG TERANCAM DILINDUNGI. \nLihat Jadwal Kebaktian Umum \n \n 
URL:https://gkjjembatanlima.org/acara/kebaktian-umum-minggu-23-juli-2023/
LOCATION:GKJ Jembatan Lima\, GKJ Jembatan Lima Jl. Tambora Raya No.44\, Jakarta Barat\, DKI Jakarta\, 11220\, Indonesia
CATEGORIES:Ibadah
ATTACH;FMTTYPE=image/jpeg:https://gkjjembatanlima.org/wp-content/uploads/2023/07/Flayer-Umum-23-Juli-2023.jpg
END:VEVENT
BEGIN:VEVENT
DTSTART;TZID=Asia/Jakarta:20230722T190000
DTEND;TZID=Asia/Jakarta:20230722T190000
DTSTAMP:20260421T172024
CREATED:20230716T012723Z
LAST-MODIFIED:20230721T015821Z
UID:989330-1690052400-1690052400@gkjjembatanlima.org
SUMMARY:Komisi Pemuda 22 Juli 2023
DESCRIPTION:Komisi Pemuda pada hari Sabtu\, 22 Juli 2023 pukul 19:00 WIB. \nTema: Lead to Bless.\nOleh: Bpk. Indrawan. \nBertempat di Ruang Ibadah\nGKJ Jemaat Jembatan Lima\nJl. Tambora Raya No. 44\,\nJakarta-Barat. \nKami mengundang jemaat khususnya pemuda pemudi untuk menghadirinya.
URL:https://gkjjembatanlima.org/acara/komisi-pemuda-22-juli-2023/
LOCATION:GKJ Jembatan Lima\, GKJ Jembatan Lima Jl. Tambora Raya No.44\, Jakarta Barat\, DKI Jakarta\, 11220\, Indonesia
CATEGORIES:Ibadah
ATTACH;FMTTYPE=image/jpeg:https://gkjjembatanlima.org/wp-content/uploads/2023/07/KP-22-JULI-2023.jpg
END:VEVENT
BEGIN:VEVENT
DTSTART;TZID=Asia/Jakarta:20230715T190000
DTEND;TZID=Asia/Jakarta:20230715T190000
DTSTAMP:20260421T172024
CREATED:20230707T160849Z
LAST-MODIFIED:20230709T103740Z
UID:989300-1689447600-1689447600@gkjjembatanlima.org
SUMMARY:Komisi Pemuda 15 Juli 2023
DESCRIPTION:Komisi Pemuda pada hari Sabtu\, 15 Juli 2023 pukul 19:00 WIB \nTema: I am the Leader\nOleh: GI. Jevin \nBertempat di Ruang Ibadah\nGKJ Jemaat Jembatan Lima\nJl. Tambora Raya No. 44\nJakarta-Barat \nKami mengundang jemaat khususnya pemuda pemudi untuk menghadirinya.
URL:https://gkjjembatanlima.org/acara/komisi-pemuda-15-juli-2023/
LOCATION:GKJ Jembatan Lima\, GKJ Jembatan Lima Jl. Tambora Raya No.44\, Jakarta Barat\, DKI Jakarta\, 11220\, Indonesia
CATEGORIES:Ibadah
ATTACH;FMTTYPE=image/jpeg:https://gkjjembatanlima.org/wp-content/uploads/2023/07/07-15-KP.jpg
END:VEVENT
BEGIN:VEVENT
DTSTART;TZID=Asia/Jakarta:20230708T190000
DTEND;TZID=Asia/Jakarta:20230708T190000
DTSTAMP:20260421T172024
CREATED:20230701T173246Z
LAST-MODIFIED:20230701T173347Z
UID:989251-1688842800-1688842800@gkjjembatanlima.org
SUMMARY:Komisi Pemuda 08 Juli 2023
DESCRIPTION:Komisi Pemuda pada hari Sabtu\, 8 Juli 2023 pukul 19:00 WIB \nTema: Maria Magdalena – Rela Berkorban dalam Melayani Tuhan.\nOleh: GI. Noptianus Zendrato \nBertempat di Ruang Ibadah\nGKJ Jemaat Jembatan Lima\nJl. Tambora Raya No. 44\nJakarta-Barat \nKami mengundang jemaat khususnya pemuda pemudi untuk menghadirinya.
URL:https://gkjjembatanlima.org/acara/komisi-pemuda-08-juli-2023/
LOCATION:GKJ Jembatan Lima\, GKJ Jembatan Lima Jl. Tambora Raya No.44\, Jakarta Barat\, DKI Jakarta\, 11220\, Indonesia
CATEGORIES:Ibadah
ATTACH;FMTTYPE=image/jpeg:https://gkjjembatanlima.org/wp-content/uploads/2023/07/KP-08-JULI-2023.jpg
END:VEVENT
BEGIN:VEVENT
DTSTART;VALUE=DATE:20230702
DTEND;VALUE=DATE:20230703
DTSTAMP:20260421T172024
CREATED:20230624T075602Z
LAST-MODIFIED:20230624T145224Z
UID:989200-1688256000-1688342399@gkjjembatanlima.org
SUMMARY:Perjamuan Kudus Juli 2023
DESCRIPTION:Perjamuan Kudus bulan Juli 2023: \nMinggu\, 2 Juli 2023\ndi seluruh Kebaktian Umum \nLihat Jadwal Kebaktian Umum
URL:https://gkjjembatanlima.org/acara/perjamuan-kudus-juli-2023/
LOCATION:GKJ Jembatan Lima\, GKJ Jembatan Lima Jl. Tambora Raya No.44\, Jakarta Barat\, DKI Jakarta\, 11220\, Indonesia
CATEGORIES:Ibadah
ATTACH;FMTTYPE=image/jpeg:https://gkjjembatanlima.org/wp-content/uploads/2023/06/PERJAMUAN-KUDUS-2.jpg
END:VEVENT
BEGIN:VEVENT
DTSTART;TZID=Asia/Jakarta:20230701T190000
DTEND;TZID=Asia/Jakarta:20230701T190000
DTSTAMP:20260421T172024
CREATED:20230624T080252Z
LAST-MODIFIED:20230624T080252Z
UID:989206-1688238000-1688238000@gkjjembatanlima.org
SUMMARY:Komisi Pemuda 1 Juli 2023
DESCRIPTION:Komisi Pemuda pada hari Sabtu\, 1 Juli 2023 pukul 19:00 WIB \nTema: Pertobatan Saulus\nOleh: GI. Alfa Imannuel
URL:https://gkjjembatanlima.org/acara/komisi-pemuda-1-juli-2023/
LOCATION:GKJ Jembatan Lima\, GKJ Jembatan Lima Jl. Tambora Raya No.44\, Jakarta Barat\, DKI Jakarta\, 11220\, Indonesia
CATEGORIES:Ibadah
ATTACH;FMTTYPE=image/jpeg:https://gkjjembatanlima.org/wp-content/uploads/2023/06/KP-01-JULI-2023.jpg
END:VEVENT
END:VCALENDAR