BEGIN:VCALENDAR
VERSION:2.0
PRODID:-//GKJ Jemaat Jembatan Lima - ECPv6.14.0//NONSGML v1.0//EN
CALSCALE:GREGORIAN
METHOD:PUBLISH
X-ORIGINAL-URL:https://gkjjembatanlima.org
X-WR-CALDESC:Events for GKJ Jemaat Jembatan Lima
REFRESH-INTERVAL;VALUE=DURATION:PT1H
X-Robots-Tag:noindex
X-PUBLISHED-TTL:PT1H
BEGIN:VTIMEZONE
TZID:Asia/Jakarta
BEGIN:STANDARD
TZOFFSETFROM:+0700
TZOFFSETTO:+0700
TZNAME:WIB
DTSTART:20260101T000000
END:STANDARD
END:VTIMEZONE
BEGIN:VEVENT
DTSTART;VALUE=DATE:20260426
DTEND;VALUE=DATE:20260427
DTSTAMP:20260419T211601
CREATED:20260419T082606Z
LAST-MODIFIED:20260419T082606Z
UID:993450-1777161600-1777247999@gkjjembatanlima.org
SUMMARY:Kebaktian Umum | 26 APR 2026
DESCRIPTION:Kebaktian Umum GKJ Jemaat Jembatan Lima \n五角桥堂会主日崇拜.\n\nMinggu\, 26 April 2026 \n2026年4月26日 星期日. \nTema 主题: BELUM TITIK\, MASIH KOMA 還沒句點，仍是逗點. \nPengkhotbah 讲员:\nKebaktian Umum 1 (06.30) : G.I. William Andreas Sitinjak.\nKebaktian Umum 2 (09.00) : G.I. William Andreas Sitinjak.\nKebaktian Umum 3 (09.00) : G.I. Jevintri Sengge 朱思捷傳道.\nKebaktian Umum 4 (11.30) : G.I. William Andreas Sitinjak.\nKebaktian Umum 5 (17.00) : G.I. William Andreas Sitinjak. \nLihat Jadwal Kebaktian Umum \n \n 
URL:https://gkjjembatanlima.org/acara/kebaktian-umum-26-apr-2026/
LOCATION:GKJ Jembatan Lima\, GKJ Jembatan Lima Jl. Tambora Raya No.44\, Jakarta Barat\, DKI Jakarta\, 11220\, Indonesia
CATEGORIES:Ibadah
ATTACH;FMTTYPE=image/jpeg:https://gkjjembatanlima.org/wp-content/uploads/2026/04/KU-26-APR-2026.jpg
END:VEVENT
END:VCALENDAR