BEGIN:VCALENDAR
VERSION:2.0
PRODID:-//GKJ Jemaat Jembatan Lima - ECPv6.14.0//NONSGML v1.0//EN
CALSCALE:GREGORIAN
METHOD:PUBLISH
X-WR-CALNAME:GKJ Jemaat Jembatan Lima
X-ORIGINAL-URL:https://gkjjembatanlima.org
X-WR-CALDESC:Events for GKJ Jemaat Jembatan Lima
REFRESH-INTERVAL;VALUE=DURATION:PT1H
X-Robots-Tag:noindex
X-PUBLISHED-TTL:PT1H
BEGIN:VTIMEZONE
TZID:Asia/Jakarta
BEGIN:STANDARD
TZOFFSETFROM:+0700
TZOFFSETTO:+0700
TZNAME:WIB
DTSTART:20230101T000000
END:STANDARD
END:VTIMEZONE
BEGIN:VEVENT
DTSTART;TZID=Asia/Jakarta:20230713T180000
DTEND;TZID=Asia/Jakarta:20230713T180000
DTSTAMP:20260422T042055
CREATED:20230624T082826Z
LAST-MODIFIED:20230630T042353Z
UID:989215-1689271200-1689271200@gkjjembatanlima.org
SUMMARY:Komsel Raya 13 Juli 2023
DESCRIPTION:Komsel Raya akan diadakan pada:\nKamis\, 13 Juli 2023\nPukul 18.00 WIB \nBertempat di GKJ Jemaat Jembatan Lima\nJl. Tambora Raya No. 44\nJakarta Barat \nKami mengundang seluruh jemaat untuk dapat menghadirinya. \nUntuk Informasi lebih lengkap\, hubungi GI. Noptianus Zendrato di 0813-9955-5706
URL:https://gkjjembatanlima.org/acara/komsel-raya-13-juli-2023/
LOCATION:GKJ Jembatan Lima\, GKJ Jembatan Lima Jl. Tambora Raya No.44\, Jakarta Barat\, DKI Jakarta\, 11220\, Indonesia
CATEGORIES:Komsel
ATTACH;FMTTYPE=image/jpeg:https://gkjjembatanlima.org/wp-content/uploads/2023/06/Promo-Komsel-Raya-13-Juli-2023.mp4_20230624_152655.099.jpg
END:VEVENT
END:VCALENDAR