BEGIN:VCALENDAR
VERSION:2.0
PRODID:-//GKJ Jemaat Jembatan Lima - ECPv6.14.0//NONSGML v1.0//EN
CALSCALE:GREGORIAN
METHOD:PUBLISH
X-ORIGINAL-URL:https://gkjjembatanlima.org
X-WR-CALDESC:Events for GKJ Jemaat Jembatan Lima
REFRESH-INTERVAL;VALUE=DURATION:PT1H
X-Robots-Tag:noindex
X-PUBLISHED-TTL:PT1H
BEGIN:VTIMEZONE
TZID:Asia/Jakarta
BEGIN:STANDARD
TZOFFSETFROM:+0700
TZOFFSETTO:+0700
TZNAME:WIB
DTSTART:20230101T000000
END:STANDARD
END:VTIMEZONE
BEGIN:VEVENT
DTSTART;TZID=Asia/Jakarta:20251028T190000
DTEND;TZID=Asia/Jakarta:20251028T190000
DTSTAMP:20260420T014615
CREATED:20251018T083653Z
LAST-MODIFIED:20251018T083653Z
UID:992585-1761678000-1761678000@gkjjembatanlima.org
SUMMARY:Master Class | 28 OKT 2025
DESCRIPTION:MASTER CLASS akan diadakan pada hari Selasa\, 28 Oktober 2025 pukul 19.00 WIB. \nBertempat di GKJ Jemaat Jembatan Lima. \nMengundang WL dan Singer semua KU untuk dapat mengikutinya.
URL:https://gkjjembatanlima.org/acara/master-class-28-okt-2025/
LOCATION:GKJ Jembatan Lima\, GKJ Jembatan Lima Jl. Tambora Raya No.44\, Jakarta Barat\, DKI Jakarta\, 11220\, Indonesia
CATEGORIES:Pembinaan
ATTACH;FMTTYPE=image/jpeg:https://gkjjembatanlima.org/wp-content/uploads/2025/10/Masterclass-28-OKT-2025.jpg
END:VEVENT
BEGIN:VEVENT
DTSTART;TZID=Asia/Jakarta:20251019T103000
DTEND;TZID=Asia/Jakarta:20251019T113000
DTSTAMP:20260420T014615
CREATED:20251011T161552Z
LAST-MODIFIED:20260411T034024Z
UID:992548-1760869800-1760873400@gkjjembatanlima.org
SUMMARY:Pembinaan Pelayan Youth | 19 OKT 2025
DESCRIPTION:Pembinaan untuk seluruh tim pelayan Youth (KP & KU 3) \nTema: SERVE AND BE SERVED.\nSharing by: Helena Florensia. \nHari Minggu\, 19 Oktober 2025\nPukul 10.30 – 11.30 WIB. \nBertempat di Lantai 3 Gereja. \nMengundang seluruh tim pelayan Youth KP dan KU3 (Penyambut\, Kolektan\, LED\, Doa\, Pemusik\, WL\, dan Singer) untuk menghadirinya.
URL:https://gkjjembatanlima.org/acara/pembinaan-pelayan-youth-19-okt-2025/
LOCATION:GKJ Jembatan Lima\, GKJ Jembatan Lima Jl. Tambora Raya No.44\, Jakarta Barat\, DKI Jakarta\, 11220\, Indonesia
CATEGORIES:Pembinaan
ATTACH;FMTTYPE=image/jpeg:https://gkjjembatanlima.org/wp-content/uploads/2025/04/Pembinaan-Youth-19-OKT-2025.jpg
END:VEVENT
BEGIN:VEVENT
DTSTART;TZID=Asia/Jakarta:20250930T190000
DTEND;TZID=Asia/Jakarta:20250930T210000
DTSTAMP:20260420T014615
CREATED:20250920T154349Z
LAST-MODIFIED:20250920T154349Z
UID:992476-1759258800-1759266000@gkjjembatanlima.org
SUMMARY:Master Class | 30 SEP 2025
DESCRIPTION:MASTER CLASS akan diadakan pada hari Selasa\, 30 September 2025 pukul 19.00 WIB. \nBertempat di GKJ Jemaat Jembatan Lima. \nMengundang WL dan Singer semua KU untuk dapat mengikutinya.
URL:https://gkjjembatanlima.org/acara/master-class-30-sep-2025/
LOCATION:GKJ Jembatan Lima\, GKJ Jembatan Lima Jl. Tambora Raya No.44\, Jakarta Barat\, DKI Jakarta\, 11220\, Indonesia
CATEGORIES:Pembinaan
ATTACH;FMTTYPE=image/jpeg:https://gkjjembatanlima.org/wp-content/uploads/2025/09/MASTERCLASS-30-SEP-2025.jpg
END:VEVENT
BEGIN:VEVENT
DTSTART;TZID=Asia/Jakarta:20250909T190000
DTEND;TZID=Asia/Jakarta:20250909T210000
DTSTAMP:20260420T014615
CREATED:20250830T151637Z
LAST-MODIFIED:20250904T091620Z
UID:992406-1757444400-1757451600@gkjjembatanlima.org
SUMMARY:Apologetics Seminar | 09 SEP 2025
DESCRIPTION:Shalom Jemaat yang terkasih\,\nKami mengundang Bapak/Ibu/Sdr/i untuk hadir dalam Kelas Pembinaan: \nTema: TRINITY: BAGAIMANA MEMAHAMI DENGAN BENAR TIGA PRIBADI ALLAH DALAM KE-ESA-AN NYA?\nPembicara: G.I. Andrey Thunggal.\nHari Selasa\, 09 September 2025 Pukul 19.00 WIB. \nGRATIS! Daftarkan dirimu segera\, dengan scan QR Code yang ada pada gambar.\n🔗 Atau melalu link berikut: Klik Disini. \nJika tidak dapat mendaftar melalui link\, bisa langsung WA ke GI. Alfa Imanuel. \nTerima kasih atas partisipasinya. Tuhan Yesus memberkati 🙏
URL:https://gkjjembatanlima.org/acara/apologetics-seminar-09-sep-2025/
LOCATION:GKJ Jembatan Lima\, GKJ Jembatan Lima Jl. Tambora Raya No.44\, Jakarta Barat\, DKI Jakarta\, 11220\, Indonesia
CATEGORIES:Pembinaan
ATTACH;FMTTYPE=image/jpeg:https://gkjjembatanlima.org/wp-content/uploads/2025/08/Pembinaan-09-SEP-2025.jpg
END:VEVENT
BEGIN:VEVENT
DTSTART;TZID=Asia/Jakarta:20250902T190000
DTEND;TZID=Asia/Jakarta:20250902T210000
DTSTAMP:20260420T014615
CREATED:20250823T114022Z
LAST-MODIFIED:20250823T114022Z
UID:992383-1756839600-1756846800@gkjjembatanlima.org
SUMMARY:Master Class | 02 SEP 2025
DESCRIPTION:MASTER CLASS akan diadakan pada hari Selasa\, 02 September 2025 pukul 19.00 WIB. \nBertempat di GKJ Jemaat Jembatan Lima. \nMengundang WL dan Singer semua KU untuk dapat mengikutinya.
URL:https://gkjjembatanlima.org/acara/master-class-02-sep-2025/
LOCATION:GKJ Jembatan Lima\, GKJ Jembatan Lima Jl. Tambora Raya No.44\, Jakarta Barat\, DKI Jakarta\, 11220\, Indonesia
CATEGORIES:Pembinaan
ATTACH;FMTTYPE=image/jpeg:https://gkjjembatanlima.org/wp-content/uploads/2025/08/Masterclass-02-SEP-2025.jpg
END:VEVENT
BEGIN:VEVENT
DTSTART;TZID=Asia/Jakarta:20250827T190000
DTEND;TZID=Asia/Jakarta:20250827T190000
DTSTAMP:20260420T014615
CREATED:20250810T044348Z
LAST-MODIFIED:20250810T044348Z
UID:992342-1756321200-1756321200@gkjjembatanlima.org
SUMMARY:Pray and Worship Night | 27 AGU 2025
DESCRIPTION:PRAY AND WORSHIP NIGHT.  \nTema: MENEMUKAN HARMONI DALAM TUGAS DAN KASIH.\nPembicara Indonesia : Pdt. Yuneari Lase | Pembicara Mandarin: Pdt. Roni Sofian \nWaktu:  \nRabu\, 27 Agustus 2025 \nPukul 19.00 WIB. \nTempat:\nBahasa Indonesia: Ruang Ibadah Lantai 3 \nBahasa Mandarin: Ruang Ibadah Lantai 2 \nGKJ Jembatan Lima\nJl. Jembatan Lima Raya No. 44\nJakarta Barat \nKami mengundang seluruh jemaat untuk dapat datang dan menghadirinya. \n \n 
URL:https://gkjjembatanlima.org/acara/pray-and-worship-night-27-agu-2025-2/
LOCATION:GKJ Jembatan Lima\, GKJ Jembatan Lima Jl. Tambora Raya No.44\, Jakarta Barat\, DKI Jakarta\, 11220\, Indonesia
CATEGORIES:Pembinaan
ATTACH;FMTTYPE=image/jpeg:https://gkjjembatanlima.org/wp-content/uploads/2025/08/PWN-27-AGU-2025.jpg
END:VEVENT
BEGIN:VEVENT
DTSTART;TZID=Asia/Jakarta:20250729T190000
DTEND;TZID=Asia/Jakarta:20250729T190000
DTSTAMP:20260420T014615
CREATED:20250719T143343Z
LAST-MODIFIED:20250719T143343Z
UID:992219-1753815600-1753815600@gkjjembatanlima.org
SUMMARY:Master Class | 29 JUL 2025
DESCRIPTION:MASTER CLASS akan diadakan pada hari Selasa\, 29 Juli 2025 pukul 19.00 WIB. \nBertempat di GKJ Jemaat Jembatan Lima. \nMengundang WL dan Singer semua KU untuk dapat mengikutinya.
URL:https://gkjjembatanlima.org/acara/master-class-29-jul-2025/
LOCATION:GKJ Jembatan Lima\, GKJ Jembatan Lima Jl. Tambora Raya No.44\, Jakarta Barat\, DKI Jakarta\, 11220\, Indonesia
CATEGORIES:Pembinaan
ATTACH;FMTTYPE=image/jpeg:https://gkjjembatanlima.org/wp-content/uploads/2025/07/Masterclass-29-JUL-2025.jpg
END:VEVENT
BEGIN:VEVENT
DTSTART;TZID=Asia/Jakarta:20250701T190000
DTEND;TZID=Asia/Jakarta:20250701T190000
DTSTAMP:20260420T014615
CREATED:20250628T153800Z
LAST-MODIFIED:20250628T153800Z
UID:992092-1751396400-1751396400@gkjjembatanlima.org
SUMMARY:Master Class | 01 JUL 2025
DESCRIPTION:MASTER CLASS akan diadakan pada hari Selasa\, 01 Juli 2025 pukul 19.00 WIB. \nBertempat di GKJ Jemaat Jembatan Lima. \nMengundang WL dan Singer semua KU untuk dapat mengikutinya.
URL:https://gkjjembatanlima.org/acara/master-class-01-jul-2025/
LOCATION:GKJ Jembatan Lima\, GKJ Jembatan Lima Jl. Tambora Raya No.44\, Jakarta Barat\, DKI Jakarta\, 11220\, Indonesia
CATEGORIES:Pembinaan
ATTACH;FMTTYPE=image/jpeg:https://gkjjembatanlima.org/wp-content/uploads/2025/06/Masterclass-01-JUL-2025.jpg
END:VEVENT
BEGIN:VEVENT
DTSTART;TZID=Asia/Jakarta:20250528T190000
DTEND;TZID=Asia/Jakarta:20250528T190000
DTSTAMP:20260420T014615
CREATED:20250510T154810Z
LAST-MODIFIED:20250510T154810Z
UID:991913-1748458800-1748458800@gkjjembatanlima.org
SUMMARY:Prayer And Worship Night (Indonesia) | 28 MEI 2025
DESCRIPTION:PRAYER AND WORSHIP NIGHT INDONESIA.  \nDepartemen Ibadah bersama dengan Departemen Doa mengundang para WL\, Singer\, Pemain Musik\, Pelayan Tuhan\, dan seluruh jemaat untuk dapat datang dan menghadiri acara Prayer & Worhsip Night bahasa Indonesia. \nWaktu:  \nRabu\, 28 Mei 2025 \nPukul 19.00 WIB. \nTempat:\nRuang Ibadah Lt. 3\nGKJ Jembatan Lima\nJl. Jembatan Lima Raya No. 44\nJakarta Barat \nPembicara: GM. Sharon Sihombing\nTema: WORSHIP BEFORE SERVICE. \n \n 
URL:https://gkjjembatanlima.org/acara/prayer-and-worship-night-indonesia-28-mei-2025/
LOCATION:GKJ Jembatan Lima\, GKJ Jembatan Lima Jl. Tambora Raya No.44\, Jakarta Barat\, DKI Jakarta\, 11220\, Indonesia
CATEGORIES:Pembinaan
ATTACH;FMTTYPE=image/jpeg:https://gkjjembatanlima.org/wp-content/uploads/2025/05/Worship-Night-Indo-28-MEI-2025.jpg
END:VEVENT
BEGIN:VEVENT
DTSTART;TZID=Asia/Jakarta:20250528T190000
DTEND;TZID=Asia/Jakarta:20250528T190000
DTSTAMP:20260420T014615
CREATED:20250510T154621Z
LAST-MODIFIED:20250510T154652Z
UID:991910-1748458800-1748458800@gkjjembatanlima.org
SUMMARY:Prayer And Worship Night (Mandarin) | 28 MEI 2025
DESCRIPTION:PRAYER AND WORSHIP NIGHT MANDARIN.  \nDepartemen Ibadah bersama dengan Departemen Doa mengundang para WL\, Singer\, Pemain Musik\, Pelayan Tuhan\, dan seluruh jemaat untuk dapat datang dan menghadiri acara Prayer & Worhsip Night bahasa Mandarin. \nWaktu:  \nRabu\, 28 Mei 2025 \nPukul 19.00 WIB. \nTempat:\nRuang Ibadah Utama  Lt. 2\nGKJ Jembatan Lima\nJl. Jembatan Lima Raya No. 44\nJakarta Barat \nPembicara: Pdt. Antoni Samosir\nTema: WORSHIP BEFORE SERVICE. \n \n 
URL:https://gkjjembatanlima.org/acara/prayer-and-worship-night-mandarin-28-mei-2025/
LOCATION:GKJ Jembatan Lima\, GKJ Jembatan Lima Jl. Tambora Raya No.44\, Jakarta Barat\, DKI Jakarta\, 11220\, Indonesia
CATEGORIES:Pembinaan
ATTACH;FMTTYPE=image/jpeg:https://gkjjembatanlima.org/wp-content/uploads/2025/05/Worship-Night-Mand-28-MEI-2025.jpg
END:VEVENT
BEGIN:VEVENT
DTSTART;TZID=Asia/Jakarta:20250520T190000
DTEND;TZID=Asia/Jakarta:20250520T190000
DTSTAMP:20260420T014615
CREATED:20250503T132132Z
LAST-MODIFIED:20250503T132132Z
UID:991888-1747767600-1747767600@gkjjembatanlima.org
SUMMARY:Master Class | 20 MEI 2025
DESCRIPTION:MASTER CLASS akan diadakan pada hari Selasa\, 20 Mei 2025 pukul 19.00 WIB. \nBertempat di GKJ Jemaat Jembatan Lima. \nSemua WL dan Singer diharapkan dapat mengikutinya. \nMaster Class juga terbuka bagi jemaat yang ingin bergabung melayani sebagai singer.
URL:https://gkjjembatanlima.org/acara/master-class-20-mei-2025/
LOCATION:GKJ Jembatan Lima\, GKJ Jembatan Lima Jl. Tambora Raya No.44\, Jakarta Barat\, DKI Jakarta\, 11220\, Indonesia
CATEGORIES:Pembinaan
ATTACH;FMTTYPE=image/jpeg:https://gkjjembatanlima.org/wp-content/uploads/2025/05/Master-Class-20-MEI-2025.jpg
END:VEVENT
BEGIN:VEVENT
DTSTART;TZID=Asia/Jakarta:20250510T190000
DTEND;TZID=Asia/Jakarta:20250510T190000
DTSTAMP:20260420T014615
CREATED:20250426T083315Z
LAST-MODIFIED:20250426T083315Z
UID:991870-1746903600-1746903600@gkjjembatanlima.org
SUMMARY:Kelas Pembinaan | 10 MEI 2025
DESCRIPTION:Depatrtemen Pembinaan. \nGereja adalah Tubuh Kristus. Tempat kasih nyata\, iman dikuatkan\, harapan dibangkitkan.\nSaatnya kembali ke Firman. Hidup seperti yang Yesus ajarkan \nMari ikuti kelas pembinaan yang akan berlangsung pada:\nHari Sabtu\, 10 Mei 2025 Pukul 19.00 WIB. \nTema: BISAKAH KEKRISTENAN DIPERCAYA? MENGINGAT PERBUATAN GEREJANYA.\nPembicara: GI. Andrey Thunggal. \nMengundang seluruh Jemaat GKJ Jembatan Lima untuk mengikutinya.
URL:https://gkjjembatanlima.org/acara/kelas-pembinaan-10-mei-2025/
LOCATION:GKJ Jembatan Lima\, GKJ Jembatan Lima Jl. Tambora Raya No.44\, Jakarta Barat\, DKI Jakarta\, 11220\, Indonesia
CATEGORIES:Pembinaan
ATTACH;FMTTYPE=image/jpeg:https://gkjjembatanlima.org/wp-content/uploads/2025/04/Pembinaan-10-MEI-2025.jpg
END:VEVENT
BEGIN:VEVENT
DTSTART;TZID=Asia/Jakarta:20241217T190000
DTEND;TZID=Asia/Jakarta:20241217T190000
DTSTAMP:20260420T014615
CREATED:20241102T135144Z
LAST-MODIFIED:20241208T145328Z
UID:991238-1734462000-1734462000@gkjjembatanlima.org
SUMMARY:Kelas Bimbingan Orang Tua 2 | 17 DES 2024
DESCRIPTION:Kelas Bimbingan bagi Orang Tua yang akan menyerahkan anaknya pada tanggal 22 Desember 2024 \nBertempat di GKJ Jemaat Jembatan Lima \nPembicara: Pdt. Ang Tjoe Mio \n 
URL:https://gkjjembatanlima.org/acara/kelas-bimbingan-orang-tua-2-17-des-2024/
LOCATION:GKJ Jembatan Lima\, GKJ Jembatan Lima Jl. Tambora Raya No.44\, Jakarta Barat\, DKI Jakarta\, 11220\, Indonesia
CATEGORIES:Pembinaan
ATTACH;FMTTYPE=image/jpeg:https://gkjjembatanlima.org/wp-content/uploads/2024/11/Bimbingan-Ortu-10-17-DES-2024.jpg
END:VEVENT
BEGIN:VEVENT
DTSTART;TZID=Asia/Jakarta:20241210T190000
DTEND;TZID=Asia/Jakarta:20241210T190000
DTSTAMP:20260420T014615
CREATED:20241109T140039Z
LAST-MODIFIED:20241208T145228Z
UID:991286-1733857200-1733857200@gkjjembatanlima.org
SUMMARY:Kelas Bimbingan Orang Tua 1 | 10 DES 2024
DESCRIPTION:Kelas Bimbingan bagi Orang Tua yang akan menyerahkan anaknya pada tanggal 22 Desember 2024 \nBertempat di GKJ Jemaat Jembatan Lima \nPembicara: Bpk. Indrawan \n 
URL:https://gkjjembatanlima.org/acara/kelas-bimbingan-orang-tua-1-10-des-2024-2/
LOCATION:GKJ Jembatan Lima\, GKJ Jembatan Lima Jl. Tambora Raya No.44\, Jakarta Barat\, DKI Jakarta\, 11220\, Indonesia
CATEGORIES:Pembinaan
ATTACH;FMTTYPE=image/jpeg:https://gkjjembatanlima.org/wp-content/uploads/2024/11/Bimbingan-Ortu-10-17-DES-2024.jpg
END:VEVENT
BEGIN:VEVENT
DTSTART;VALUE=DATE:20240630
DTEND;VALUE=DATE:20240701
DTSTAMP:20260420T014615
CREATED:20240608T163754Z
LAST-MODIFIED:20240608T163754Z
UID:990811-1719705600-1719791999@gkjjembatanlima.org
SUMMARY:Master Class KU 3 | 30 JUN 2024
DESCRIPTION:Master Class Kebaktian Umum 3 akan diadakan pada hari Minggu\, 30 Juni 2024 setelah KU 3 selesai. \nKami mengundang WL dan Singer KU3 dan T4C yang belum tergabung dalam Serafim Voice untuk mengikutinya.
URL:https://gkjjembatanlima.org/acara/master-class-ku-3-30-jun-2024/
LOCATION:GKJ Jembatan Lima\, GKJ Jembatan Lima Jl. Tambora Raya No.44\, Jakarta Barat\, DKI Jakarta\, 11220\, Indonesia
CATEGORIES:Pembinaan
ATTACH;FMTTYPE=image/jpeg:https://gkjjembatanlima.org/wp-content/uploads/2024/06/MASTERCLASS-3-30-JUN-2024.jpg
END:VEVENT
BEGIN:VEVENT
DTSTART;TZID=Asia/Jakarta:20240622T110000
DTEND;TZID=Asia/Jakarta:20240622T160000
DTSTAMP:20260420T014615
CREATED:20240608T164252Z
LAST-MODIFIED:20240608T164252Z
UID:990813-1719054000-1719072000@gkjjembatanlima.org
SUMMARY:WORKSHOP PROFETIK | 22 JUN 2024
DESCRIPTION:Gereja akan mengadakan Workshop Profetik pada hari:\nSabtu\, 22 Juni 2024 pukul 11.00 – 16.00 WIB.\nBertempat di ruang ibadah GKJ Jemaat Jembatan Lima\, Lantai 2. \nPembicara: Pdt. Mesach Triyuliadi dan GI. Sharon Trinita Sihombing\, S.MG. \nPeserta Workshop ini adalah: Para pelayan Profetik meliputi WL\, Singer\, dan Pemusik\, KU 1-5\, T4C\, dan KP. \nBagi seluruh pelayan profetik dimohon agar dapat mengkonfirmasi kehadirannya pada Workshop Profetik kepada Tim KU masing-masing.
URL:https://gkjjembatanlima.org/acara/workshop-profetik-22-jun-2024/
LOCATION:GKJ Jembatan Lima\, GKJ Jembatan Lima Jl. Tambora Raya No.44\, Jakarta Barat\, DKI Jakarta\, 11220\, Indonesia
CATEGORIES:Pembinaan
ATTACH;FMTTYPE=image/jpeg:https://gkjjembatanlima.org/wp-content/uploads/2024/06/WORKSHOP-22-JUN-2024.jpg
END:VEVENT
BEGIN:VEVENT
DTSTART;VALUE=DATE:20240609
DTEND;VALUE=DATE:20240610
DTSTAMP:20260420T014615
CREATED:20240525T040008Z
LAST-MODIFIED:20240602T052711Z
UID:990727-1717891200-1717977599@gkjjembatanlima.org
SUMMARY:Masterclass KU 2&4 | 09 JUN 2024
DESCRIPTION:Master Class Kebaktian Umum 2 & 4 akan diadakan pada hari Minggu\, 09 Juni 2024 setelah KU 4 selesai. \nKami mengundang WL dan Singer KU 2 & 4 yang belum tergabung dalam Serafim Voice untuk mengikutinya.
URL:https://gkjjembatanlima.org/acara/masterclass-ku-24-09-jun-2024/
LOCATION:GKJ Jembatan Lima\, GKJ Jembatan Lima Jl. Tambora Raya No.44\, Jakarta Barat\, DKI Jakarta\, 11220\, Indonesia
CATEGORIES:Pembinaan
ATTACH;FMTTYPE=image/jpeg:https://gkjjembatanlima.org/wp-content/uploads/2024/05/masterclass-24.jpg
END:VEVENT
BEGIN:VEVENT
DTSTART;TZID=Asia/Jakarta:20240326T190000
DTEND;TZID=Asia/Jakarta:20240326T190000
DTSTAMP:20260420T014615
CREATED:20240316T143734Z
LAST-MODIFIED:20240316T143734Z
UID:990525-1711479600-1711479600@gkjjembatanlima.org
SUMMARY:Kelas Umum | 26 MAR 2024
DESCRIPTION:Dept. Pembinaan GKJ Jemaat Jembatan Lima mengadakan pembinaan Kelas Umum: \nHari Selasa\, 26 Maret 2024 Pukul 19:00 WIB.\nBertempat di GKJ Jemaat Jembatan Lima. \nTema: STRONGER IN CHRIST – STARTING SMALL AND BUILDING DEEP (KUAT DALAM KRISTUS – MEMULAI DARI YANG KECIL DAN MEMBANGUN KE DALAM) \nPembicara: GI. Noptianus Zendrato. \nKami mengundang setiap jemaat untuk dapat mengikutinya.
URL:https://gkjjembatanlima.org/acara/kelas-umum-26-mar-2024/
LOCATION:GKJ Jembatan Lima\, GKJ Jembatan Lima Jl. Tambora Raya No.44\, Jakarta Barat\, DKI Jakarta\, 11220\, Indonesia
CATEGORIES:Pembinaan
ATTACH;FMTTYPE=image/jpeg:https://gkjjembatanlima.org/wp-content/uploads/2024/03/Untitled-1-1.jpg
END:VEVENT
BEGIN:VEVENT
DTSTART;TZID=Asia/Jakarta:20240224T100000
DTEND;TZID=Asia/Jakarta:20240224T163000
DTSTAMP:20260420T014615
CREATED:20240217T142224Z
LAST-MODIFIED:20240217T142224Z
UID:990419-1708768800-1708792200@gkjjembatanlima.org
SUMMARY:Excellent Servant - One Day Training | 24 FEB 2024
DESCRIPTION:One Day Training akan dilaksanakan pada hari Sabtu\, 24 Februari 2024\, pukul 10.00-16.30 WIB.\nBertempat di GKJ Jemaat Jembatan Lima. \nPembicara: Paulus S.\, S.Kom\, M.A. \nKami mengundang semua pelayan dari KU 1-5\, T4C\, dan KP untuk dapat mengikutinya. \nMohon konfirmasikan kehadiran kepada tim pengurus KU masing-masing.
URL:https://gkjjembatanlima.org/acara/excellent-servant-one-day-training-24-feb-2024/
LOCATION:GKJ Jembatan Lima\, GKJ Jembatan Lima Jl. Tambora Raya No.44\, Jakarta Barat\, DKI Jakarta\, 11220\, Indonesia
CATEGORIES:Pembinaan
ATTACH;FMTTYPE=image/jpeg:https://gkjjembatanlima.org/wp-content/uploads/2024/02/one-day-training.jpg
END:VEVENT
BEGIN:VEVENT
DTSTART;TZID=Asia/Jakarta:20230901T190000
DTEND;TZID=Asia/Jakarta:20230901T190000
DTSTAMP:20260420T014615
CREATED:20230819T143035Z
LAST-MODIFIED:20230819T143035Z
UID:989560-1693594800-1693594800@gkjjembatanlima.org
SUMMARY:Webinar Apologetika
DESCRIPTION:Departemen Pembinaan GKJ Jemaat Jembatan Lima: \nWebinar Apologetika. \nALLAH TRITUNGGAL: “Bagaimana Allah bisa menjadi 3 dan 1?” \nHari Jumat\, 01 September 2023\nPukul 19:00 WIB. \nPembicara:\nPdt. Yakub Tri Handoko\, Phd.\n(Co-Founder Apologetika Indonesia (API))\n(Co-Founder Grace Alone Ministry (GRAMI)) \nTempat:\nOnline melalui Zoom Meeting. \nCP: 0895-38689-0987 (GI. Alfa Imannuel) \n \n 
URL:https://gkjjembatanlima.org/acara/webinar-apologetika/
LOCATION:Zoom Meeting\, Online\, Jakarta\, Jakarta\, Indonesia
CATEGORIES:Pembinaan
ATTACH;FMTTYPE=image/jpeg:https://gkjjembatanlima.org/wp-content/uploads/2023/08/Untitled-1-Revisi-1.jpg
END:VEVENT
BEGIN:VEVENT
DTSTART;TZID=Asia/Jakarta:20230827T110000
DTEND;TZID=Asia/Jakarta:20230827T140000
DTSTAMP:20260420T014615
CREATED:20230805T104823Z
LAST-MODIFIED:20230805T104823Z
UID:989442-1693134000-1693144800@gkjjembatanlima.org
SUMMARY:Master Class KU 2&4 - Agustus 2023
DESCRIPTION:Master Class Kebaktian Umum 2 & 4 akan diadakan pada hari Minggu\, 27 Agustus 2023 setelah KU 4 selesai. \nKami mengundang WL dan Singer yang belum tergabung dalam Serafim Voice untuk menghadirinya.
URL:https://gkjjembatanlima.org/acara/master-class-ku-24-agustus-2023/
LOCATION:GKJ Jembatan Lima\, GKJ Jembatan Lima Jl. Tambora Raya No.44\, Jakarta Barat\, DKI Jakarta\, 11220\, Indonesia
CATEGORIES:Pembinaan
ATTACH;FMTTYPE=image/jpeg:https://gkjjembatanlima.org/wp-content/uploads/2023/08/13.-Masterclass-KU-2-_-4.jpg
END:VEVENT
BEGIN:VEVENT
DTSTART;TZID=Asia/Jakarta:20230813T133000
DTEND;TZID=Asia/Jakarta:20230813T143000
DTSTAMP:20260420T014615
CREATED:20230805T110458Z
LAST-MODIFIED:20230805T110458Z
UID:989453-1691933400-1691937000@gkjjembatanlima.org
SUMMARY:Master Class KU 3 - Agustus 2023
DESCRIPTION:Master Class Kebaktian Umum 3 akan diadakan pada hari Minggu\, 13 Agustus 2023 setelah KU 3 selesai. \nKami mengundang WL dan Singer yang belum tergabung dalam Serafim Voice untuk menghadirinya.
URL:https://gkjjembatanlima.org/acara/master-class-ku-3-agustus-2023/
LOCATION:GKJ Jembatan Lima\, GKJ Jembatan Lima Jl. Tambora Raya No.44\, Jakarta Barat\, DKI Jakarta\, 11220\, Indonesia
CATEGORIES:Pembinaan
ATTACH;FMTTYPE=image/jpeg:https://gkjjembatanlima.org/wp-content/uploads/2023/08/14.-Masterclass-KU-3.jpg
END:VEVENT
BEGIN:VEVENT
DTSTART;VALUE=DATE:20230709
DTEND;VALUE=DATE:20230710
DTSTAMP:20260420T014615
CREATED:20230701T175017Z
LAST-MODIFIED:20230701T175017Z
UID:989260-1688860800-1688947199@gkjjembatanlima.org
SUMMARY:Pembinaan Non Profetik Juli 2023
DESCRIPTION:Pembinaan Non Profetik akan diadakan pada: \nMinggu\, 09 Juli 2023\n(Setelah setiap KU selesai) \nKami mengundang pelayan yang melayani di kolekte\, penyambut\, LCD\, Sound untuk dapat menghadirinya. \n*Pembinaan ini berlaku untuk KU 2\, 3\, dan 4.\n*Khusus KU 3&4\, pembinaan akan dimulai pukul 13:30 WIB.
URL:https://gkjjembatanlima.org/acara/pembinaan-non-profetik-juli-2023/
LOCATION:GKJ Jembatan Lima\, GKJ Jembatan Lima Jl. Tambora Raya No.44\, Jakarta Barat\, DKI Jakarta\, 11220\, Indonesia
CATEGORIES:Pembinaan
ATTACH;FMTTYPE=image/jpeg:https://gkjjembatanlima.org/wp-content/uploads/2023/07/11.-Pembinaan-Non-Profetik.jpg
END:VEVENT
BEGIN:VEVENT
DTSTART;VALUE=DATE:20230704
DTEND;VALUE=DATE:20230705
DTSTAMP:20260420T014615
CREATED:20230701T174454Z
LAST-MODIFIED:20230701T174454Z
UID:989258-1688428800-1688515199@gkjjembatanlima.org
SUMMARY:Pembinaan Profetik Juli 2023
DESCRIPTION:Pembinaan Profetik akan dilaksanakan pada: \nSelasa\, 04 Juli 2023 \nmelalui Zoom Meeting. \nMengundang seluruh pelayan profetik dan non-profetik untuk menghadirinya.
URL:https://gkjjembatanlima.org/acara/pembinaan-profetik-juli-2023/
LOCATION:Zoom Meeting\, Online\, Jakarta\, Jakarta\, Indonesia
CATEGORIES:Pembinaan
ATTACH;FMTTYPE=image/jpeg:https://gkjjembatanlima.org/wp-content/uploads/2023/07/10.-Pembinaan-Profetik.jpg
END:VEVENT
BEGIN:VEVENT
DTSTART;VALUE=DATE:20230618
DTEND;VALUE=DATE:20230619
DTSTAMP:20260420T014615
CREATED:20230602T162806Z
LAST-MODIFIED:20230602T162806Z
UID:988797-1687046400-1687132799@gkjjembatanlima.org
SUMMARY:Master Class Kebaktian Umum 2 & 4
DESCRIPTION:Master Class Kebaktian Umum 2 & 4 akan diadakan pada hari Minggu\, 18 Juni 2023 setelah KU 4 selesai. \nKami mengundang WL dan Singer yang belum tergabung dalam Serafim Voice untuk menghadirinya.
URL:https://gkjjembatanlima.org/acara/master-class-kebaktian-umum-2-4/
LOCATION:GKJ Jembatan Lima\, GKJ Jembatan Lima Jl. Tambora Raya No.44\, Jakarta Barat\, DKI Jakarta\, 11220\, Indonesia
CATEGORIES:Pembinaan
ATTACH;FMTTYPE=image/jpeg:https://gkjjembatanlima.org/wp-content/uploads/2023/06/9.-Masterclass-KU-_-4.jpg
END:VEVENT
BEGIN:VEVENT
DTSTART;VALUE=DATE:20230528
DTEND;VALUE=DATE:20230529
DTSTAMP:20260420T014615
CREATED:20230525T162139Z
LAST-MODIFIED:20230525T163317Z
UID:988423-1685232000-1685318399@gkjjembatanlima.org
SUMMARY:Master Class Kebaktian Umum 3
DESCRIPTION:Master Class Kebaktian Umum 3 akan diadakan pada hari Minggu\, 28 Mei 2023 setelah KU 3 selesai. \nKami mengundang WL dan Singer yang belum tergabung dalam Serafim Voice untuk menghadirinya.
URL:https://gkjjembatanlima.org/acara/master-class-ku-3/
LOCATION:GKJ Jembatan Lima\, GKJ Jembatan Lima Jl. Tambora Raya No.44\, Jakarta Barat\, DKI Jakarta\, 11220\, Indonesia
CATEGORIES:Pembinaan
ATTACH;FMTTYPE=image/jpeg:https://gkjjembatanlima.org/wp-content/uploads/2023/05/6.-Master-Class-KU-3.jpg
END:VEVENT
BEGIN:VEVENT
DTSTART;VALUE=DATE:20230528
DTEND;VALUE=DATE:20230529
DTSTAMP:20260420T014615
CREATED:20230525T161652Z
LAST-MODIFIED:20230525T163121Z
UID:988420-1685232000-1685318399@gkjjembatanlima.org
SUMMARY:Master Class Kebaktian Umum 2 & 4
DESCRIPTION:Master Class Kebaktian Umum 2 & 4 akan diadakan pada hari Minggu\, 28 Mei 2023 setelah KU 4 selesai. \nKami mengundang WL dan Singer yang belum tergabung dalam Serafim Voice untuk menghadirinya.
URL:https://gkjjembatanlima.org/acara/master-class-ku-2-4/
LOCATION:GKJ Jembatan Lima\, GKJ Jembatan Lima Jl. Tambora Raya No.44\, Jakarta Barat\, DKI Jakarta\, 11220\, Indonesia
CATEGORIES:Pembinaan
ATTACH;FMTTYPE=image/jpeg:https://gkjjembatanlima.org/wp-content/uploads/2023/05/7.-Master-Class-KU-2_4.jpg
END:VEVENT
END:VCALENDAR