BEGIN:VCALENDAR
VERSION:2.0
PRODID:-//GKJ Jemaat Jembatan Lima - ECPv6.14.0//NONSGML v1.0//EN
CALSCALE:GREGORIAN
METHOD:PUBLISH
X-WR-CALNAME:GKJ Jemaat Jembatan Lima
X-ORIGINAL-URL:https://gkjjembatanlima.org
X-WR-CALDESC:Events for GKJ Jemaat Jembatan Lima
REFRESH-INTERVAL;VALUE=DURATION:PT1H
X-Robots-Tag:noindex
X-PUBLISHED-TTL:PT1H
BEGIN:VTIMEZONE
TZID:Asia/Jakarta
BEGIN:STANDARD
TZOFFSETFROM:+0700
TZOFFSETTO:+0700
TZNAME:WIB
DTSTART:20240101T000000
END:STANDARD
END:VTIMEZONE
BEGIN:VEVENT
DTSTART;TZID=Asia/Jakarta:20241204T190000
DTEND;TZID=Asia/Jakarta:20241204T190000
DTSTAMP:20260422T160039
CREATED:20241130T111603Z
LAST-MODIFIED:20241130T111603Z
UID:991348-1733338800-1733338800@gkjjembatanlima.org
SUMMARY:Persekutuan Doa | 04 DES 2024
DESCRIPTION:Persekutuan Doa Onsite & Online: \nHari: Rabu\, 04 Desember 2024.\nPukul: 19:00 WIB. \nDengan Tema: JANJI YANG DIGENAPI.\nOleh: GI. Andreas Nikodemus. \nOnsite:\nGKJ Jemaat Jembatan Lima\nJl. Tambora Raya No. 44\, Jakarta Barat \nOnline:\nZoom meeting : Link\n\nMeeting ID: 811 8007 3304\nPasscode: 573138\n(Zoom dibuka pukul 18.45) \n \n 
URL:https://gkjjembatanlima.org/acara/persekutuan-doa-04-des-2024/
LOCATION:GKJ Jembatan Lima\, GKJ Jembatan Lima Jl. Tambora Raya No.44\, Jakarta Barat\, DKI Jakarta\, 11220\, Indonesia
CATEGORIES:Persekutuan Doa
ATTACH;FMTTYPE=image/jpeg:https://gkjjembatanlima.org/wp-content/uploads/2024/11/PD-04-DES-2024.jpg
END:VEVENT
BEGIN:VEVENT
DTSTART;TZID=Asia/Jakarta:20241211T190000
DTEND;TZID=Asia/Jakarta:20241211T190000
DTSTAMP:20260422T160039
CREATED:20241207T173945Z
LAST-MODIFIED:20241207T173945Z
UID:991395-1733943600-1733943600@gkjjembatanlima.org
SUMMARY:Persekutuan Doa | 11 DES 2024
DESCRIPTION:Persekutuan Doa Onsite & Online: \nHari: Rabu\, 11 Desember 2024.\nPukul: 19:00 WIB. \nDengan Tema: NATAL DI KELUARGAKU.\nOleh: GI. Widya Tuluswati. \nOnsite:\nGKJ Jemaat Jembatan Lima\nJl. Tambora Raya No. 44\, Jakarta Barat \nOnline:\nZoom meeting : Link\n\nMeeting ID: 811 8007 3304\nPasscode: 573138\n(Zoom dibuka pukul 18.45) \n \n 
URL:https://gkjjembatanlima.org/acara/persekutuan-doa-11-des-2024/
LOCATION:GKJ Jembatan Lima\, GKJ Jembatan Lima Jl. Tambora Raya No.44\, Jakarta Barat\, DKI Jakarta\, 11220\, Indonesia
CATEGORIES:Persekutuan Doa
ATTACH;FMTTYPE=image/jpeg:https://gkjjembatanlima.org/wp-content/uploads/2024/12/PD-11-DES-2024.jpg
END:VEVENT
BEGIN:VEVENT
DTSTART;TZID=Asia/Jakarta:20241218T190000
DTEND;TZID=Asia/Jakarta:20241218T190000
DTSTAMP:20260422T160039
CREATED:20241215T093631Z
LAST-MODIFIED:20241215T093631Z
UID:991419-1734548400-1734548400@gkjjembatanlima.org
SUMMARY:Persekutuan Doa Puasa | 18 DES 2024
DESCRIPTION:Persekutuan Doa Puasa Onsite & Online: \nHari: Rabu\, 18 Desember 2024.\nPukul: 19:00 WIB. \nDengan Tema: KELAHIRAN-NYA MENGUBAHKANKU.\nOleh: Pdt. Jeremy Jusen. \nMengundang Seluruh Panitia Natal\, Pelayan Natal Bahasa Indonesia dan Mandarin\, Pelayan Ibadah Malam Tahun Baru\, Pelayan Ibadah Tahun Baru\, berserta seluruh jemaat untuk menghadirinya. \nOnsite:\nGKJ Jemaat Jembatan Lima\nJl. Tambora Raya No. 44\, Jakarta Barat \nOnline:\nZoom meeting : Link\n\nMeeting ID: 811 8007 3304\nPasscode: 573138\n(Zoom dibuka pukul 18.45) \n \n 
URL:https://gkjjembatanlima.org/acara/persekutuan-doa-puasa-18-des-2024/
LOCATION:GKJ Jembatan Lima\, GKJ Jembatan Lima Jl. Tambora Raya No.44\, Jakarta Barat\, DKI Jakarta\, 11220\, Indonesia
CATEGORIES:Persekutuan Doa
ATTACH;FMTTYPE=image/jpeg:https://gkjjembatanlima.org/wp-content/uploads/2024/12/PD-18-DES-2024.jpg
END:VEVENT
BEGIN:VEVENT
DTSTART;VALUE=DATE:20241225
DTEND;VALUE=DATE:20241226
DTSTAMP:20260422T160039
CREATED:20241221T151212Z
LAST-MODIFIED:20241221T151212Z
UID:991435-1735084800-1735171199@gkjjembatanlima.org
SUMMARY:Persekutuan Doa | 25 DES 2024
DESCRIPTION:Persekutuan Doa Rabu 25 Desember 2024 akan digabung ke Perayaan Natal Bahasa Mandarin pukul 09.00 WIB. \n 
URL:https://gkjjembatanlima.org/acara/persekutuan-doa-25-des-2024/
LOCATION:DKI Jakarta
CATEGORIES:Persekutuan Doa
ATTACH;FMTTYPE=image/jpeg:https://gkjjembatanlima.org/wp-content/uploads/2024/12/PD-25-DES-2024.jpg
END:VEVENT
END:VCALENDAR