BEGIN:VCALENDAR
VERSION:2.0
PRODID:-//GKJ Jemaat Jembatan Lima - ECPv6.14.0//NONSGML v1.0//EN
CALSCALE:GREGORIAN
METHOD:PUBLISH
X-ORIGINAL-URL:https://gkjjembatanlima.org
X-WR-CALDESC:Events for GKJ Jemaat Jembatan Lima
REFRESH-INTERVAL;VALUE=DURATION:PT1H
X-Robots-Tag:noindex
X-PUBLISHED-TTL:PT1H
BEGIN:VTIMEZONE
TZID:Asia/Jakarta
BEGIN:STANDARD
TZOFFSETFROM:+0700
TZOFFSETTO:+0700
TZNAME:WIB
DTSTART:20260101T000000
END:STANDARD
END:VTIMEZONE
BEGIN:VEVENT
DTSTART;TZID=Asia/Jakarta:20260107T190000
DTEND;TZID=Asia/Jakarta:20260107T190000
DTSTAMP:20260421T194636
CREATED:20260103T042237Z
LAST-MODIFIED:20260103T042237Z
UID:992879-1767812400-1767812400@gkjjembatanlima.org
SUMMARY:Persekutuan Doa Rabu | 07 JAN 2026
DESCRIPTION:Persekutuan Doa Rabu Onsite & Online: \nHari: Rabu\, 07 Januari 2026.\nPukul: 19:00 WIB. \nDengan Tema: KONSEP PILIHAN.\nPembicara: G.I. Andreas Nikodemus. \nOnsite:\nGKJ Jemaat Jembatan Lima\nJl. Tambora Raya No. 44\, Jakarta Barat \nOnline:\nZoom meeting : Link\n\nMeeting ID: 811 8007 3304\nPasscode: 573138\n(Zoom dibuka pukul 18.45) \n \n 
URL:https://gkjjembatanlima.org/acara/persekutuan-doa-rabu-07-jan-2026/
LOCATION:GKJ Jembatan Lima\, GKJ Jembatan Lima Jl. Tambora Raya No.44\, Jakarta Barat\, DKI Jakarta\, 11220\, Indonesia
CATEGORIES:Persekutuan Doa
ATTACH;FMTTYPE=image/jpeg:https://gkjjembatanlima.org/wp-content/uploads/2026/01/PD-07-JAN-2026.jpg
END:VEVENT
BEGIN:VEVENT
DTSTART;TZID=Asia/Jakarta:20260114T190000
DTEND;TZID=Asia/Jakarta:20260114T190000
DTSTAMP:20260421T194636
CREATED:20260110T132020Z
LAST-MODIFIED:20260110T132020Z
UID:992910-1768417200-1768417200@gkjjembatanlima.org
SUMMARY:Persekutuan Doa Rabu | 14 JAN 2026
DESCRIPTION:Persekutuan Doa Rabu Onsite & Online: \nHari: Rabu\, 14 Januari 2026.\nPukul: 19:00 WIB. \nDengan Tema: KONSEP PENEBUSAN.\nPembicara: Pdt. Ang Tjoe Mio. \nOnsite:\nGKJ Jemaat Jembatan Lima\nJl. Tambora Raya No. 44\, Jakarta Barat \nOnline:\nZoom meeting : Link\n\nMeeting ID: 811 8007 3304\nPasscode: 573138\n(Zoom dibuka pukul 18.45) \n \n 
URL:https://gkjjembatanlima.org/acara/persekutuan-doa-rabu-14-jan-2026/
LOCATION:GKJ Jembatan Lima\, GKJ Jembatan Lima Jl. Tambora Raya No.44\, Jakarta Barat\, DKI Jakarta\, 11220\, Indonesia
CATEGORIES:Persekutuan Doa
ATTACH;FMTTYPE=image/jpeg:https://gkjjembatanlima.org/wp-content/uploads/2026/01/PD-14-JAN-2026.jpg
END:VEVENT
BEGIN:VEVENT
DTSTART;TZID=Asia/Jakarta:20260121T190000
DTEND;TZID=Asia/Jakarta:20260121T190000
DTSTAMP:20260421T194636
CREATED:20260117T042403Z
LAST-MODIFIED:20260118T014243Z
UID:992943-1769022000-1769022000@gkjjembatanlima.org
SUMMARY:Persekutuan Doa Puasa Rabu | 21 JAN 2026
DESCRIPTION:Persekutuan Doa Puasa Rabu 拜三禁食晚禱會. \nHari & Tanggal (日期): Rabu\, 21 Januari 2026 (2026年1月21日星期三).\nWaktu (时间): 19.00 WIB (晚上七点). \nTema 主题: KONSEP PEMBENARAN 称义的真理.\nPembicara 講員: G.I. Alfa Imannuel 于来發傳道. \nLokasi 地點 :\nGKJ Jemaat Jembatan Lima\nJl. Tambora Raya No. 44\, Jakarta Barat \nOnline 线上:\nZoom meeting : Link\n\nMeeting ID: 811 8007 3304\nPasscode: 573138\n(Zoom dibuka pukul 18.45)
URL:https://gkjjembatanlima.org/acara/persekutuan-doa-puasa-rabu-21-jan-2026/
LOCATION:GKJ Jembatan Lima\, GKJ Jembatan Lima Jl. Tambora Raya No.44\, Jakarta Barat\, DKI Jakarta\, 11220\, Indonesia
CATEGORIES:Persekutuan Doa
ATTACH;FMTTYPE=image/jpeg:https://gkjjembatanlima.org/wp-content/uploads/2026/01/PD-21-JAN-2026.jpg
END:VEVENT
BEGIN:VEVENT
DTSTART;TZID=Asia/Jakarta:20260128T190000
DTEND;TZID=Asia/Jakarta:20260128T190000
DTSTAMP:20260421T194636
CREATED:20260124T125044Z
LAST-MODIFIED:20260124T125044Z
UID:993083-1769626800-1769626800@gkjjembatanlima.org
SUMMARY:Persekutuan Doa Rabu | 28 JAN 2026
DESCRIPTION:Persekutuan Doa Rabu 拜三晚禱會. \nHari & Tanggal (日期): Rabu\, 28 Januari 2026 (2026年1月28日星期三).\nWaktu (时间): 19.00 WIB (晚上七点). \nTema 主题: KONSEP ADOPSI.\nPembicara 講員: G.I. Widya Laras 范萌谐传道. \nLokasi 地點 :\nGKJ Jemaat Jembatan Lima\nJl. Tambora Raya No. 44\, Jakarta Barat \nOnline 线上: \nZoom meeting : Link\n\nMeeting ID: 811 8007 3304\nPasscode: 573138\n(Zoom dibuka pukul 18.45) \n \n 
URL:https://gkjjembatanlima.org/acara/persekutuan-doa-rabu-28-jan-2026/
LOCATION:GKJ Jembatan Lima\, GKJ Jembatan Lima Jl. Tambora Raya No.44\, Jakarta Barat\, DKI Jakarta\, 11220\, Indonesia
CATEGORIES:Persekutuan Doa
ATTACH;FMTTYPE=image/jpeg:https://gkjjembatanlima.org/wp-content/uploads/2026/01/PD-28-JAN-2026.jpg
END:VEVENT
END:VCALENDAR