BEGIN:VCALENDAR
VERSION:2.0
PRODID:-//GKJ Jemaat Jembatan Lima - ECPv6.14.0//NONSGML v1.0//EN
CALSCALE:GREGORIAN
METHOD:PUBLISH
X-ORIGINAL-URL:https://gkjjembatanlima.org
X-WR-CALDESC:Events for GKJ Jemaat Jembatan Lima
REFRESH-INTERVAL;VALUE=DURATION:PT1H
X-Robots-Tag:noindex
X-PUBLISHED-TTL:PT1H
BEGIN:VTIMEZONE
TZID:Asia/Jakarta
BEGIN:STANDARD
TZOFFSETFROM:+0700
TZOFFSETTO:+0700
TZNAME:WIB
DTSTART:20250101T000000
END:STANDARD
END:VTIMEZONE
BEGIN:VEVENT
DTSTART;VALUE=DATE:20250129
DTEND;VALUE=DATE:20250130
DTSTAMP:20260422T131315
CREATED:20250125T070514Z
LAST-MODIFIED:20250125T070514Z
UID:991569-1738108800-1738195199@gkjjembatanlima.org
SUMMARY:Persekutuan Doa | 29 JAN 2025
DESCRIPTION:Persekutuan Doa Rabu 29 Januari 2025 diliburkan bertepatan dengan Tahun Baru Imlek. \n 
URL:https://gkjjembatanlima.org/acara/persekutuan-doa-29-jan-2025/
LOCATION:DKI Jakarta
CATEGORIES:Persekutuan Doa
ATTACH;FMTTYPE=image/jpeg:https://gkjjembatanlima.org/wp-content/uploads/2025/01/PD-29-JAN-2025.jpg
END:VEVENT
END:VCALENDAR