BEGIN:VCALENDAR
VERSION:2.0
PRODID:-//GKJ Jemaat Jembatan Lima - ECPv6.14.0//NONSGML v1.0//EN
CALSCALE:GREGORIAN
METHOD:PUBLISH
X-ORIGINAL-URL:https://gkjjembatanlima.org
X-WR-CALDESC:Events for GKJ Jemaat Jembatan Lima
REFRESH-INTERVAL;VALUE=DURATION:PT1H
X-Robots-Tag:noindex
X-PUBLISHED-TTL:PT1H
BEGIN:VTIMEZONE
TZID:Asia/Jakarta
BEGIN:STANDARD
TZOFFSETFROM:+0700
TZOFFSETTO:+0700
TZNAME:WIB
DTSTART:20230101T000000
END:STANDARD
END:VTIMEZONE
BEGIN:VEVENT
DTSTART;TZID=Asia/Jakarta:20240131T190000
DTEND;TZID=Asia/Jakarta:20240131T190000
DTSTAMP:20260420T123115
CREATED:20240128T012857Z
LAST-MODIFIED:20240128T042515Z
UID:990189-1706727600-1706727600@gkjjembatanlima.org
SUMMARY:Persekutuan Doa Rabu | 31 JAN 2024
DESCRIPTION:Persekutuan Doa Onsite & Online: \nHari: Rabu\, 31 Januari 2024.\nPukul: 19:00 WIB. \nDengan Tema: TRADISI & BUDAYA IMLEK BAGI ORANG PERCAYA.\nOleh: Pdt. Lukas Phang. \nOnsite:\nGKJ Jemaat Jembatan Lima\nJl. Tambora Raya No. 44\, Jakarta Barat \nOnline:\nZoom meeting : Link\n\nMeeting ID: 811 8007 3304\nPasscode: 573138\n(Zoom dibuka pukul 18.45) \n \n 
URL:https://gkjjembatanlima.org/acara/persekutuan-doa-rabu-31-jan-2024/
LOCATION:GKJ Jembatan Lima\, GKJ Jembatan Lima Jl. Tambora Raya No.44\, Jakarta Barat\, DKI Jakarta\, 11220\, Indonesia
CATEGORIES:Persekutuan Doa
ATTACH;FMTTYPE=image/jpeg:https://gkjjembatanlima.org/wp-content/uploads/2024/01/PD-31-JAN-2024.jpg
END:VEVENT
BEGIN:VEVENT
DTSTART;TZID=Asia/Jakarta:20240124T190000
DTEND;TZID=Asia/Jakarta:20240124T190000
DTSTAMP:20260420T123115
CREATED:20240120T032149Z
LAST-MODIFIED:20240120T032149Z
UID:990156-1706122800-1706122800@gkjjembatanlima.org
SUMMARY:Persekutuan Doa Rabu | 24 JAN 2024
DESCRIPTION:Persekutuan Doa Onsite & Online: \nHari: Rabu\, 24 Januari 2024.\nPukul: 19:00 WIB. \nDengan Tema: PERCAYAKANLAH PADA TUHAN.\nOleh: GI. Alfa Imannuel. \nOnsite:\nGKJ Jemaat Jembatan Lima\nJl. Tambora Raya No. 44\, Jakarta Barat \nOnline:\nZoom meeting : Link\n\nMeeting ID: 811 8007 3304\nPasscode: 573138\n(Zoom dibuka pukul 18.45) \n \n 
URL:https://gkjjembatanlima.org/acara/persekutuan-doa-rabu-24-jan-2024/
LOCATION:GKJ Jembatan Lima\, GKJ Jembatan Lima Jl. Tambora Raya No.44\, Jakarta Barat\, DKI Jakarta\, 11220\, Indonesia
CATEGORIES:Persekutuan Doa
ATTACH;FMTTYPE=image/jpeg:https://gkjjembatanlima.org/wp-content/uploads/2024/01/PD-24-JANUARI-2024.jpg
END:VEVENT
BEGIN:VEVENT
DTSTART;TZID=Asia/Jakarta:20240117T190000
DTEND;TZID=Asia/Jakarta:20240117T190000
DTSTAMP:20260420T123115
CREATED:20240117T063026Z
LAST-MODIFIED:20240117T063026Z
UID:990147-1705518000-1705518000@gkjjembatanlima.org
SUMMARY:Persekutuan Doa Rabu | 17 JAN 2024
DESCRIPTION:Persekutuan Doa Onsite & Online: \nHari: Rabu\, 17 Januari 2024.\nPukul: 19:00 WIB. \nDengan Tema: KITA TERBATAS TETAPI TUHAN TIDAK TERBATAS.\nOleh: Pdt. Ang Tjoe Mio. \nOnsite:\nGKJ Jemaat Jembatan Lima\nJl. Tambora Raya No. 44\, Jakarta Barat \nOnline:\nZoom meeting : Link\n\nMeeting ID: 811 8007 3304\nPasscode: 573138\n(Zoom dibuka pukul 18.45)
URL:https://gkjjembatanlima.org/acara/persekutuan-doa-rabu-17-jan-2024/
LOCATION:GKJ Jembatan Lima\, GKJ Jembatan Lima Jl. Tambora Raya No.44\, Jakarta Barat\, DKI Jakarta\, 11220\, Indonesia
CATEGORIES:Persekutuan Doa
ATTACH;FMTTYPE=image/jpeg:https://gkjjembatanlima.org/wp-content/uploads/2024/01/PD-17-JAN.jpg
END:VEVENT
BEGIN:VEVENT
DTSTART;TZID=Asia/Jakarta:20240110T190000
DTEND;TZID=Asia/Jakarta:20240110T190000
DTSTAMP:20260420T123115
CREATED:20240106T053616Z
LAST-MODIFIED:20240106T053616Z
UID:990117-1704913200-1704913200@gkjjembatanlima.org
SUMMARY:Persekutuan Doa Rabu | 10 JAN 2024
DESCRIPTION:Persekutuan Doa Onsite & Online: \nHari: Rabu\, 10 Januari 2024.\nPukul: 19:00 WIB. \nDengan Tema: TUHAN PENYEMBUHKU.\nOleh: GI. Noptianus Zendrato. \nOnsite:\nGKJ Jemaat Jembatan Lima\nJl. Tambora Raya No. 44\, Jakarta Barat \nOnline:\nZoom meeting : Link\n\nMeeting ID: 811 8007 3304\nPasscode: 573138\n(Zoom dibuka pukul 18.45)
URL:https://gkjjembatanlima.org/acara/persekutuan-doa-rabu-10-jan-2024/
LOCATION:GKJ Jembatan Lima\, GKJ Jembatan Lima Jl. Tambora Raya No.44\, Jakarta Barat\, DKI Jakarta\, 11220\, Indonesia
CATEGORIES:Persekutuan Doa
ATTACH;FMTTYPE=image/jpeg:https://gkjjembatanlima.org/wp-content/uploads/2024/01/PD-10-JAN-2024.jpg
END:VEVENT
BEGIN:VEVENT
DTSTART;TZID=Asia/Jakarta:20240103T190000
DTEND;TZID=Asia/Jakarta:20240103T190000
DTSTAMP:20260420T123115
CREATED:20231229T030158Z
LAST-MODIFIED:20231229T050336Z
UID:990078-1704308400-1704308400@gkjjembatanlima.org
SUMMARY:Persekutuan Doa Rabu | 03 JAN 2024
DESCRIPTION:Persekutuan Doa Onsite & Online: \nHari Rabu\, 03 Januari 2024.\nPukul 19:00 WIB. \nDengan Tema: HARI DEPAN PENUH HARAPAN.\nOleh: GI. Noriana Nori. \nOnsite:\nGKJ Jemaat Jembatan Lima\nJl. Tambora Raya No. 44\, Jakarta Barat \nOnline:\nZoom meeting : Link\n\nMeeting ID: 811 8007 3304\nPasscode: 573138\n(Zoom dibuka pukul 18.45) \n 
URL:https://gkjjembatanlima.org/acara/persekutuan-doa-rabu-03-jan-2024/
LOCATION:GKJ Jembatan Lima\, GKJ Jembatan Lima Jl. Tambora Raya No.44\, Jakarta Barat\, DKI Jakarta\, 11220\, Indonesia
CATEGORIES:Persekutuan Doa
ATTACH;FMTTYPE=image/jpeg:https://gkjjembatanlima.org/wp-content/uploads/2023/12/PD-03-JAN-2024.jpg
END:VEVENT
BEGIN:VEVENT
DTSTART;TZID=Asia/Jakarta:20231227T190000
DTEND;TZID=Asia/Jakarta:20231227T190000
DTSTAMP:20260420T123115
CREATED:20231223T101011Z
LAST-MODIFIED:20231223T101011Z
UID:990071-1703703600-1703703600@gkjjembatanlima.org
SUMMARY:Persekutuan Doa Rabu 27 Desember 2023
DESCRIPTION:Persekutuan Doa Onsite & Online: \nHari: Rabu\, 27 Desember 2023.\nPukul: 19:00 WIB. \nDengan Tema: HARAPAN YANG BARU.\nOleh: Pdt. Ang Tjoe Mio. \nOnsite:\nGKJ Jemaat Jembatan Lima\nJl. Tambora Raya No. 44\, Jakarta Barat \nOnline:\nZoom meeting : Link\n\nMeeting ID: 811 8007 3304\nPasscode: 573138\n(Zoom dibuka pukul 18.45)
URL:https://gkjjembatanlima.org/acara/persekutuan-doa-rabu-27-desember-2023/
LOCATION:GKJ Jembatan Lima\, GKJ Jembatan Lima Jl. Tambora Raya No.44\, Jakarta Barat\, DKI Jakarta\, 11220\, Indonesia
CATEGORIES:Persekutuan Doa
ATTACH;FMTTYPE=image/jpeg:https://gkjjembatanlima.org/wp-content/uploads/2023/12/PD-27-DES-2023.jpg
END:VEVENT
BEGIN:VEVENT
DTSTART;TZID=Asia/Jakarta:20231220T190000
DTEND;TZID=Asia/Jakarta:20231220T190000
DTSTAMP:20260420T123115
CREATED:20231216T155009Z
LAST-MODIFIED:20231217T003038Z
UID:990047-1703098800-1703098800@gkjjembatanlima.org
SUMMARY:Persekutuan Doa Puasa Rabu 20 Desember 2023
DESCRIPTION:Persekutuan Doa Puasa Onsite & Online: \nHari: Rabu\, 20 Desember 2023\,\nPukul: 19:00 WIB. \nDengan Tema: Asal Usul Natal: Mengapa Natal Dirayakan 25 Des?\nOleh: GI. Alfa Imannuel. \nOnsite:\nGKJ Jemaat Jembatan Lima\,\nJl. Tambora Raya No. 44\, Jakarta Barat \nOnline:\nZoom meeting : Link\n\nMeeting ID: 811 8007 3304\nPasscode: 573138\n(Zoom dibuka pukul 18.45) \n \n 
URL:https://gkjjembatanlima.org/acara/persekutuan-doa-puasa-rabu-20-desember-2023/
LOCATION:GKJ Jembatan Lima\, GKJ Jembatan Lima Jl. Tambora Raya No.44\, Jakarta Barat\, DKI Jakarta\, 11220\, Indonesia
CATEGORIES:Persekutuan Doa
ATTACH;FMTTYPE=image/jpeg:https://gkjjembatanlima.org/wp-content/uploads/2023/12/PD-Puasa-1.jpg
END:VEVENT
BEGIN:VEVENT
DTSTART;TZID=Asia/Jakarta:20231213T180000
DTEND;TZID=Asia/Jakarta:20231213T180000
DTSTAMP:20260420T123115
CREATED:20231209T114857Z
LAST-MODIFIED:20231209T114857Z
UID:990017-1702490400-1702490400@gkjjembatanlima.org
SUMMARY:Peneguhan Gembala Sidang GKJ Jemaat Jembatan Lima
DESCRIPTION:Peneguhan Gembala Sidang GKJ Jemaat Jembatan Lima akan berlangsung pada: \nHari Rabu\, 13 Desember 2023 Pukul 19.00 WIB. \nAcara: \n\nPeneguhan Pdt. Ang Tjoe Mio (Hamba Tuhan GKJ Jembatan Lima) sebagai Gembala Sidang GKJ Jemaat Jembatan Lima\nPeneguhan GI. Swanius Bong (Hamba Tuhan GKJ Jembatan Besi) sebagai Pembawa Perjamuan Kudus\n\n \nOnsite:\nGKJ Jemaat Jembatan Lima\nJl. Tambora Raya No. 44\, Jakarta Barat \nOnline:\nZoom meeting : Link\n\nMeeting ID: 811 8007 3304\nPasscode: 573138\n(Zoom dibuka pukul 18.45)
URL:https://gkjjembatanlima.org/acara/peneguhan-gembala-sidang-gkj-jemaat-jembatan-lima/
LOCATION:GKJ Jembatan Lima\, GKJ Jembatan Lima Jl. Tambora Raya No.44\, Jakarta Barat\, DKI Jakarta\, 11220\, Indonesia
CATEGORIES:Persekutuan Doa
ATTACH;FMTTYPE=image/jpeg:https://gkjjembatanlima.org/wp-content/uploads/2023/12/Untitled-1.jpg
END:VEVENT
BEGIN:VEVENT
DTSTART;TZID=Asia/Jakarta:20231206T190000
DTEND;TZID=Asia/Jakarta:20231206T190000
DTSTAMP:20260420T123115
CREATED:20231202T130846Z
LAST-MODIFIED:20231202T130846Z
UID:989967-1701889200-1701889200@gkjjembatanlima.org
SUMMARY:Persekutuan Doa Rabu 06 Desember 2023
DESCRIPTION:Persekutuan Doa Onsite & Online: \nHari: Rabu\, 06 Desember 2023.\nPukul: 19:00 WIB. \nDengan Tema: Sambutlah Raja Damai.\nOleh: GI. Noptianus Zendrato. \nOnsite:\nGKJ Jemaat Jembatan Lima\nJl. Tambora Raya No. 44\, Jakarta Barat \nOnline:\nZoom meeting : Link\n\nMeeting ID: 811 8007 3304\nPasscode: 573138\n(Zoom dibuka pukul 18.45)
URL:https://gkjjembatanlima.org/acara/persekutuan-doa-rabu-06-desember-2023/
LOCATION:GKJ Jembatan Lima\, GKJ Jembatan Lima Jl. Tambora Raya No.44\, Jakarta Barat\, DKI Jakarta\, 11220\, Indonesia
CATEGORIES:Persekutuan Doa
ATTACH;FMTTYPE=image/jpeg:https://gkjjembatanlima.org/wp-content/uploads/2023/12/PD-06-DES-2023.jpg
END:VEVENT
BEGIN:VEVENT
DTSTART;TZID=Asia/Jakarta:20231129T190000
DTEND;TZID=Asia/Jakarta:20231129T190000
DTSTAMP:20260420T123115
CREATED:20231125T105536Z
LAST-MODIFIED:20231125T105536Z
UID:989946-1701284400-1701284400@gkjjembatanlima.org
SUMMARY:Persekutuan Doa Rabu 29 November 2023
DESCRIPTION:Persekutuan Doa Onsite & Online: \nHari: Rabu\, 29 November 2023.\nPukul: 19:00 WIB. \nDengan Acara: Malam Doa dan Kesaksian. \nOnsite:\nGKJ Jemaat Jembatan Lima\nJl. Tambora Raya No. 44\, Jakarta Barat \nOnline:\nZoom meeting : Link\n\nMeeting ID: 811 8007 3304\nPasscode: 573138\n(Zoom dibuka pukul 18.45)
URL:https://gkjjembatanlima.org/acara/persekutuan-doa-rabu-29-november-2023/
LOCATION:GKJ Jembatan Lima\, GKJ Jembatan Lima Jl. Tambora Raya No.44\, Jakarta Barat\, DKI Jakarta\, 11220\, Indonesia
CATEGORIES:Persekutuan Doa
END:VEVENT
BEGIN:VEVENT
DTSTART;TZID=Asia/Jakarta:20231122T190000
DTEND;TZID=Asia/Jakarta:20231122T190000
DTSTAMP:20260420T123115
CREATED:20231118T162235Z
LAST-MODIFIED:20231118T162235Z
UID:989930-1700679600-1700679600@gkjjembatanlima.org
SUMMARY:Persekutuan Doa Rabu 22 November 2023
DESCRIPTION:Persekutuan Doa Onsite & Online: \nHari: Rabu\, 22 November 2023.\nPukul: 19:00 WIB. \nDengan Tema: Mujizat Yesus di Kolam Bethesda dan Kesaksian Yesus Sendiri tentang Diri-Nya.\nOleh: GI. Noptianus Zendrato. \nOnsite:\nGKJ Jemaat Jembatan Lima\nJl. Tambora Raya No. 44\, Jakarta Barat \nOnline:\nZoom meeting : Link\n\nMeeting ID: 811 8007 3304\nPasscode: 573138\n(Zoom dibuka pukul 18.45)
URL:https://gkjjembatanlima.org/acara/persekutuan-doa-rabu-22-november-2023/
LOCATION:GKJ Jembatan Lima\, GKJ Jembatan Lima Jl. Tambora Raya No.44\, Jakarta Barat\, DKI Jakarta\, 11220\, Indonesia
CATEGORIES:Persekutuan Doa
END:VEVENT
BEGIN:VEVENT
DTSTART;TZID=Asia/Jakarta:20231115T190000
DTEND;TZID=Asia/Jakarta:20231115T190000
DTSTAMP:20260420T123115
CREATED:20231111T153658Z
LAST-MODIFIED:20231111T153658Z
UID:989908-1700074800-1700074800@gkjjembatanlima.org
SUMMARY:Persekutuan Doa Puasa Rabu 15 November 2023
DESCRIPTION:Persekutuan Doa Puasa Onsite & Online: \nHari: Rabu\, 15 November 2023\,\nPukul: 19:00 WIB. \nDengan Tema: Allah Roh Kudus Dalam Kelahiran Baru.\nOleh: GI. Alfa Imannuel. \nOnsite:\nGKJ Jemaat Jembatan Lima\,\nJl. Tambora Raya No. 44\, Jakarta Barat \nOnline:\nZoom meeting : Link\n\nMeeting ID: 811 8007 3304\nPasscode: 573138\n(Zoom dibuka pukul 18.45)
URL:https://gkjjembatanlima.org/acara/persekutuan-doa-puasa-rabu-15-november-2023/
LOCATION:GKJ Jembatan Lima\, GKJ Jembatan Lima Jl. Tambora Raya No.44\, Jakarta Barat\, DKI Jakarta\, 11220\, Indonesia
CATEGORIES:Persekutuan Doa
END:VEVENT
BEGIN:VEVENT
DTSTART;TZID=Asia/Jakarta:20231025T190000
DTEND;TZID=Asia/Jakarta:20231025T190000
DTSTAMP:20260420T123115
CREATED:20231021T130632Z
LAST-MODIFIED:20231021T130632Z
UID:989864-1698260400-1698260400@gkjjembatanlima.org
SUMMARY:Persekutuan Doa Rabu 25 Oktober 2023
DESCRIPTION:Persekutuan Doa Onsite & Online: \nHari: Rabu\, 25 Oktober 2023.\nPukul: 19:00 WIB. \nDengan Tema: Doa Yunus dari dalam Perut Ikan.\nOleh: GI. Alfa Imannuel. \nOnsite:\nGKJ Jemaat Jembatan Lima\nJl. Tambora Raya No. 44\, Jakarta Barat \nOnline:\nZoom meeting : Link\n\nMeeting ID: 811 8007 3304\nPasscode: 573138\n(Zoom dibuka pukul 18.45)
URL:https://gkjjembatanlima.org/acara/persekutuan-doa-rabu-25-oktober-2023/
LOCATION:GKJ Jembatan Lima\, GKJ Jembatan Lima Jl. Tambora Raya No.44\, Jakarta Barat\, DKI Jakarta\, 11220\, Indonesia
CATEGORIES:Persekutuan Doa
END:VEVENT
BEGIN:VEVENT
DTSTART;TZID=Asia/Jakarta:20231018T190000
DTEND;TZID=Asia/Jakarta:20231018T190000
DTSTAMP:20260420T123115
CREATED:20231014T162902Z
LAST-MODIFIED:20231014T162902Z
UID:989834-1697655600-1697655600@gkjjembatanlima.org
SUMMARY:Persekutuan Doa Puasa Rabu 18 Oktober 2023
DESCRIPTION:Persekutuan Doa Puasa Onsite & Online: \nHari: Rabu\, 18 Oktober 2023\,\nPukul: 19:00 WIB. \nDengan Tema: Doa Musa untuk Bangsa Israel.\nOleh: Pdt. Ang Tjoe Mio. \nOnsite:\nGKJ Jemaat Jembatan Lima\,\nJl. Tambora Raya No. 44\, Jakarta Barat \nOnline:\nZoom meeting : Link\n\nMeeting ID: 811 8007 3304\nPasscode: 573138\n(Zoom dibuka pukul 18.45)
URL:https://gkjjembatanlima.org/acara/persekutuan-doa-puasa-rabu-18-oktober-2023/
LOCATION:GKJ Jembatan Lima\, GKJ Jembatan Lima Jl. Tambora Raya No.44\, Jakarta Barat\, DKI Jakarta\, 11220\, Indonesia
CATEGORIES:Persekutuan Doa
END:VEVENT
BEGIN:VEVENT
DTSTART;TZID=Asia/Jakarta:20231011T190000
DTEND;TZID=Asia/Jakarta:20231011T190000
DTSTAMP:20260420T123115
CREATED:20231007T151535Z
LAST-MODIFIED:20231007T151535Z
UID:989812-1697050800-1697050800@gkjjembatanlima.org
SUMMARY:Persekutuan Doa Rabu 11 Oktober 2023
DESCRIPTION:Persekutuan Doa Onsite & Online: \nHari: Rabu\, 11 Oktober 2023.\nPukul: 19:00 WIB. \nDengan Tema: Doa Abraham untuk Sodom dan Gomora.\nOleh: GI. Noptianus Zendrato. \nOnsite:\nGKJ Jemaat Jembatan Lima\nJl. Tambora Raya No. 44\, Jakarta Barat \nOnline:\nZoom meeting : Link\n\nMeeting ID: 811 8007 3304\nPasscode: 573138\n(Zoom dibuka pukul 18.45)
URL:https://gkjjembatanlima.org/acara/persekutuan-doa-rabu-11-oktober-2023/
LOCATION:GKJ Jembatan Lima\, GKJ Jembatan Lima Jl. Tambora Raya No.44\, Jakarta Barat\, DKI Jakarta\, 11220\, Indonesia
CATEGORIES:Persekutuan Doa
END:VEVENT
BEGIN:VEVENT
DTSTART;TZID=Asia/Jakarta:20231004T190000
DTEND;TZID=Asia/Jakarta:20231004T190000
DTSTAMP:20260420T123115
CREATED:20230930T094555Z
LAST-MODIFIED:20230930T094555Z
UID:989783-1696446000-1696446000@gkjjembatanlima.org
SUMMARY:Persekutuan Doa Rabu 04 Oktober 2023
DESCRIPTION:Persekutuan Doa Onsite & Online: \nHari: Rabu\,04 Oktober 2023.\nPukul: 19:00 WIB. \nDengan Tema: Doa Hagar.\nOleh: GI. Widya Tuluswati. \nOnsite:\nGKJ Jemaat Jembatan Lima\nJl. Tambora Raya No. 44\, Jakarta Barat \nOnline:\nZoom meeting : Link\n\nMeeting ID: 811 8007 3304\nPasscode: 573138\n(Zoom dibuka pukul 18.45)
URL:https://gkjjembatanlima.org/acara/persekutuan-doa-rabu-04-oktober-2023/
LOCATION:GKJ Jembatan Lima\, GKJ Jembatan Lima Jl. Tambora Raya No.44\, Jakarta Barat\, DKI Jakarta\, 11220\, Indonesia
CATEGORIES:Persekutuan Doa
END:VEVENT
BEGIN:VEVENT
DTSTART;TZID=Asia/Jakarta:20230927T190000
DTEND;TZID=Asia/Jakarta:20230927T190000
DTSTAMP:20260420T123115
CREATED:20230923T061919Z
LAST-MODIFIED:20230923T061919Z
UID:989755-1695841200-1695841200@gkjjembatanlima.org
SUMMARY:Persekutuan Doa Rabu 27 September 2023
DESCRIPTION:Persekutuan Doa Onsite & Online: \nHari: Rabu\, 27 September 2023\nPukul: 19:00 WIB \nDengan Tema: Bersaksi Dalam Marketplace\nOleh: GI. Alfa Immanuel \nOnsite:\nGKJ Jemaat Jembatan Lima\nJl. Tambora Raya No. 44\, Jakarta Barat \nOnline:\nZoom meeting : Link\n\nMeeting ID: 811 8007 3304\nPasscode: 573138\n(Zoom dibuka pukul 18.45)
URL:https://gkjjembatanlima.org/acara/persekutuan-doa-rabu-27-september-2023/
LOCATION:GKJ Jembatan Lima\, GKJ Jembatan Lima Jl. Tambora Raya No.44\, Jakarta Barat\, DKI Jakarta\, 11220\, Indonesia
CATEGORIES:Persekutuan Doa
END:VEVENT
BEGIN:VEVENT
DTSTART;TZID=Asia/Jakarta:20230920T190000
DTEND;TZID=Asia/Jakarta:20230920T190000
DTSTAMP:20260420T123115
CREATED:20230916T104100Z
LAST-MODIFIED:20230916T104100Z
UID:989716-1695236400-1695236400@gkjjembatanlima.org
SUMMARY:Persekutuan Doa Puasa & Pengutusan Team Misi GKJ Jembatan Lima - Rabu 20 September 2023
DESCRIPTION:Persekutuan Doa Puasa dan Pengutusan Team Misi GKJ Jembatan Lima – Onsite & Online: \nHari: Rabu\, 20 September 2023.\nPukul: 19:00 WIB. \nDengan Tema: Keberanian Memberitakan Firman-Mu.\nOleh: Pdt. Antoni Samosir. \nOnsite:\nGKJ Jemaat Jembatan Lima\nJl. Tambora Raya No. 44\, Jakarta Barat \nOnline:\nZoom meeting : Link\n\nMeeting ID: 811 8007 3304\nPasscode: 573138\n(Zoom dibuka pukul 18.45)
URL:https://gkjjembatanlima.org/acara/persekutuan-doa-puasa-pengutusan-team-misi-gkj-jembatan-lima-rabu-20-september-2023/
LOCATION:GKJ Jembatan Lima\, GKJ Jembatan Lima Jl. Tambora Raya No.44\, Jakarta Barat\, DKI Jakarta\, 11220\, Indonesia
CATEGORIES:Persekutuan Doa
END:VEVENT
BEGIN:VEVENT
DTSTART;TZID=Asia/Jakarta:20230913T190000
DTEND;TZID=Asia/Jakarta:20230913T190000
DTSTAMP:20260420T123115
CREATED:20230910T022956Z
LAST-MODIFIED:20230910T022956Z
UID:989681-1694631600-1694631600@gkjjembatanlima.org
SUMMARY:Persekutuan Doa Rabu 13 September 2023
DESCRIPTION:Persekutuan Doa Onsite & Online: \nHari: Rabu\, 13 September 2023\nPukul: 19:00 WIB \nDengan Tema: Keluarga Dalam Misi Allah\nOleh: GI. Noriana Nori \nOnsite:\nGKJ Jemaat Jembatan Lima\nJl. Tambora Raya No. 44\, Jakarta Barat \nOnline:\nZoom meeting : Link\n\nMeeting ID: 811 8007 3304\nPasscode: 573138\n(Zoom dibuka pukul 18.45)
URL:https://gkjjembatanlima.org/acara/persekutuan-doa-rabu-13-september-2023/
LOCATION:GKJ Jembatan Lima\, GKJ Jembatan Lima Jl. Tambora Raya No.44\, Jakarta Barat\, DKI Jakarta\, 11220\, Indonesia
CATEGORIES:Persekutuan Doa
END:VEVENT
BEGIN:VEVENT
DTSTART;TZID=Asia/Jakarta:20230906T190000
DTEND;TZID=Asia/Jakarta:20230906T190000
DTSTAMP:20260420T123115
CREATED:20230902T070206Z
LAST-MODIFIED:20230902T070206Z
UID:989632-1694026800-1694026800@gkjjembatanlima.org
SUMMARY:Persekutuan Doa Rabu 06 September 2023
DESCRIPTION:Persekutuan Doa Onsite & Online: \nHari: Rabu\, 06 September 2023\nPukul: 19:00 WIB \nDengan Tema: Apa dan Mengapa Bermisi\nOleh: Pdt. Ang Tjoe Mio \nOnsite:\nGKJ Jemaat Jembatan Lima\nJl. Tambora Raya No. 44\, Jakarta Barat \nOnline:\nZoom meeting : Link\n\nMeeting ID: 811 8007 3304\nPasscode: 573138\n(Zoom dibuka pukul 18.45)
URL:https://gkjjembatanlima.org/acara/persekutuan-doa-rabu-06-september-2023/
LOCATION:GKJ Jembatan Lima\, GKJ Jembatan Lima Jl. Tambora Raya No.44\, Jakarta Barat\, DKI Jakarta\, 11220\, Indonesia
CATEGORIES:Persekutuan Doa
END:VEVENT
BEGIN:VEVENT
DTSTART;TZID=Asia/Jakarta:20230830T190000
DTEND;TZID=Asia/Jakarta:20230830T190000
DTSTAMP:20260420T123115
CREATED:20230827T050853Z
LAST-MODIFIED:20230827T050853Z
UID:989608-1693422000-1693422000@gkjjembatanlima.org
SUMMARY:Persekutuan Doa Rabu 30 Agustus 2023
DESCRIPTION:Persekutuan Doa Onsite & Online: \nHari: Rabu\, 30 Agustus 2023\nPukul: 19:00 WIB \nDengan Acara: Malam Doa & Kesaksian \nOnsite:\nGKJ Jemaat Jembatan Lima\nJl. Tambora Raya No. 44\, Jakarta Barat \nOnline:\nZoom meeting : Link\n\nMeeting ID: 811 8007 3304\nPasscode: 573138\n(Zoom dibuka pukul 18.45)
URL:https://gkjjembatanlima.org/acara/persekutuan-doa-rabu-30-agustus-2023/
LOCATION:GKJ Jembatan Lima\, GKJ Jembatan Lima Jl. Tambora Raya No.44\, Jakarta Barat\, DKI Jakarta\, 11220\, Indonesia
CATEGORIES:Persekutuan Doa
ATTACH;FMTTYPE=image/jpeg:https://gkjjembatanlima.org/wp-content/uploads/2023/08/Poster-Malam-Kesaksian-PD-scaled.jpg
END:VEVENT
BEGIN:VEVENT
DTSTART;TZID=Asia/Jakarta:20230823T190000
DTEND;TZID=Asia/Jakarta:20230823T190000
DTSTAMP:20260420T123115
CREATED:20230819T140622Z
LAST-MODIFIED:20230819T140622Z
UID:989544-1692817200-1692817200@gkjjembatanlima.org
SUMMARY:Persekutuan Doa Rabu 23 Agustus 2023
DESCRIPTION:Persekutuan Doa Onsite & Online: \nHari: Rabu\, 23 Agustus 2023\nPukul: 19:00 WIB \nDengan Tema: Yakub\nOleh: Pdt. Ang Tjoe Mio \nOnsite:\nGKJ Jemaat Jembatan Lima\nJl. Tambora Raya No. 44\, Jakarta Barat \nOnline:\nZoom meeting : Link\n\nMeeting ID: 811 8007 3304\nPasscode: 573138\n(Zoom dibuka pukul 18.45)
URL:https://gkjjembatanlima.org/acara/persekutuan-doa-rabu-23-agustus-2023/
LOCATION:GKJ Jembatan Lima\, GKJ Jembatan Lima Jl. Tambora Raya No.44\, Jakarta Barat\, DKI Jakarta\, 11220\, Indonesia
CATEGORIES:Persekutuan Doa
ATTACH;FMTTYPE=image/jpeg:https://gkjjembatanlima.org/wp-content/uploads/2023/08/PD-23-AGUST-2023.jpg
END:VEVENT
BEGIN:VEVENT
DTSTART;TZID=Asia/Jakarta:20230816T190000
DTEND;TZID=Asia/Jakarta:20230816T190000
DTSTAMP:20260420T123115
CREATED:20230812T033401Z
LAST-MODIFIED:20230812T033401Z
UID:989492-1692212400-1692212400@gkjjembatanlima.org
SUMMARY:Persekutuan Doa Puasa Rabu 16 Agustus 2023
DESCRIPTION:Persekutuan Doa dan Puasa Onsite & Online: \nHari: Rabu\, 16 Agustus 2023\nPukul: 19:00 WIB \nDengan Tema: Abraham\nOleh: GI. Noptianus Zendrato \nOnsite:\nGKJ Jemaat Jembatan Lima\nJl. Tambora Raya No. 44\, Jakarta Barat \nOnline:\nZoom meeting : Link\n\nMeeting ID: 811 8007 3304\nPasscode: 573138\n(Zoom dibuka pukul 18.45)
URL:https://gkjjembatanlima.org/acara/persekutuan-doa-puasa-rabu-16-agustus-2023/
LOCATION:GKJ Jembatan Lima\, GKJ Jembatan Lima Jl. Tambora Raya No.44\, Jakarta Barat\, DKI Jakarta\, 11220\, Indonesia
CATEGORIES:Persekutuan Doa
ATTACH;FMTTYPE=image/jpeg:https://gkjjembatanlima.org/wp-content/uploads/2023/08/PD-16-Agust-2023.jpg
END:VEVENT
BEGIN:VEVENT
DTSTART;TZID=Asia/Jakarta:20230809T190000
DTEND;TZID=Asia/Jakarta:20230809T200000
DTSTAMP:20260420T123115
CREATED:20230806T003516Z
LAST-MODIFIED:20230806T003646Z
UID:989455-1691607600-1691611200@gkjjembatanlima.org
SUMMARY:Persekutuan Doa Rabu 09 Agustus 2023
DESCRIPTION:Persekutuan Doa Onsite & Online: \nHari: Rabu\, 09 Agustus 2023\nPukul: 19:00 WIB. \nPada persekutuan doa rabu ini\, akan diadakan Upacara Penerimaan dan Pengangkatan\nGI. Noriana Nori\, GI. Noptianus Zendrato\, dan GI. Pinvatanis Gea\nSebagai Hamba Tuhan Sinode Gereja Kristen Jakarta. \nMengundang segenap pengurus dan jemaat untuk dapat menghadirinya. \nOnsite:\nGKJ Jemaat Jembatan Lima\nJl. Tambora Raya No. 44\, Jakarta Barat \nOnline:\nZoom meeting : Link\n\nMeeting ID: 811 8007 3304\nPasscode: 573138\n(Zoom dibuka pukul 18.45)
URL:https://gkjjembatanlima.org/acara/persekutuan-doa-rabu-09-agustus-2023/
LOCATION:GKJ Jembatan Lima\, GKJ Jembatan Lima Jl. Tambora Raya No.44\, Jakarta Barat\, DKI Jakarta\, 11220\, Indonesia
CATEGORIES:Persekutuan Doa
ATTACH;FMTTYPE=image/jpeg:https://gkjjembatanlima.org/wp-content/uploads/2023/08/Untitled-1.jpg
END:VEVENT
BEGIN:VEVENT
DTSTART;TZID=Asia/Jakarta:20230802T190000
DTEND;TZID=Asia/Jakarta:20230802T190000
DTSTAMP:20260420T123115
CREATED:20230728T155602Z
LAST-MODIFIED:20230728T155602Z
UID:989397-1691002800-1691002800@gkjjembatanlima.org
SUMMARY:Persekutuan Doa Rabu 2 Agustus 2023
DESCRIPTION:Persekutuan Doa Onsite & Online: \nHari: Rabu\, 02 Agustus 2023\nPukul: 19:00 WIB \nDengan Tema: Habel\nOleh: GI. Pinvatanis Gea \nOnsite:\nGKJ Jemaat Jembatan Lima\nJl. Tambora Raya No. 44\, Jakarta Barat \nOnline:\nZoom meeting : Link\n\nMeeting ID: 811 8007 3304\nPasscode: 573138\n(Zoom dibuka pukul 18.45)
URL:https://gkjjembatanlima.org/acara/persekutuan-doa-rabu-2-agustus-2023/
LOCATION:GKJ Jembatan Lima\, GKJ Jembatan Lima Jl. Tambora Raya No.44\, Jakarta Barat\, DKI Jakarta\, 11220\, Indonesia
CATEGORIES:Persekutuan Doa
ATTACH;FMTTYPE=image/jpeg:https://gkjjembatanlima.org/wp-content/uploads/2023/07/PD-02-AGUST-2023.jpg
END:VEVENT
BEGIN:VEVENT
DTSTART;TZID=Asia/Jakarta:20230726T190000
DTEND;TZID=Asia/Jakarta:20230726T210000
DTSTAMP:20260420T123115
CREATED:20230722T094922Z
LAST-MODIFIED:20230722T094948Z
UID:989367-1690398000-1690405200@gkjjembatanlima.org
SUMMARY:Persekutuan Doa Rabu 26 Juli 2023
DESCRIPTION:Persekutuan Doa Onsite & Online: \nHari: Rabu\, 26 Juli 2023\nPukul: 19:00 WIB \nDengan Tema: Favoritisme dalam Keluarga\nOleh: Pdt. Ang Tjoe Mio \nOnsite:\nGKJ Jemaat Jembatan Lima\nJl. Tambora Raya No. 44\, Jakarta Barat \nOnline:\nZoom meeting : Link\n\nMeeting ID: 811 8007 3304\nPasscode: 573138\n(Zoom dibuka pukul 18.45)
URL:https://gkjjembatanlima.org/acara/persekutuan-doa-rabu-26-juli-2023/
LOCATION:GKJ Jembatan Lima\, GKJ Jembatan Lima Jl. Tambora Raya No.44\, Jakarta Barat\, DKI Jakarta\, 11220\, Indonesia
CATEGORIES:Persekutuan Doa
ATTACH;FMTTYPE=image/jpeg:https://gkjjembatanlima.org/wp-content/uploads/2023/07/PD-26-Juli.jpg
END:VEVENT
BEGIN:VEVENT
DTSTART;TZID=Asia/Jakarta:20230719T190000
DTEND;TZID=Asia/Jakarta:20230719T190000
DTSTAMP:20260420T123115
CREATED:20230716T012342Z
LAST-MODIFIED:20230716T014553Z
UID:989320-1689793200-1689793200@gkjjembatanlima.org
SUMMARY:Persekutuan Doa dan Puasa Rabu 19 Juli 2023
DESCRIPTION:Persekutuan Doa dan Puasa Onsite & Online: \nHari: Rabu\, 19 Juli 2023\nPukul: 19:00 WIB \nDengan Tema: Akibat Favoritisme dalam Keluarga\nOleh: Pdt. Ang Tjoe Mio \nOnsite:\nGKJ Jemaat Jembatan Lima\nJl. Tambora Raya No. 44\, Jakarta Barat \nOnline:\nZoom meeting : Link\n\nMeeting ID: 811 8007 3304\nPasscode: 573138\n(Zoom dibuka pukul 18.45)\n 
URL:https://gkjjembatanlima.org/acara/persekutuan-doa-dan-puasa-rabu-19-juli-2023/
LOCATION:GKJ Jembatan Lima\, GKJ Jembatan Lima Jl. Tambora Raya No.44\, Jakarta Barat\, DKI Jakarta\, 11220\, Indonesia
CATEGORIES:Persekutuan Doa
ATTACH;FMTTYPE=image/jpeg:https://gkjjembatanlima.org/wp-content/uploads/2023/07/PD-19-JULI-2023.jpg
END:VEVENT
BEGIN:VEVENT
DTSTART;TZID=Asia/Jakarta:20230712T190000
DTEND;TZID=Asia/Jakarta:20230712T190000
DTSTAMP:20260420T123115
CREATED:20230707T155357Z
LAST-MODIFIED:20230707T160958Z
UID:989294-1689188400-1689188400@gkjjembatanlima.org
SUMMARY:Persekutuan Doa Rabu 12 Juli 2023
DESCRIPTION:Persekutuan Doa Onsite & Online: \nHari: Rabu\, 12 Juli 2023\nPukul: 19:00 WIB \nDengan Tema: Berkat atas Rumah Tangga\nOleh: GI. Alfa Imannuel \nOnsite:\nGKJ Jemaat Jembatan Lima\nJl. Tambora Raya No. 44\, Jakarta Barat \nOnline:\nZoom meeting : Link\n\nMeeting ID: 811 8007 3304\nPasscode: 573138\n(Zoom dibuka pukul 18.45)\n 
URL:https://gkjjembatanlima.org/acara/persekutuan-doa-rabu-12-juli-2023/
LOCATION:GKJ Jembatan Lima\, GKJ Jembatan Lima Jl. Tambora Raya No.44\, Jakarta Barat\, DKI Jakarta\, 11220\, Indonesia
CATEGORIES:Persekutuan Doa
ATTACH;FMTTYPE=image/jpeg:https://gkjjembatanlima.org/wp-content/uploads/2023/07/07-12-PD.jpg
END:VEVENT
BEGIN:VEVENT
DTSTART;TZID=Asia/Jakarta:20230705T190000
DTEND;TZID=Asia/Jakarta:20230705T190000
DTSTAMP:20260420T123115
CREATED:20230701T172745Z
LAST-MODIFIED:20230701T172745Z
UID:989235-1688583600-1688583600@gkjjembatanlima.org
SUMMARY:Persekutuan Doa Rabu 05 Juli 2023
DESCRIPTION:Persekutuan Doa Onsite & Online: \nHari: Rabu\, 05 Juli 2023\nPukul: 19:00 WIB \nDengan Tema: Keluarga yang Sehat\nOleh: GI. Pinvatanis Gea \nOnsite:\nGKJ Jemaat Jembatan Lima\nJl. Tambora Raya No. 44\, Jakarta Barat \nOnline:\nZoom meeting : Link\n\nMeeting ID: 811 8007 3304\nPasscode: 573138\n(Zoom dibuka pukul 18.45)\n 
URL:https://gkjjembatanlima.org/acara/persekutuan-doa-rabu-05-juli-2023/
LOCATION:GKJ Jembatan Lima\, GKJ Jembatan Lima Jl. Tambora Raya No.44\, Jakarta Barat\, DKI Jakarta\, 11220\, Indonesia
CATEGORIES:Persekutuan Doa
ATTACH;FMTTYPE=image/jpeg:https://gkjjembatanlima.org/wp-content/uploads/2023/07/PD-05-JULI-2023.jpg
END:VEVENT
BEGIN:VEVENT
DTSTART;TZID=Asia/Jakarta:20230628T190000
DTEND;TZID=Asia/Jakarta:20230628T190000
DTSTAMP:20260420T123115
CREATED:20230624T075929Z
LAST-MODIFIED:20230624T075929Z
UID:989203-1687978800-1687978800@gkjjembatanlima.org
SUMMARY:Persekutuan Doa Rabu 28 Juni 2023
DESCRIPTION:Persekutuan Doa Onsite & Online: \nHari: Rabu\, 28 Juni 2023\nPukul: 19:00 WIB \nDengan Tema: Langit dan Bumi yang Baru\nOleh: GI. Noptianus Zendrato \nOnsite:\nGKJ Jemaat Jembatan Lima\nJl. Tambora Raya No. 44\, Jakarta Barat \nOnline:\nZoom meeting : Link\n\nMeeting ID: 811 8007 3304\nPasscode: 573138\n(Zoom dibuka pukul 18.45)\n 
URL:https://gkjjembatanlima.org/acara/persekutuan-doa-rabu-28-juni-2023/
LOCATION:GKJ Jembatan Lima\, GKJ Jembatan Lima Jl. Tambora Raya No.44\, Jakarta Barat\, DKI Jakarta\, 11220\, Indonesia
CATEGORIES:Persekutuan Doa
ATTACH;FMTTYPE=image/jpeg:https://gkjjembatanlima.org/wp-content/uploads/2023/06/PD-28-JUNI-2023.jpg
END:VEVENT
END:VCALENDAR