BEGIN:VCALENDAR
VERSION:2.0
PRODID:-//GKJ Jemaat Jembatan Lima - ECPv6.14.0//NONSGML v1.0//EN
CALSCALE:GREGORIAN
METHOD:PUBLISH
X-WR-CALNAME:GKJ Jemaat Jembatan Lima
X-ORIGINAL-URL:https://gkjjembatanlima.org
X-WR-CALDESC:Events for GKJ Jemaat Jembatan Lima
REFRESH-INTERVAL;VALUE=DURATION:PT1H
X-Robots-Tag:noindex
X-PUBLISHED-TTL:PT1H
BEGIN:VTIMEZONE
TZID:Asia/Jakarta
BEGIN:STANDARD
TZOFFSETFROM:+0700
TZOFFSETTO:+0700
TZNAME:WIB
DTSTART:20230101T000000
END:STANDARD
END:VTIMEZONE
BEGIN:VEVENT
DTSTART;TZID=Asia/Jakarta:20230802T190000
DTEND;TZID=Asia/Jakarta:20230802T190000
DTSTAMP:20260420T171752
CREATED:20230728T155602Z
LAST-MODIFIED:20230728T155602Z
UID:989397-1691002800-1691002800@gkjjembatanlima.org
SUMMARY:Persekutuan Doa Rabu 2 Agustus 2023
DESCRIPTION:Persekutuan Doa Onsite & Online: \nHari: Rabu\, 02 Agustus 2023\nPukul: 19:00 WIB \nDengan Tema: Habel\nOleh: GI. Pinvatanis Gea \nOnsite:\nGKJ Jemaat Jembatan Lima\nJl. Tambora Raya No. 44\, Jakarta Barat \nOnline:\nZoom meeting : Link\n\nMeeting ID: 811 8007 3304\nPasscode: 573138\n(Zoom dibuka pukul 18.45)
URL:https://gkjjembatanlima.org/acara/persekutuan-doa-rabu-2-agustus-2023/
LOCATION:GKJ Jembatan Lima\, GKJ Jembatan Lima Jl. Tambora Raya No.44\, Jakarta Barat\, DKI Jakarta\, 11220\, Indonesia
CATEGORIES:Persekutuan Doa
ATTACH;FMTTYPE=image/jpeg:https://gkjjembatanlima.org/wp-content/uploads/2023/07/PD-02-AGUST-2023.jpg
END:VEVENT
BEGIN:VEVENT
DTSTART;TZID=Asia/Jakarta:20230726T190000
DTEND;TZID=Asia/Jakarta:20230726T210000
DTSTAMP:20260420T171752
CREATED:20230722T094922Z
LAST-MODIFIED:20230722T094948Z
UID:989367-1690398000-1690405200@gkjjembatanlima.org
SUMMARY:Persekutuan Doa Rabu 26 Juli 2023
DESCRIPTION:Persekutuan Doa Onsite & Online: \nHari: Rabu\, 26 Juli 2023\nPukul: 19:00 WIB \nDengan Tema: Favoritisme dalam Keluarga\nOleh: Pdt. Ang Tjoe Mio \nOnsite:\nGKJ Jemaat Jembatan Lima\nJl. Tambora Raya No. 44\, Jakarta Barat \nOnline:\nZoom meeting : Link\n\nMeeting ID: 811 8007 3304\nPasscode: 573138\n(Zoom dibuka pukul 18.45)
URL:https://gkjjembatanlima.org/acara/persekutuan-doa-rabu-26-juli-2023/
LOCATION:GKJ Jembatan Lima\, GKJ Jembatan Lima Jl. Tambora Raya No.44\, Jakarta Barat\, DKI Jakarta\, 11220\, Indonesia
CATEGORIES:Persekutuan Doa
ATTACH;FMTTYPE=image/jpeg:https://gkjjembatanlima.org/wp-content/uploads/2023/07/PD-26-Juli.jpg
END:VEVENT
BEGIN:VEVENT
DTSTART;TZID=Asia/Jakarta:20230719T190000
DTEND;TZID=Asia/Jakarta:20230719T190000
DTSTAMP:20260420T171752
CREATED:20230716T012342Z
LAST-MODIFIED:20230716T014553Z
UID:989320-1689793200-1689793200@gkjjembatanlima.org
SUMMARY:Persekutuan Doa dan Puasa Rabu 19 Juli 2023
DESCRIPTION:Persekutuan Doa dan Puasa Onsite & Online: \nHari: Rabu\, 19 Juli 2023\nPukul: 19:00 WIB \nDengan Tema: Akibat Favoritisme dalam Keluarga\nOleh: Pdt. Ang Tjoe Mio \nOnsite:\nGKJ Jemaat Jembatan Lima\nJl. Tambora Raya No. 44\, Jakarta Barat \nOnline:\nZoom meeting : Link\n\nMeeting ID: 811 8007 3304\nPasscode: 573138\n(Zoom dibuka pukul 18.45)\n 
URL:https://gkjjembatanlima.org/acara/persekutuan-doa-dan-puasa-rabu-19-juli-2023/
LOCATION:GKJ Jembatan Lima\, GKJ Jembatan Lima Jl. Tambora Raya No.44\, Jakarta Barat\, DKI Jakarta\, 11220\, Indonesia
CATEGORIES:Persekutuan Doa
ATTACH;FMTTYPE=image/jpeg:https://gkjjembatanlima.org/wp-content/uploads/2023/07/PD-19-JULI-2023.jpg
END:VEVENT
BEGIN:VEVENT
DTSTART;TZID=Asia/Jakarta:20230712T190000
DTEND;TZID=Asia/Jakarta:20230712T190000
DTSTAMP:20260420T171752
CREATED:20230707T155357Z
LAST-MODIFIED:20230707T160958Z
UID:989294-1689188400-1689188400@gkjjembatanlima.org
SUMMARY:Persekutuan Doa Rabu 12 Juli 2023
DESCRIPTION:Persekutuan Doa Onsite & Online: \nHari: Rabu\, 12 Juli 2023\nPukul: 19:00 WIB \nDengan Tema: Berkat atas Rumah Tangga\nOleh: GI. Alfa Imannuel \nOnsite:\nGKJ Jemaat Jembatan Lima\nJl. Tambora Raya No. 44\, Jakarta Barat \nOnline:\nZoom meeting : Link\n\nMeeting ID: 811 8007 3304\nPasscode: 573138\n(Zoom dibuka pukul 18.45)\n 
URL:https://gkjjembatanlima.org/acara/persekutuan-doa-rabu-12-juli-2023/
LOCATION:GKJ Jembatan Lima\, GKJ Jembatan Lima Jl. Tambora Raya No.44\, Jakarta Barat\, DKI Jakarta\, 11220\, Indonesia
CATEGORIES:Persekutuan Doa
ATTACH;FMTTYPE=image/jpeg:https://gkjjembatanlima.org/wp-content/uploads/2023/07/07-12-PD.jpg
END:VEVENT
BEGIN:VEVENT
DTSTART;TZID=Asia/Jakarta:20230705T190000
DTEND;TZID=Asia/Jakarta:20230705T190000
DTSTAMP:20260420T171752
CREATED:20230701T172745Z
LAST-MODIFIED:20230701T172745Z
UID:989235-1688583600-1688583600@gkjjembatanlima.org
SUMMARY:Persekutuan Doa Rabu 05 Juli 2023
DESCRIPTION:Persekutuan Doa Onsite & Online: \nHari: Rabu\, 05 Juli 2023\nPukul: 19:00 WIB \nDengan Tema: Keluarga yang Sehat\nOleh: GI. Pinvatanis Gea \nOnsite:\nGKJ Jemaat Jembatan Lima\nJl. Tambora Raya No. 44\, Jakarta Barat \nOnline:\nZoom meeting : Link\n\nMeeting ID: 811 8007 3304\nPasscode: 573138\n(Zoom dibuka pukul 18.45)\n 
URL:https://gkjjembatanlima.org/acara/persekutuan-doa-rabu-05-juli-2023/
LOCATION:GKJ Jembatan Lima\, GKJ Jembatan Lima Jl. Tambora Raya No.44\, Jakarta Barat\, DKI Jakarta\, 11220\, Indonesia
CATEGORIES:Persekutuan Doa
ATTACH;FMTTYPE=image/jpeg:https://gkjjembatanlima.org/wp-content/uploads/2023/07/PD-05-JULI-2023.jpg
END:VEVENT
BEGIN:VEVENT
DTSTART;TZID=Asia/Jakarta:20230628T190000
DTEND;TZID=Asia/Jakarta:20230628T190000
DTSTAMP:20260420T171752
CREATED:20230624T075929Z
LAST-MODIFIED:20230624T075929Z
UID:989203-1687978800-1687978800@gkjjembatanlima.org
SUMMARY:Persekutuan Doa Rabu 28 Juni 2023
DESCRIPTION:Persekutuan Doa Onsite & Online: \nHari: Rabu\, 28 Juni 2023\nPukul: 19:00 WIB \nDengan Tema: Langit dan Bumi yang Baru\nOleh: GI. Noptianus Zendrato \nOnsite:\nGKJ Jemaat Jembatan Lima\nJl. Tambora Raya No. 44\, Jakarta Barat \nOnline:\nZoom meeting : Link\n\nMeeting ID: 811 8007 3304\nPasscode: 573138\n(Zoom dibuka pukul 18.45)\n 
URL:https://gkjjembatanlima.org/acara/persekutuan-doa-rabu-28-juni-2023/
LOCATION:GKJ Jembatan Lima\, GKJ Jembatan Lima Jl. Tambora Raya No.44\, Jakarta Barat\, DKI Jakarta\, 11220\, Indonesia
CATEGORIES:Persekutuan Doa
ATTACH;FMTTYPE=image/jpeg:https://gkjjembatanlima.org/wp-content/uploads/2023/06/PD-28-JUNI-2023.jpg
END:VEVENT
BEGIN:VEVENT
DTSTART;TZID=Asia/Jakarta:20230621T190000
DTEND;TZID=Asia/Jakarta:20230621T190000
DTSTAMP:20260420T171752
CREATED:20230617T100930Z
LAST-MODIFIED:20230617T100930Z
UID:989138-1687374000-1687374000@gkjjembatanlima.org
SUMMARY:Persekutuan Doa Puasa Rabu 21 Juni 2023
DESCRIPTION:Persekutuan Doa Puasa Onsite & Online: \nHari: Rabu\, 21 Juni 2023\nPukul: 19:00 WIB \nDengan Tema: Lebih Dari Pemenang\nOleh: GI. Widya Tuluswati \nOnsite:\nGKJ Jemaat Jembatan Lima\nJl. Tambora Raya No. 44\, Jakarta Barat \nOnline:\nZoom meeting : Link\n\nMeeting ID: 811 8007 3304\nPasscode: 573138\n(Zoom dibuka pukul 18.45)\n 
URL:https://gkjjembatanlima.org/acara/persekutuan-doa-puasa-rabu-21-juni-2023/
LOCATION:GKJ Jembatan Lima\, GKJ Jembatan Lima Jl. Tambora Raya No.44\, Jakarta Barat\, DKI Jakarta\, 11220\, Indonesia
CATEGORIES:Persekutuan Doa
ATTACH;FMTTYPE=image/jpeg:https://gkjjembatanlima.org/wp-content/uploads/2023/06/PD-21-JUNI-2023.jpg
END:VEVENT
BEGIN:VEVENT
DTSTART;TZID=Asia/Jakarta:20230614T190000
DTEND;TZID=Asia/Jakarta:20230614T190000
DTSTAMP:20260420T171752
CREATED:20230609T115802Z
LAST-MODIFIED:20230609T120036Z
UID:989063-1686769200-1686769200@gkjjembatanlima.org
SUMMARY:Persekutuan Doa Rabu 14 Juni 2023
DESCRIPTION:Persekutuan Doa Onsite & Online: \nHari: Rabu\, 14 Juni 2023 Pukul: 19:00 WIB \nDengan Tema: Penghakiman Terakhir Oleh: Pdt. Ang Tjoe Mio \nOnsite: GKJ Jemaat Jembatan Lima Jl. Tambora Raya No. 44\, Jakarta Barat \nOnline: Zoom meeting : Link  Meeting ID: 811 8007 3304 Passcode: 573138 (Zoom dibuka pukul 18.45)\n  
URL:https://gkjjembatanlima.org/acara/persekutuan-doa-rabu-14-juni-2023-2/
LOCATION:GKJ Jembatan Lima\, GKJ Jembatan Lima Jl. Tambora Raya No.44\, Jakarta Barat\, DKI Jakarta\, 11220\, Indonesia
CATEGORIES:Persekutuan Doa
ATTACH;FMTTYPE=image/jpeg:https://gkjjembatanlima.org/wp-content/uploads/2023/06/PD-14-JUNI-2023.jpg
END:VEVENT
BEGIN:VEVENT
DTSTART;TZID=Asia/Jakarta:20230607T190000
DTEND;TZID=Asia/Jakarta:20230607T190000
DTSTAMP:20260420T171752
CREATED:20230602T163516Z
LAST-MODIFIED:20230609T113202Z
UID:988800-1686164400-1686164400@gkjjembatanlima.org
SUMMARY:Persekutuan Doa 7 Juni 2023
DESCRIPTION:Persekutuan Doa Onsite & Online:\n\nHari: Rabu\, 7 Juni 2023\nPukul: 19:00 WIB\n\nDengan Tema: Tanda-Tanda Akhir Zaman\nOleh: GI. Alfa Imannuel\n\nOnsite:\nGKJ Jemaat Jembatan Lima\nJl. Tambora Raya No. 44\, Jakarta Barat\n\nOnline:\nZoom meeting : Link\n\nMeeting ID: 811 8007 3304\nPasscode: 573138\n(Zoom dibuka pukul 18.45)
URL:https://gkjjembatanlima.org/acara/persekutuan-doa-7-juni-2023/
LOCATION:GKJ Jembatan Lima\, GKJ Jembatan Lima Jl. Tambora Raya No.44\, Jakarta Barat\, DKI Jakarta\, 11220\, Indonesia
CATEGORIES:Persekutuan Doa
ATTACH;FMTTYPE=image/jpeg:https://gkjjembatanlima.org/wp-content/uploads/2023/06/PD-07-JUNI-2023.jpg
END:VEVENT
BEGIN:VEVENT
DTSTART;TZID=Asia/Jakarta:20230531T190000
DTEND;TZID=Asia/Jakarta:20230531T210000
DTSTAMP:20260420T171752
CREATED:20230525T163836Z
LAST-MODIFIED:20230602T085200Z
UID:988435-1685559600-1685566800@gkjjembatanlima.org
SUMMARY:Persekutuan Doa
DESCRIPTION:Persekutuan Doa Onsite & Online: \nHari: Rabu\, 31 Mei 2023\nPukul: 19:00 WIB \nDengan Tema: Satu Keluarga Allah\nOleh: GI. Noptianus Zendrato \nOnsite:\nGKJ Jemaat Jembatan Lima\nJl. Tambora Raya No. 44\, Jakarta Barat \nOnline:\nZoom meeting : Link\n\nMeeting ID: 811 8007 3304\nPasscode: 573138\n(Zoom dibuka pukul 18.45)
URL:https://gkjjembatanlima.org/acara/persekutuan-doa/
LOCATION:GKJ Jembatan Lima\, GKJ Jembatan Lima Jl. Tambora Raya No.44\, Jakarta Barat\, DKI Jakarta\, 11220\, Indonesia
CATEGORIES:Persekutuan Doa
ATTACH;FMTTYPE=image/jpeg:https://gkjjembatanlima.org/wp-content/uploads/2023/05/PD-31-MEI.jpg
END:VEVENT
END:VCALENDAR