BEGIN:VCALENDAR
VERSION:2.0
PRODID:-//GKJ Jemaat Jembatan Lima - ECPv6.14.0//NONSGML v1.0//EN
CALSCALE:GREGORIAN
METHOD:PUBLISH
X-ORIGINAL-URL:https://gkjjembatanlima.org
X-WR-CALDESC:Events for GKJ Jemaat Jembatan Lima
REFRESH-INTERVAL;VALUE=DURATION:PT1H
X-Robots-Tag:noindex
X-PUBLISHED-TTL:PT1H
BEGIN:VTIMEZONE
TZID:Asia/Jakarta
BEGIN:STANDARD
TZOFFSETFROM:+0700
TZOFFSETTO:+0700
TZNAME:WIB
DTSTART:20250101T000000
END:STANDARD
END:VTIMEZONE
BEGIN:VEVENT
DTSTART;TZID=Asia/Jakarta:20251112T190000
DTEND;TZID=Asia/Jakarta:20251112T210000
DTSTAMP:20260422T115643
CREATED:20251108T125620Z
LAST-MODIFIED:20251108T125620Z
UID:992672-1762974000-1762981200@gkjjembatanlima.org
SUMMARY:Persekutuan Doa Rabu | 12 NOV 2025
DESCRIPTION:Persekutuan Doa Rabu Onsite & Online: \nHari: Rabu\, 12 November 2025.\nPukul: 19:00 WIB. \nDengan Tema: BERBAHAGIALAH ORANG YANG LAPAR DAN HAUS AKAN KEBENARAN.\nPembicara: G.I. Widya Laras. \nOnsite:\nGKJ Jemaat Jembatan Lima\nJl. Tambora Raya No. 44\, Jakarta Barat \nOnline:\nZoom meeting : Link\n\nMeeting ID: 811 8007 3304\nPasscode: 573138\n(Zoom dibuka pukul 18.45) \n \n 
URL:https://gkjjembatanlima.org/acara/persekutuan-doa-rabu-12-nov-2025/
LOCATION:GKJ Jembatan Lima\, GKJ Jembatan Lima Jl. Tambora Raya No.44\, Jakarta Barat\, DKI Jakarta\, 11220\, Indonesia
CATEGORIES:Persekutuan Doa
ATTACH;FMTTYPE=image/jpeg:https://gkjjembatanlima.org/wp-content/uploads/2025/11/PD-12-NOV-2025.jpg
END:VEVENT
BEGIN:VEVENT
DTSTART;TZID=Asia/Jakarta:20251119T190000
DTEND;TZID=Asia/Jakarta:20251119T210000
DTSTAMP:20260422T115643
CREATED:20251115T051829Z
LAST-MODIFIED:20251115T051829Z
UID:992715-1763578800-1763586000@gkjjembatanlima.org
SUMMARY:Persekutuan Doa Rabu | 19 NOV 2025
DESCRIPTION:Persekutuan Doa Rabu Onsite & Online: \nHari: Rabu\, 19 November 2025.\nPukul: 19:00 WIB. \nDengan Tema: BERBAHAGIALAH ORANG YANG SUCI HATINYA.\nPembicara: G.I. Noriana Nori. \nOnsite:\nGKJ Jemaat Jembatan Lima\nJl. Tambora Raya No. 44\, Jakarta Barat \nOnline:\nZoom meeting : Link\n\nMeeting ID: 811 8007 3304\nPasscode: 573138\n(Zoom dibuka pukul 18.45) \n \n 
URL:https://gkjjembatanlima.org/acara/persekutuan-doa-rabu-19-nov-2025/
LOCATION:GKJ Jembatan Lima\, GKJ Jembatan Lima Jl. Tambora Raya No.44\, Jakarta Barat\, DKI Jakarta\, 11220\, Indonesia
CATEGORIES:Persekutuan Doa
ATTACH;FMTTYPE=image/jpeg:https://gkjjembatanlima.org/wp-content/uploads/2025/11/PD-19-NOV-2025.jpg
END:VEVENT
BEGIN:VEVENT
DTSTART;TZID=Asia/Jakarta:20251126T190000
DTEND;TZID=Asia/Jakarta:20251126T210000
DTSTAMP:20260422T115643
CREATED:20251122T145704Z
LAST-MODIFIED:20251122T145704Z
UID:992744-1764183600-1764190800@gkjjembatanlima.org
SUMMARY:Pray and Worship Night | 26 NOV 2025
DESCRIPTION:PRAY AND WORSHIP NIGHT.  \nTema: KITA ALAT DI TANGAN TUHAN.\nPembicara Indonesia : G.I.Alfa Imannuel | Pembicara Mandarin: Pdt. Siujono Sung. \nWaktu:  \nRabu\, 26 November 2025 \nPukul 19.00 WIB. \nTempat:\nBahasa Indonesia: Ruang Ibadah Lantai 3 \nBahasa Mandarin: Ruang Ibadah Lantai 2 \nGKJ Jembatan Lima\nJl. Jembatan Lima Raya No. 44\nJakarta Barat \nKami mengundang seluruh jemaat untuk dapat datang dan menghadirinya. \n  \n 
URL:https://gkjjembatanlima.org/acara/pray-and-worship-night-26-nov-2025/
LOCATION:GKJ Jembatan Lima\, GKJ Jembatan Lima Jl. Tambora Raya No.44\, Jakarta Barat\, DKI Jakarta\, 11220\, Indonesia
CATEGORIES:Persekutuan Doa
ATTACH;FMTTYPE=image/jpeg:https://gkjjembatanlima.org/wp-content/uploads/2025/11/PD-26-NOV-2025.jpg
END:VEVENT
BEGIN:VEVENT
DTSTART;TZID=Asia/Jakarta:20251203T190000
DTEND;TZID=Asia/Jakarta:20251203T190000
DTSTAMP:20260422T115643
CREATED:20251129T141917Z
LAST-MODIFIED:20251130T123751Z
UID:992772-1764788400-1764788400@gkjjembatanlima.org
SUMMARY:Persekutuan Doa Rabu | 03 DES 2025
DESCRIPTION:Persekutuan Doa Rabu Onsite & Online: \nHari: Rabu\, 03 Desember 2025.\nPukul: 19:00 WIB. \nDengan Tema: TOKOH: MARIA (IBU YESUS).\nPembicara: G.I. Wediya Tuluswati 李維錦傳道. \nOnsite:\nGKJ Jemaat Jembatan Lima\nJl. Tambora Raya No. 44\, Jakarta Barat \nOnline:\nZoom meeting : Link\n\nMeeting ID: 811 8007 3304\nPasscode: 573138\n(Zoom dibuka pukul 18.45) \n \n 
URL:https://gkjjembatanlima.org/acara/persekutuan-doa-rabu-03-des-2025/
LOCATION:GKJ Jembatan Lima\, GKJ Jembatan Lima Jl. Tambora Raya No.44\, Jakarta Barat\, DKI Jakarta\, 11220\, Indonesia
CATEGORIES:Persekutuan Doa
ATTACH;FMTTYPE=image/jpeg:https://gkjjembatanlima.org/wp-content/uploads/2025/11/PD-03-DES-2025-_rev.jpg
END:VEVENT
BEGIN:VEVENT
DTSTART;TZID=Asia/Jakarta:20251210T190000
DTEND;TZID=Asia/Jakarta:20251210T190000
DTSTAMP:20260422T115643
CREATED:20251206T104822Z
LAST-MODIFIED:20251206T104822Z
UID:992794-1765393200-1765393200@gkjjembatanlima.org
SUMMARY:Persekutuan Doa Rabu | 10 DES 2025
DESCRIPTION:Persekutuan Doa Rabu Onsite & Online: \nHari: Rabu\, 10 Desember 2025.\nPukul: 19:00 WIB. \nDengan Tema: TOKOH: YUSUF (AYAH YESUS).\nPembicara: Pdt. Ang Tjoe Mio. \nOnsite:\nGKJ Jemaat Jembatan Lima\nJl. Tambora Raya No. 44\, Jakarta Barat \nOnline:\nZoom meeting : Link\n\nMeeting ID: 811 8007 3304\nPasscode: 573138\n(Zoom dibuka pukul 18.45) \n \n 
URL:https://gkjjembatanlima.org/acara/persekutuan-doa-rabu-10-des-2025/
LOCATION:GKJ Jembatan Lima\, GKJ Jembatan Lima Jl. Tambora Raya No.44\, Jakarta Barat\, DKI Jakarta\, 11220\, Indonesia
CATEGORIES:Persekutuan Doa
ATTACH;FMTTYPE=image/jpeg:https://gkjjembatanlima.org/wp-content/uploads/2025/12/PD-10-DES-2025.jpg
END:VEVENT
BEGIN:VEVENT
DTSTART;TZID=Asia/Jakarta:20251217T190000
DTEND;TZID=Asia/Jakarta:20251217T190000
DTSTAMP:20260422T115643
CREATED:20251213T160434Z
LAST-MODIFIED:20251213T160434Z
UID:992825-1765998000-1765998000@gkjjembatanlima.org
SUMMARY:Persekutuan Doa Puasa Rabu | 17 DES 2025
DESCRIPTION:Persekutuan Doa Puasa Rabu Onsite & Online: \nHari: Rabu\, 17 Desember 2025.\nPukul: 19.00 WIB. \nTema: TOKOH: ZAKHARIA (AYAH YOHANES PEMBAPTIS).\nOleh: G.I. Widya Laras 范萌谐传道. \nOnsite:\nGKJ Jemaat Jembatan Lima\nJl. Tambora Raya No. 44\, Jakarta Barat \nOnline:\nZoom meeting : Link\n\nMeeting ID: 811 8007 3304\nPasscode: 573138\n(Zoom dibuka pukul 18.45)
URL:https://gkjjembatanlima.org/acara/persekutuan-doa-puasa-rabu-17-des-2025/
LOCATION:GKJ Jembatan Lima\, GKJ Jembatan Lima Jl. Tambora Raya No.44\, Jakarta Barat\, DKI Jakarta\, 11220\, Indonesia
CATEGORIES:Persekutuan Doa
ATTACH;FMTTYPE=image/jpeg:https://gkjjembatanlima.org/wp-content/uploads/2025/12/PD-17-DES-2025.jpg
END:VEVENT
BEGIN:VEVENT
DTSTART;TZID=Asia/Jakarta:20260107T190000
DTEND;TZID=Asia/Jakarta:20260107T190000
DTSTAMP:20260422T115643
CREATED:20260103T042237Z
LAST-MODIFIED:20260103T042237Z
UID:992879-1767812400-1767812400@gkjjembatanlima.org
SUMMARY:Persekutuan Doa Rabu | 07 JAN 2026
DESCRIPTION:Persekutuan Doa Rabu Onsite & Online: \nHari: Rabu\, 07 Januari 2026.\nPukul: 19:00 WIB. \nDengan Tema: KONSEP PILIHAN.\nPembicara: G.I. Andreas Nikodemus. \nOnsite:\nGKJ Jemaat Jembatan Lima\nJl. Tambora Raya No. 44\, Jakarta Barat \nOnline:\nZoom meeting : Link\n\nMeeting ID: 811 8007 3304\nPasscode: 573138\n(Zoom dibuka pukul 18.45) \n \n 
URL:https://gkjjembatanlima.org/acara/persekutuan-doa-rabu-07-jan-2026/
LOCATION:GKJ Jembatan Lima\, GKJ Jembatan Lima Jl. Tambora Raya No.44\, Jakarta Barat\, DKI Jakarta\, 11220\, Indonesia
CATEGORIES:Persekutuan Doa
ATTACH;FMTTYPE=image/jpeg:https://gkjjembatanlima.org/wp-content/uploads/2026/01/PD-07-JAN-2026.jpg
END:VEVENT
BEGIN:VEVENT
DTSTART;TZID=Asia/Jakarta:20260114T190000
DTEND;TZID=Asia/Jakarta:20260114T190000
DTSTAMP:20260422T115643
CREATED:20260110T132020Z
LAST-MODIFIED:20260110T132020Z
UID:992910-1768417200-1768417200@gkjjembatanlima.org
SUMMARY:Persekutuan Doa Rabu | 14 JAN 2026
DESCRIPTION:Persekutuan Doa Rabu Onsite & Online: \nHari: Rabu\, 14 Januari 2026.\nPukul: 19:00 WIB. \nDengan Tema: KONSEP PENEBUSAN.\nPembicara: Pdt. Ang Tjoe Mio. \nOnsite:\nGKJ Jemaat Jembatan Lima\nJl. Tambora Raya No. 44\, Jakarta Barat \nOnline:\nZoom meeting : Link\n\nMeeting ID: 811 8007 3304\nPasscode: 573138\n(Zoom dibuka pukul 18.45) \n \n 
URL:https://gkjjembatanlima.org/acara/persekutuan-doa-rabu-14-jan-2026/
LOCATION:GKJ Jembatan Lima\, GKJ Jembatan Lima Jl. Tambora Raya No.44\, Jakarta Barat\, DKI Jakarta\, 11220\, Indonesia
CATEGORIES:Persekutuan Doa
ATTACH;FMTTYPE=image/jpeg:https://gkjjembatanlima.org/wp-content/uploads/2026/01/PD-14-JAN-2026.jpg
END:VEVENT
BEGIN:VEVENT
DTSTART;TZID=Asia/Jakarta:20260121T190000
DTEND;TZID=Asia/Jakarta:20260121T190000
DTSTAMP:20260422T115643
CREATED:20260117T042403Z
LAST-MODIFIED:20260118T014243Z
UID:992943-1769022000-1769022000@gkjjembatanlima.org
SUMMARY:Persekutuan Doa Puasa Rabu | 21 JAN 2026
DESCRIPTION:Persekutuan Doa Puasa Rabu 拜三禁食晚禱會. \nHari & Tanggal (日期): Rabu\, 21 Januari 2026 (2026年1月21日星期三).\nWaktu (时间): 19.00 WIB (晚上七点). \nTema 主题: KONSEP PEMBENARAN 称义的真理.\nPembicara 講員: G.I. Alfa Imannuel 于来發傳道. \nLokasi 地點 :\nGKJ Jemaat Jembatan Lima\nJl. Tambora Raya No. 44\, Jakarta Barat \nOnline 线上:\nZoom meeting : Link\n\nMeeting ID: 811 8007 3304\nPasscode: 573138\n(Zoom dibuka pukul 18.45)
URL:https://gkjjembatanlima.org/acara/persekutuan-doa-puasa-rabu-21-jan-2026/
LOCATION:GKJ Jembatan Lima\, GKJ Jembatan Lima Jl. Tambora Raya No.44\, Jakarta Barat\, DKI Jakarta\, 11220\, Indonesia
CATEGORIES:Persekutuan Doa
ATTACH;FMTTYPE=image/jpeg:https://gkjjembatanlima.org/wp-content/uploads/2026/01/PD-21-JAN-2026.jpg
END:VEVENT
BEGIN:VEVENT
DTSTART;TZID=Asia/Jakarta:20260128T190000
DTEND;TZID=Asia/Jakarta:20260128T190000
DTSTAMP:20260422T115643
CREATED:20260124T125044Z
LAST-MODIFIED:20260124T125044Z
UID:993083-1769626800-1769626800@gkjjembatanlima.org
SUMMARY:Persekutuan Doa Rabu | 28 JAN 2026
DESCRIPTION:Persekutuan Doa Rabu 拜三晚禱會. \nHari & Tanggal (日期): Rabu\, 28 Januari 2026 (2026年1月28日星期三).\nWaktu (时间): 19.00 WIB (晚上七点). \nTema 主题: KONSEP ADOPSI.\nPembicara 講員: G.I. Widya Laras 范萌谐传道. \nLokasi 地點 :\nGKJ Jemaat Jembatan Lima\nJl. Tambora Raya No. 44\, Jakarta Barat \nOnline 线上: \nZoom meeting : Link\n\nMeeting ID: 811 8007 3304\nPasscode: 573138\n(Zoom dibuka pukul 18.45) \n \n 
URL:https://gkjjembatanlima.org/acara/persekutuan-doa-rabu-28-jan-2026/
LOCATION:GKJ Jembatan Lima\, GKJ Jembatan Lima Jl. Tambora Raya No.44\, Jakarta Barat\, DKI Jakarta\, 11220\, Indonesia
CATEGORIES:Persekutuan Doa
ATTACH;FMTTYPE=image/jpeg:https://gkjjembatanlima.org/wp-content/uploads/2026/01/PD-28-JAN-2026.jpg
END:VEVENT
BEGIN:VEVENT
DTSTART;TZID=Asia/Jakarta:20260204T190000
DTEND;TZID=Asia/Jakarta:20260204T190000
DTSTAMP:20260422T115643
CREATED:20260124T133558Z
LAST-MODIFIED:20260124T133655Z
UID:993097-1770231600-1770231600@gkjjembatanlima.org
SUMMARY:Talkshow dan Edukasi | 04 FEB 2026
DESCRIPTION:Menyambut Imlek di Tahun 2026 ini\, GKJ Jemaat Jembatan Lima akan mengadakan Talkshow dan Edukasi\n迎接2026年农历新年之际，五角桥堂会将举办讲座与教育分享. \nTema 主题: \nHARMONISASI TRADISI TIONGHOA DAN IMAN KEKRISTENAN (Merayakan Sukacita Imlek dengan Iman)\n中华传统与基督信仰的和谐(以信仰欢庆农历新年的喜乐). \nPembicara 講員 : Pdt. Lukas Phang 彭志堂牧師. \nHari & Tanggal (日期): Rabu\, 04 Februari 2026 (2026年2月4日星期三).\nWaktu (时间): 19.00 WIB (晚上七点). \nLokasi 地點 :\nGKJ Jemaat Jembatan Lima\nJl. Tambora Raya No. 44\, Jakarta Barat. \nOnline 线上: \nZoom meeting : Link\n\nMeeting ID: 811 8007 3304\nPasscode: 573138\n(Zoom dibuka pukul 18.45)
URL:https://gkjjembatanlima.org/acara/talkshow-dan-edukasi-04-feb-2026/
CATEGORIES:Persekutuan Doa
ATTACH;FMTTYPE=image/jpeg:https://gkjjembatanlima.org/wp-content/uploads/2026/01/Imlek-Talkshow-04-FEB-2026.jpg
END:VEVENT
BEGIN:VEVENT
DTSTART;TZID=Asia/Jakarta:20260211T190000
DTEND;TZID=Asia/Jakarta:20260211T190000
DTSTAMP:20260422T115643
CREATED:20260207T143712Z
LAST-MODIFIED:20260207T143712Z
UID:993145-1770836400-1770836400@gkjjembatanlima.org
SUMMARY:Persekutuan Doa Rabu | 11 FEB 2026
DESCRIPTION:Persekutuan Doa Rabu 拜三晚禱會. \nHari & Tanggal (日期): Rabu\, 11 Februari 2026 (2026年2月11日 星期三).\nWaktu (时间): 19.00 WIB (晚上七点). \nTema 主题: IMAN YANG BERGULAT.\nPembicara 講員: G.I. Wediya Tuluswati 李維錦傳道. \nLokasi 地點 :\nGKJ Jemaat Jembatan Lima\nJl. Tambora Raya No. 44\, Jakarta Barat \nOnline 线上: \nZoom meeting : Link\n\nMeeting ID: 811 8007 3304\nPasscode: 573138\n(Zoom dibuka pukul 18.45) \n \n 
URL:https://gkjjembatanlima.org/acara/persekutuan-doa-rabu-11-feb-2026/
LOCATION:GKJ Jembatan Lima\, GKJ Jembatan Lima Jl. Tambora Raya No.44\, Jakarta Barat\, DKI Jakarta\, 11220\, Indonesia
CATEGORIES:Persekutuan Doa
ATTACH;FMTTYPE=image/jpeg:https://gkjjembatanlima.org/wp-content/uploads/2026/02/PD-11-FEB-2026.jpg
END:VEVENT
BEGIN:VEVENT
DTSTART;TZID=Asia/Jakarta:20260225T190000
DTEND;TZID=Asia/Jakarta:20260225T190000
DTSTAMP:20260422T115643
CREATED:20260221T055906Z
LAST-MODIFIED:20260221T055906Z
UID:993222-1772046000-1772046000@gkjjembatanlima.org
SUMMARY:Persekutuan Doa Puasa Rabu | 25 FEB 2026
DESCRIPTION:Persekutuan Doa Puasa Rabu 拜三禁食晚禱會. \nHari & Tanggal (日期): Rabu\, 25 Februari 2026 (2026年2月25日星期三).\nWaktu (时间): 19.00 WIB (晚上七点). \nTema 主题: SUSAH SENANG INGAT TUHAN 无论顺境逆境，常记念主.\nPengkhotbah 讲员: G.I. Noriana Nori 李雅娜傳道. \nLokasi 地點 :\nGKJ Jemaat Jembatan Lima\nJl. Tambora Raya No. 44\, Jakarta Barat \nOnline 线上:\nZoom meeting : Link\n\nMeeting ID: 811 8007 3304\nPasscode: 573138\n(Zoom dibuka pukul 18.45)
URL:https://gkjjembatanlima.org/acara/persekutuan-doa-puasa-rabu-25-feb-2026/
LOCATION:GKJ Jembatan Lima\, GKJ Jembatan Lima Jl. Tambora Raya No.44\, Jakarta Barat\, DKI Jakarta\, 11220\, Indonesia
CATEGORIES:Persekutuan Doa
ATTACH;FMTTYPE=image/png:https://gkjjembatanlima.org/wp-content/uploads/2026/02/PD-25-FEB-2026.png
END:VEVENT
BEGIN:VEVENT
DTSTART;TZID=Asia/Jakarta:20260304T190000
DTEND;TZID=Asia/Jakarta:20260304T190000
DTSTAMP:20260422T115643
CREATED:20260228T125218Z
LAST-MODIFIED:20260228T125218Z
UID:993244-1772650800-1772650800@gkjjembatanlima.org
SUMMARY:Persekutuan Doa Rabu | 04 MAR 2026
DESCRIPTION:Persekutuan Doa Rabu 拜三晚禱會. \nHari & Tanggal (日期): Rabu\, 04 Maret 2026 (2026年3月4日 星期三).\nWaktu (时间): 19.00 WIB (晚上七点). \nTema 主题: KEINTIMAN DAN PENGENALAN.\nPengkhotbah 讲员: G.I. Andreas Nikodemus 房華平傳道. \nLokasi 地點 :\nGKJ Jemaat Jembatan Lima\nJl. Tambora Raya No. 44\, Jakarta Barat \nOnline 线上: \nZoom meeting : Link\n\nMeeting ID: 811 8007 3304\nPasscode: 573138\n(Zoom dibuka pukul 18.45) \n \n 
URL:https://gkjjembatanlima.org/acara/persekutuan-doa-rabu-04-mar-2026/
LOCATION:GKJ Jembatan Lima\, GKJ Jembatan Lima Jl. Tambora Raya No.44\, Jakarta Barat\, DKI Jakarta\, 11220\, Indonesia
CATEGORIES:Persekutuan Doa
ATTACH;FMTTYPE=image/jpeg:https://gkjjembatanlima.org/wp-content/uploads/2026/02/PD-04-MAR-2026.jpg
END:VEVENT
BEGIN:VEVENT
DTSTART;TZID=Asia/Jakarta:20260311T190000
DTEND;TZID=Asia/Jakarta:20260311T190000
DTSTAMP:20260422T115643
CREATED:20260307T132546Z
LAST-MODIFIED:20260310T031907Z
UID:993283-1773255600-1773255600@gkjjembatanlima.org
SUMMARY:Persekutuan Doa Rabu | 11 MAR 2026
DESCRIPTION:Persekutuan Doa Rabu 拜三晚禱會. \nHari & Tanggal (日期): Rabu\, 11 Maret 2026 (2026年3月11日 星期三).\nWaktu (时间): 19.00 WIB (晚上七点). \nTema 主题: KERINDUAN AKAN KERAJAAN DAN KEHENDAK ALLAH.\nPengkhotbah 讲员: Pdt. Ang Tjoe Mio 洪祖茂牧師. \nLokasi 地點 :\nGKJ Jemaat Jembatan Lima\nJl. Tambora Raya No. 44\, Jakarta Barat \nOnline 线上: \nZoom meeting : Link\n\nMeeting ID: 811 8007 3304\nPasscode: 573138\n(Zoom dibuka pukul 18.45) \n \n 
URL:https://gkjjembatanlima.org/acara/persekutuan-doa-rabu-11-mar-2026/
LOCATION:GKJ Jembatan Lima\, GKJ Jembatan Lima Jl. Tambora Raya No.44\, Jakarta Barat\, DKI Jakarta\, 11220\, Indonesia
CATEGORIES:Persekutuan Doa
ATTACH;FMTTYPE=image/jpeg:https://gkjjembatanlima.org/wp-content/uploads/2026/03/PD-11-MAR-2026.jpg
END:VEVENT
BEGIN:VEVENT
DTSTART;TZID=Asia/Jakarta:20260318T190000
DTEND;TZID=Asia/Jakarta:20260318T190000
DTSTAMP:20260422T115643
CREATED:20260314T112348Z
LAST-MODIFIED:20260314T112348Z
UID:993301-1773860400-1773860400@gkjjembatanlima.org
SUMMARY:Persekutuan Doa Puasa Rabu | 18 MAR 2026
DESCRIPTION:Persekutuan Doa Puasa Rabu 拜三禁食晚禱會. \nHari & Tanggal (日期): Rabu\, 18 Maret 2026 (2026年3月18日星期三).\nWaktu (时间): 19.00 WIB (晚上七点). \nTema 主题: KEBERGANTUNGAN KEPADA ALLAH DAN PEMULIHAN.\nPengkhotbah 讲员: G.I. Alfa Imannuel 于来發傳道. \nLokasi 地點 :\nGKJ Jemaat Jembatan Lima\nJl. Tambora Raya No. 44\, Jakarta Barat \nOnline 线上:\nZoom meeting : Link\n\nMeeting ID: 811 8007 3304\nPasscode: 573138\n(Zoom dibuka pukul 18.45)
URL:https://gkjjembatanlima.org/acara/persekutuan-doa-puasa-rabu-18-mar-2026/
LOCATION:GKJ Jembatan Lima\, GKJ Jembatan Lima Jl. Tambora Raya No.44\, Jakarta Barat\, DKI Jakarta\, 11220\, Indonesia
CATEGORIES:Persekutuan Doa
ATTACH;FMTTYPE=image/jpeg:https://gkjjembatanlima.org/wp-content/uploads/2026/03/PD-18-MAR-2026.jpg
END:VEVENT
BEGIN:VEVENT
DTSTART;TZID=Asia/Jakarta:20260325T190000
DTEND;TZID=Asia/Jakarta:20260325T190000
DTSTAMP:20260422T115643
CREATED:20260321T102424Z
LAST-MODIFIED:20260321T102424Z
UID:993328-1774465200-1774465200@gkjjembatanlima.org
SUMMARY:Persekutuan Doa Rabu | 25 MAR 2026
DESCRIPTION:Persekutuan Doa Rabu 拜三晚禱會. \nHari & Tanggal (日期): Rabu\, 25 Maret 2026 (2026年3月25日 星期三).\nWaktu (时间): 19.00 WIB (晚上七点). \nTema 主题: KEMENANGAN ATAS PENCOBAAN DAN PERLINDUNGAN ALLAH.\nPengkhotbah 讲员: G.I. Widya Laras 范萌谐传道. \nLokasi 地點 :\nGKJ Jemaat Jembatan Lima\nJl. Tambora Raya No. 44\, Jakarta Barat \nOnline 线上: \nZoom meeting : Link\n\nMeeting ID: 811 8007 3304\nPasscode: 573138\n(Zoom dibuka pukul 18.45) \n \n 
URL:https://gkjjembatanlima.org/acara/persekutuan-doa-rabu-25-mar-2026/
LOCATION:GKJ Jembatan Lima\, GKJ Jembatan Lima Jl. Tambora Raya No.44\, Jakarta Barat\, DKI Jakarta\, 11220\, Indonesia
CATEGORIES:Persekutuan Doa
ATTACH;FMTTYPE=image/jpeg:https://gkjjembatanlima.org/wp-content/uploads/2026/03/PD-25-MAR-2026.jpg
END:VEVENT
BEGIN:VEVENT
DTSTART;TZID=Asia/Jakarta:20260401T190000
DTEND;TZID=Asia/Jakarta:20260401T190000
DTSTAMP:20260422T115643
CREATED:20260328T061205Z
LAST-MODIFIED:20260328T061301Z
UID:993351-1775070000-1775070000@gkjjembatanlima.org
SUMMARY:Persekutuan Doa Rabu | 01 APR 2026
DESCRIPTION:Persekutuan Doa Rabu 拜三晚禱會. \nHari & Tanggal (日期): Rabu\, 01 April 2026 (2026年4月1日 星期三).\nWaktu (时间): 19.00 WIB (晚上七点). \nTema 主题: SETIA PADA FIRMAN TUHAN.\nPengkhotbah 讲员: G.I. Wediya Tuluswati 李維錦傳道. \nLokasi 地點 :\nGKJ Jemaat Jembatan Lima\nJl. Tambora Raya No. 44\, Jakarta Barat \nOnline 线上: \nZoom meeting : Link\n\nMeeting ID: 811 8007 3304\nPasscode: 573138\n(Zoom dibuka pukul 18.45) \n \n 
URL:https://gkjjembatanlima.org/acara/persekutuan-doa-rabu-01-apr-2026/
LOCATION:GKJ Jembatan Lima\, GKJ Jembatan Lima Jl. Tambora Raya No.44\, Jakarta Barat\, DKI Jakarta\, 11220\, Indonesia
CATEGORIES:Persekutuan Doa
ATTACH;FMTTYPE=image/jpeg:https://gkjjembatanlima.org/wp-content/uploads/2026/03/PD-01-APR-2026.jpg
END:VEVENT
BEGIN:VEVENT
DTSTART;TZID=Asia/Jakarta:20260408T190000
DTEND;TZID=Asia/Jakarta:20260408T190000
DTSTAMP:20260422T115643
CREATED:20260404T122906Z
LAST-MODIFIED:20260404T122906Z
UID:993373-1775674800-1775674800@gkjjembatanlima.org
SUMMARY:Persekutuan Doa Rabu | 08 APR 2026
DESCRIPTION:Persekutuan Doa Rabu 拜三晚禱會. \nHari & Tanggal (日期): Rabu\, 08 April 2026 (2026年4月8日 星期三).\nWaktu (时间): 19.00 WIB (晚上七点). \nTema 主题: SEISI RUMAHKU BERIBADAH KEPADA TUHAN.\nPengkhotbah 讲员: G.I. Noriana Nori 李雅娜傳道. \nLokasi 地點 :\nGKJ Jemaat Jembatan Lima\nJl. Tambora Raya No. 44\, Jakarta Barat \nOnline 线上: \nZoom meeting : Link\n\nMeeting ID: 811 8007 3304\nPasscode: 573138\n(Zoom dibuka pukul 18.45)
URL:https://gkjjembatanlima.org/acara/persekutuan-doa-rabu-08-apr-2026/
LOCATION:GKJ Jembatan Lima\, GKJ Jembatan Lima Jl. Tambora Raya No.44\, Jakarta Barat\, DKI Jakarta\, 11220\, Indonesia
CATEGORIES:Persekutuan Doa
ATTACH;FMTTYPE=image/jpeg:https://gkjjembatanlima.org/wp-content/uploads/2026/04/PD-08-APR-2026.jpg
END:VEVENT
BEGIN:VEVENT
DTSTART;TZID=Asia/Jakarta:20260415T190000
DTEND;TZID=Asia/Jakarta:20260415T190000
DTSTAMP:20260422T115643
CREATED:20260411T033237Z
LAST-MODIFIED:20260411T033237Z
UID:993406-1776279600-1776279600@gkjjembatanlima.org
SUMMARY:Persekutuan Doa Puasa Rabu | 15 APR 2026
DESCRIPTION:Persekutuan Doa Puasa Rabu 拜三禁食晚禱會. \nHari & Tanggal (日期): Rabu\, 15 April 2026 (2026年4月15日 星期三).\nWaktu (时间): 19.00 WIB (晚上七点). \nTema 主题: IBADAH YANG MURNI DAN TAK BERCACAT.\nPengkhotbah 讲员: Pdt. Yuneari Lase 賴永興牧師. \nLokasi 地點 :\nGKJ Jemaat Jembatan Lima\nJl. Tambora Raya No. 44\, Jakarta Barat \nOnline 线上: \nZoom meeting : Link\n\nMeeting ID: 811 8007 3304\nPasscode: 573138\n(Zoom dibuka pukul 18.45)
URL:https://gkjjembatanlima.org/acara/persekutuan-doa-puasa-rabu-15-apr-2026/
LOCATION:GKJ Jembatan Lima\, GKJ Jembatan Lima Jl. Tambora Raya No.44\, Jakarta Barat\, DKI Jakarta\, 11220\, Indonesia
CATEGORIES:Persekutuan Doa
ATTACH;FMTTYPE=image/jpeg:https://gkjjembatanlima.org/wp-content/uploads/2026/04/PD-12-APR-2026.jpg
END:VEVENT
BEGIN:VEVENT
DTSTART;TZID=Asia/Jakarta:20260422T190000
DTEND;TZID=Asia/Jakarta:20260422T190000
DTSTAMP:20260422T115643
CREATED:20260419T073055Z
LAST-MODIFIED:20260419T073055Z
UID:993434-1776884400-1776884400@gkjjembatanlima.org
SUMMARY:Persekutuan Doa Rabu | 22 APR 2026
DESCRIPTION:Persekutuan Doa Rabu 拜三晚禱會. \nHari & Tanggal (日期): Rabu\, 22 April 2026 (2026年4月22日 星期三).\nWaktu (时间): 19.00 WIB (晚上七点). \nTema 主题: FOKUS IBADAH BUKAN TEMPAT\, LALU APA?\nPengkhotbah 讲员: G.I. Andreas Nikodemus 房華平傳道. \nLokasi 地點 :\nGKJ Jemaat Jembatan Lima\nJl. Tambora Raya No. 44\, Jakarta Barat \nOnline 线上: \nZoom meeting : Link\n\nMeeting ID: 811 8007 3304\nPasscode: 573138\n(Zoom dibuka pukul 18.45) \n \n 
URL:https://gkjjembatanlima.org/acara/persekutuan-doa-rabu-22-apr-2026/
LOCATION:GKJ Jembatan Lima\, GKJ Jembatan Lima Jl. Tambora Raya No.44\, Jakarta Barat\, DKI Jakarta\, 11220\, Indonesia
CATEGORIES:Persekutuan Doa
ATTACH;FMTTYPE=image/jpeg:https://gkjjembatanlima.org/wp-content/uploads/2026/04/PD-22-APR-2026.jpg
END:VEVENT
END:VCALENDAR