BEGIN:VCALENDAR
VERSION:2.0
PRODID:-//GKJ Jemaat Jembatan Lima - ECPv6.14.0//NONSGML v1.0//EN
CALSCALE:GREGORIAN
METHOD:PUBLISH
X-WR-CALNAME:GKJ Jemaat Jembatan Lima
X-ORIGINAL-URL:https://gkjjembatanlima.org
X-WR-CALDESC:Events for GKJ Jemaat Jembatan Lima
REFRESH-INTERVAL;VALUE=DURATION:PT1H
X-Robots-Tag:noindex
X-PUBLISHED-TTL:PT1H
BEGIN:VTIMEZONE
TZID:Asia/Jakarta
BEGIN:STANDARD
TZOFFSETFROM:+0700
TZOFFSETTO:+0700
TZNAME:WIB
DTSTART:20240101T000000
END:STANDARD
END:VTIMEZONE
BEGIN:VEVENT
DTSTART;TZID=Asia/Jakarta:20250702T190000
DTEND;TZID=Asia/Jakarta:20250702T190000
DTSTAMP:20260420T031928
CREATED:20250628T153105Z
LAST-MODIFIED:20250628T155057Z
UID:992081-1751482800-1751482800@gkjjembatanlima.org
SUMMARY:Persekutuan Doa Rabu | 02 JUL 2025
DESCRIPTION:Persekutuan Doa Rabu Onsite & Online: \nHari: Rabu\, 02 Juli 2025.\nPukul: 19:00 WIB. \nDengan Tema: PERUMPAMAAN TENTANG SEORANG PENABUR.\nPembicara: GI. Alfa Imannuel. \nOnsite:\nGKJ Jemaat Jembatan Lima\nJl. Tambora Raya No. 44\, Jakarta Barat \nOnline:\nZoom meeting : Link\n\nMeeting ID: 811 8007 3304\nPasscode: 573138\n(Zoom dibuka pukul 18.45) \n \n 
URL:https://gkjjembatanlima.org/acara/persekutuan-doa-rabu-02-jul-2025/
LOCATION:GKJ Jembatan Lima\, GKJ Jembatan Lima Jl. Tambora Raya No.44\, Jakarta Barat\, DKI Jakarta\, 11220\, Indonesia
CATEGORIES:Persekutuan Doa
ATTACH;FMTTYPE=image/jpeg:https://gkjjembatanlima.org/wp-content/uploads/2025/06/PD-02-JUL-2025.jpg
END:VEVENT
BEGIN:VEVENT
DTSTART;TZID=Asia/Jakarta:20250625T190000
DTEND;TZID=Asia/Jakarta:20250625T190000
DTSTAMP:20260420T031928
CREATED:20250621T154640Z
LAST-MODIFIED:20250621T155606Z
UID:992061-1750878000-1750878000@gkjjembatanlima.org
SUMMARY:Persekutuan Doa | 25 JUN 2025
DESCRIPTION:Persekutuan Doa Onsite & Online: \nHari: Rabu\, 25 Juni 2025.\nPukul: 19:00 WIB. \nDengan Tema: BERSAMA KELUARGAKU MELAYANI TUHAN.\nOleh: Pdt. Ang Tjoe Mio. \nOnsite:\nGKJ Jemaat Jembatan Lima\nJl. Tambora Raya No. 44\, Jakarta Barat \nOnline:\nZoom meeting : Link\n\nMeeting ID: 811 8007 3304\nPasscode: 573138\n(Zoom dibuka pukul 18.45) \n \n 
URL:https://gkjjembatanlima.org/acara/persekutuan-doa-25-jun-2025/
LOCATION:GKJ Jembatan Lima\, GKJ Jembatan Lima Jl. Tambora Raya No.44\, Jakarta Barat\, DKI Jakarta\, 11220\, Indonesia
CATEGORIES:Persekutuan Doa
ATTACH;FMTTYPE=image/jpeg:https://gkjjembatanlima.org/wp-content/uploads/2025/06/PD-25-JUN-2025.jpg
END:VEVENT
BEGIN:VEVENT
DTSTART;TZID=Asia/Jakarta:20250618T183000
DTEND;TZID=Asia/Jakarta:20250618T183000
DTSTAMP:20260420T031928
CREATED:20250614T070627Z
LAST-MODIFIED:20250614T070743Z
UID:992034-1750271400-1750271400@gkjjembatanlima.org
SUMMARY:Persekutuan Doa Puasa | 18 JUN 2025
DESCRIPTION:Persekutuan Doa Puasa Onsite & Online: \nHari: Rabu\, 18 Juni 2025.\nPukul: 18:30 WIB. \nTalk Show dengan Tema: SATU HATI DI TENGAH PERBEDAAN.\nOleh: GI. Ayub Wahyono. \nOnsite:\nGKJ Jemaat Jembatan Lima\nJl. Tambora Raya No. 44\, Jakarta Barat \nOnline:\nZoom meeting : Link\n\nMeeting ID: 811 8007 3304\nPasscode: 573138\n(Zoom dibuka pukul 18.45) \n \n 
URL:https://gkjjembatanlima.org/acara/persekutuan-doa-puasa-18-jun-2025/
LOCATION:GKJ Jembatan Lima\, GKJ Jembatan Lima Jl. Tambora Raya No.44\, Jakarta Barat\, DKI Jakarta\, 11220\, Indonesia
CATEGORIES:Persekutuan Doa
ATTACH;FMTTYPE=image/jpeg:https://gkjjembatanlima.org/wp-content/uploads/2025/06/PD-18-JUN-2025.jpg
END:VEVENT
BEGIN:VEVENT
DTSTART;TZID=Asia/Jakarta:20250611T190000
DTEND;TZID=Asia/Jakarta:20250611T190000
DTSTAMP:20260420T031928
CREATED:20250607T044957Z
LAST-MODIFIED:20250607T044957Z
UID:992004-1749668400-1749668400@gkjjembatanlima.org
SUMMARY:Persekutuan Doa | 11 JUN 2025
DESCRIPTION:Persekutuan Doa Onsite & Online: \nHari: Rabu\, 11 Juni 2025.\nPukul: 19:00 WIB. \nDengan Tema: BERSAMA KELUARGAKU MENGASIHI TUHAN.\nOleh: GI. Muliani Gulo. \nOnsite:\nGKJ Jemaat Jembatan Lima\nJl. Tambora Raya No. 44\, Jakarta Barat \nOnline:\nZoom meeting : Link\n\nMeeting ID: 811 8007 3304\nPasscode: 573138\n(Zoom dibuka pukul 18.45) \n \n 
URL:https://gkjjembatanlima.org/acara/persekutuan-doa-11-jun-2025/
LOCATION:GKJ Jembatan Lima\, GKJ Jembatan Lima Jl. Tambora Raya No.44\, Jakarta Barat\, DKI Jakarta\, 11220\, Indonesia
CATEGORIES:Persekutuan Doa
ATTACH;FMTTYPE=image/jpeg:https://gkjjembatanlima.org/wp-content/uploads/2025/06/PD-11-JUN-2025.jpg
END:VEVENT
BEGIN:VEVENT
DTSTART;TZID=Asia/Jakarta:20250604T190000
DTEND;TZID=Asia/Jakarta:20250604T190000
DTSTAMP:20260420T031928
CREATED:20250531T095135Z
LAST-MODIFIED:20250531T095135Z
UID:991971-1749063600-1749063600@gkjjembatanlima.org
SUMMARY:Persekutuan Doa | 04 JUN 2025
DESCRIPTION:Persekutuan Doa Onsite & Online: \nHari: Rabu\, 04 Juni 2025.\nPukul: 19:00 WIB. \nDengan Tema: HAPPY PARENTS\, HAPPY KIDS.\nOleh: Bpk. Indrawan. \nOnsite:\nGKJ Jemaat Jembatan Lima\nJl. Tambora Raya No. 44\, Jakarta Barat \nOnline:\nZoom meeting : Link\n\nMeeting ID: 811 8007 3304\nPasscode: 573138\n(Zoom dibuka pukul 18.45) \n \n 
URL:https://gkjjembatanlima.org/acara/persekutuan-doa-04-jun-2025/
LOCATION:GKJ Jembatan Lima\, GKJ Jembatan Lima Jl. Tambora Raya No.44\, Jakarta Barat\, DKI Jakarta\, 11220\, Indonesia
CATEGORIES:Persekutuan Doa
ATTACH;FMTTYPE=image/jpeg:https://gkjjembatanlima.org/wp-content/uploads/2025/05/PD-04-JUN-2025.jpg
END:VEVENT
BEGIN:VEVENT
DTSTART;TZID=Asia/Jakarta:20250521T190000
DTEND;TZID=Asia/Jakarta:20250521T190000
DTSTAMP:20260420T031928
CREATED:20250517T124427Z
LAST-MODIFIED:20250517T124427Z
UID:991924-1747854000-1747854000@gkjjembatanlima.org
SUMMARY:Persekutuan Doa | 21 MEI 2025
DESCRIPTION:Persekutuan Doa Onsite & Online: \nHari: Rabu\, 21 Mei 2025.\nPukul: 19:00 WIB. \nDengan Tema: PENOLONG YANG SETIA.\nOleh: GM. Salanus Geri. \nOnsite:\nGKJ Jemaat Jembatan Lima\nJl. Tambora Raya No. 44\, Jakarta Barat \nOnline:\nZoom meeting : Link\n\nMeeting ID: 811 8007 3304\nPasscode: 573138\n(Zoom dibuka pukul 18.45) \n \n 
URL:https://gkjjembatanlima.org/acara/persekutuan-doa-21-mei-2025/
LOCATION:GKJ Jembatan Lima\, GKJ Jembatan Lima Jl. Tambora Raya No.44\, Jakarta Barat\, DKI Jakarta\, 11220\, Indonesia
CATEGORIES:Persekutuan Doa
ATTACH;FMTTYPE=image/jpeg:https://gkjjembatanlima.org/wp-content/uploads/2025/05/PD-21-MEI-2025.jpg
END:VEVENT
BEGIN:VEVENT
DTSTART;TZID=Asia/Jakarta:20250514T190000
DTEND;TZID=Asia/Jakarta:20250514T190000
DTSTAMP:20260420T031928
CREATED:20250510T152514Z
LAST-MODIFIED:20250510T152514Z
UID:991895-1747249200-1747249200@gkjjembatanlima.org
SUMMARY:Persekutuan Doa | 14 MEI 2025
DESCRIPTION:Persekutuan Doa Onsite & Online: \nHari: Rabu\, 14 Mei 2025.\nPukul: 19:00 WIB. \nDengan Tema: SAHABAT YANG SEJATI.\nOleh: Pdt. Ang Tjoe Mio. \nOnsite:\nGKJ Jemaat Jembatan Lima\nJl. Tambora Raya No. 44\, Jakarta Barat \nOnline:\nZoom meeting : Link\n\nMeeting ID: 811 8007 3304\nPasscode: 573138\n(Zoom dibuka pukul 18.45) \n \n 
URL:https://gkjjembatanlima.org/acara/persekutuan-doa-14-mei-2025/
LOCATION:GKJ Jembatan Lima\, GKJ Jembatan Lima Jl. Tambora Raya No.44\, Jakarta Barat\, DKI Jakarta\, 11220\, Indonesia
CATEGORIES:Persekutuan Doa
ATTACH;FMTTYPE=image/jpeg:https://gkjjembatanlima.org/wp-content/uploads/2025/05/PD-14-MEI-2025.jpg
END:VEVENT
BEGIN:VEVENT
DTSTART;TZID=Asia/Jakarta:20250507T190000
DTEND;TZID=Asia/Jakarta:20250507T190000
DTSTAMP:20260420T031928
CREATED:20250503T131344Z
LAST-MODIFIED:20250503T131344Z
UID:991880-1746644400-1746644400@gkjjembatanlima.org
SUMMARY:Persekutuan Doa | 07 MEI 2025
DESCRIPTION:Persekutuan Doa Onsite & Online: \nHari: Rabu\, 07 Mei 2025.\nPukul: 19:00 WIB. \nDengan Tema: ANUGERAH YANG MENYELAMATKAN.\nOleh: GI. Widya Tuluswati. \nOnsite:\nGKJ Jemaat Jembatan Lima\nJl. Tambora Raya No. 44\, Jakarta Barat \nOnline:\nZoom meeting : Link\n\nMeeting ID: 811 8007 3304\nPasscode: 573138\n(Zoom dibuka pukul 18.45) \n \n 
URL:https://gkjjembatanlima.org/acara/persekutuan-doa-07-mei-2025/
LOCATION:GKJ Jembatan Lima\, GKJ Jembatan Lima Jl. Tambora Raya No.44\, Jakarta Barat\, DKI Jakarta\, 11220\, Indonesia
CATEGORIES:Persekutuan Doa
ATTACH;FMTTYPE=image/jpeg:https://gkjjembatanlima.org/wp-content/uploads/2025/05/PD-07-MEI-2025.jpg
END:VEVENT
BEGIN:VEVENT
DTSTART;TZID=Asia/Jakarta:20250430T190000
DTEND;TZID=Asia/Jakarta:20250430T190000
DTSTAMP:20260420T031928
CREATED:20250426T075545Z
LAST-MODIFIED:20250426T082548Z
UID:991840-1746039600-1746039600@gkjjembatanlima.org
SUMMARY:Persekutuan Doa | 30 APR 2025
DESCRIPTION:Persekutuan Doa Onsite & Online: \nHari: Rabu\, 30 April 2025.\nPukul: 19:00 WIB. \nDengan Tema: PERKATAAN SALIB KE-7.\nOleh: GI. Alfa Imannuel. \nOnsite:\nGKJ Jemaat Jembatan Lima\nJl. Tambora Raya No. 44\, Jakarta Barat \nOnline:\nZoom meeting : Link\n\nMeeting ID: 811 8007 3304\nPasscode: 573138\n(Zoom dibuka pukul 18.45) \n \n 
URL:https://gkjjembatanlima.org/acara/persekutuan-doa-30-apr-2025/
LOCATION:GKJ Jembatan Lima\, GKJ Jembatan Lima Jl. Tambora Raya No.44\, Jakarta Barat\, DKI Jakarta\, 11220\, Indonesia
CATEGORIES:Persekutuan Doa
ATTACH;FMTTYPE=image/jpeg:https://gkjjembatanlima.org/wp-content/uploads/2025/04/PD-30-APR-2025.jpg
END:VEVENT
BEGIN:VEVENT
DTSTART;TZID=Asia/Jakarta:20250423T190000
DTEND;TZID=Asia/Jakarta:20250423T190000
DTSTAMP:20260420T031928
CREATED:20250419T074912Z
LAST-MODIFIED:20250419T074912Z
UID:991818-1745434800-1745434800@gkjjembatanlima.org
SUMMARY:Persekutuan Doa | 23 APR 2025
DESCRIPTION:Persekutuan Doa Onsite & Online: \nHari: Rabu\, 23 April 2025.\nPukul: 19:00 WIB. \nDengan Tema: PERKATAAN SALIB KE-6.\nOleh: GI. Andreas Nikodemus. \nOnsite:\nGKJ Jemaat Jembatan Lima\nJl. Tambora Raya No. 44\, Jakarta Barat \nOnline:\nZoom meeting : Link\n\nMeeting ID: 811 8007 3304\nPasscode: 573138\n(Zoom dibuka pukul 18.45) \n \n 
URL:https://gkjjembatanlima.org/acara/persekutuan-doa-23-apr-2025/
LOCATION:GKJ Jembatan Lima\, GKJ Jembatan Lima Jl. Tambora Raya No.44\, Jakarta Barat\, DKI Jakarta\, 11220\, Indonesia
CATEGORIES:Persekutuan Doa
ATTACH;FMTTYPE=image/jpeg:https://gkjjembatanlima.org/wp-content/uploads/2025/04/5.jpg
END:VEVENT
BEGIN:VEVENT
DTSTART;TZID=Asia/Jakarta:20250416T190000
DTEND;TZID=Asia/Jakarta:20250416T190000
DTSTAMP:20260420T031928
CREATED:20250412T174436Z
LAST-MODIFIED:20250412T174436Z
UID:991800-1744830000-1744830000@gkjjembatanlima.org
SUMMARY:Persekutuan Doa Puasa | 16 APR 2025
DESCRIPTION:Persekutuan Doa Puasa Onsite & Online: \nHari: Rabu\, 16 April 2025.\nPukul: 19:00 WIB. \nDengan Tema: Perkataan Salib ke-5.\nOleh: GI. Swannius Bong. \nOnsite:\nGKJ Jemaat Jembatan Lima\nJl. Tambora Raya No. 44\, Jakarta Barat \nOnline:\nZoom meeting : Link\n\nMeeting ID: 811 8007 3304\nPasscode: 573138\n(Zoom dibuka pukul 18.45) \n \n 
URL:https://gkjjembatanlima.org/acara/persekutuan-doa-puasa-16-apr-2025/
LOCATION:GKJ Jembatan Lima\, GKJ Jembatan Lima Jl. Tambora Raya No.44\, Jakarta Barat\, DKI Jakarta\, 11220\, Indonesia
CATEGORIES:Persekutuan Doa
ATTACH;FMTTYPE=image/jpeg:https://gkjjembatanlima.org/wp-content/uploads/2025/04/PD-16-APR-2025.jpg
END:VEVENT
BEGIN:VEVENT
DTSTART;TZID=Asia/Jakarta:20250409T190000
DTEND;TZID=Asia/Jakarta:20250409T190000
DTSTAMP:20260420T031928
CREATED:20250405T170710Z
LAST-MODIFIED:20250405T170710Z
UID:991782-1744225200-1744225200@gkjjembatanlima.org
SUMMARY:Persekutuan Doa | 09 APR 2025
DESCRIPTION:Persekutuan Doa Onsite & Online: \nHari: Rabu\, 09 April 2025.\nPukul: 19:00 WIB. \nDengan Tema: PERKATAAN SALIB KE-4.\nOleh: Pdt. Ang Tjoe Mio. \nOnsite:\nGKJ Jemaat Jembatan Lima\nJl. Tambora Raya No. 44\, Jakarta Barat \nOnline:\nZoom meeting : Link\n\nMeeting ID: 811 8007 3304\nPasscode: 573138\n(Zoom dibuka pukul 18.45) \n \n 
URL:https://gkjjembatanlima.org/acara/persekutuan-doa-09-apr-2025/
LOCATION:GKJ Jembatan Lima\, GKJ Jembatan Lima Jl. Tambora Raya No.44\, Jakarta Barat\, DKI Jakarta\, 11220\, Indonesia
CATEGORIES:Persekutuan Doa
ATTACH;FMTTYPE=image/jpeg:https://gkjjembatanlima.org/wp-content/uploads/2025/04/PD-09-APR-2025.jpg
END:VEVENT
BEGIN:VEVENT
DTSTART;TZID=Asia/Jakarta:20250402T190000
DTEND;TZID=Asia/Jakarta:20250402T190000
DTSTAMP:20260420T031928
CREATED:20250329T122542Z
LAST-MODIFIED:20250329T123544Z
UID:991758-1743620400-1743620400@gkjjembatanlima.org
SUMMARY:Persekutuan Doa | 02 APR 2025
DESCRIPTION:Persekutuan Doa Onsite & Online: \nHari: Rabu\, 02 April 2025.\nPukul: 19:00 WIB. \nDengan Tema: PERKATAAN SALIB KE-3.\nOleh: GI. Noriana Nori. \nOnsite:\nGKJ Jemaat Jembatan Lima\nJl. Tambora Raya No. 44\, Jakarta Barat \nOnline:\nZoom meeting : Link\n\nMeeting ID: 811 8007 3304\nPasscode: 573138\n(Zoom dibuka pukul 18.45) \n \n 
URL:https://gkjjembatanlima.org/acara/persekutuan-doa-02-apr-2025/
LOCATION:GKJ Jembatan Lima\, GKJ Jembatan Lima Jl. Tambora Raya No.44\, Jakarta Barat\, DKI Jakarta\, 11220\, Indonesia
CATEGORIES:Persekutuan Doa
ATTACH;FMTTYPE=image/jpeg:https://gkjjembatanlima.org/wp-content/uploads/2025/03/PD-02-APR-2025.jpg
END:VEVENT
BEGIN:VEVENT
DTSTART;TZID=Asia/Jakarta:20250326T190000
DTEND;TZID=Asia/Jakarta:20250326T190000
DTSTAMP:20260420T031928
CREATED:20250322T141946Z
LAST-MODIFIED:20250322T141946Z
UID:991737-1743015600-1743015600@gkjjembatanlima.org
SUMMARY:Persekutuan Doa | 26 MAR 2025
DESCRIPTION:Persekutuan Doa Onsite & Online: \nHari: Rabu\, 26 Maret 2025.\nPukul: 19:00 WIB. \nDengan Tema: PERKATAAN SALIB KE-2.\nOleh: GI. Oliviana Cong. \nOnsite:\nGKJ Jemaat Jembatan Lima\nJl. Tambora Raya No. 44\, Jakarta Barat \nOnline:\nZoom meeting : Link\n\nMeeting ID: 811 8007 3304\nPasscode: 573138\n(Zoom dibuka pukul 18.45) \n \n 
URL:https://gkjjembatanlima.org/acara/persekutuan-doa-26-mar-2025/
LOCATION:GKJ Jembatan Lima\, GKJ Jembatan Lima Jl. Tambora Raya No.44\, Jakarta Barat\, DKI Jakarta\, 11220\, Indonesia
CATEGORIES:Persekutuan Doa
ATTACH;FMTTYPE=image/jpeg:https://gkjjembatanlima.org/wp-content/uploads/2025/03/PD-26-MAR-2025.jpg
END:VEVENT
BEGIN:VEVENT
DTSTART;TZID=Asia/Jakarta:20250319T190000
DTEND;TZID=Asia/Jakarta:20250319T190000
DTSTAMP:20260420T031928
CREATED:20250315T142102Z
LAST-MODIFIED:20250315T142102Z
UID:991718-1742410800-1742410800@gkjjembatanlima.org
SUMMARY:Persekutuan Doa Puasa | 19 MAR 2025
DESCRIPTION:Persekutuan Doa Puasa Onsite & Online: \nHari: Rabu\, 19 Maret 2025.\nPukul: 19:00 WIB. \nDengan Tema: Perkataan Salib ke-1.\nOleh: Pdt. Imanuel Faofeto. \nOnsite:\nGKJ Jemaat Jembatan Lima\nJl. Tambora Raya No. 44\, Jakarta Barat \nOnline:\nZoom meeting : Link\n\nMeeting ID: 811 8007 3304\nPasscode: 573138\n(Zoom dibuka pukul 18.45) \n \n 
URL:https://gkjjembatanlima.org/acara/persekutuan-doa-puasa-19-mar-2025/
LOCATION:GKJ Jembatan Lima\, GKJ Jembatan Lima Jl. Tambora Raya No.44\, Jakarta Barat\, DKI Jakarta\, 11220\, Indonesia
CATEGORIES:Persekutuan Doa
ATTACH;FMTTYPE=image/jpeg:https://gkjjembatanlima.org/wp-content/uploads/2025/03/E-flayer.jpg
END:VEVENT
BEGIN:VEVENT
DTSTART;TZID=Asia/Jakarta:20250312T190000
DTEND;TZID=Asia/Jakarta:20250312T190000
DTSTAMP:20260420T031928
CREATED:20250308T115400Z
LAST-MODIFIED:20250308T115400Z
UID:991691-1741806000-1741806000@gkjjembatanlima.org
SUMMARY:Persekutuan Doa | 12 MAR 2025
DESCRIPTION:Persekutuan Doa Onsite & Online: \nHari: Rabu\, 12 Maret 2025.\nPukul: 19:00 WIB. \nDengan Tema: 10 PERINTAH ALLAH: PERINTAH KE-10.\nOleh: Pdt. Ang Tjoe Mio. \nOnsite:\nGKJ Jemaat Jembatan Lima\nJl. Tambora Raya No. 44\, Jakarta Barat \nOnline:\nZoom meeting : Link\n\nMeeting ID: 811 8007 3304\nPasscode: 573138\n(Zoom dibuka pukul 18.45) \n \n 
URL:https://gkjjembatanlima.org/acara/persekutuan-doa-12-mar-2025/
LOCATION:GKJ Jembatan Lima\, GKJ Jembatan Lima Jl. Tambora Raya No.44\, Jakarta Barat\, DKI Jakarta\, 11220\, Indonesia
CATEGORIES:Persekutuan Doa
ATTACH;FMTTYPE=image/jpeg:https://gkjjembatanlima.org/wp-content/uploads/2025/03/PD-12-MAR-2025.jpg
END:VEVENT
BEGIN:VEVENT
DTSTART;TZID=Asia/Jakarta:20250305T190000
DTEND;TZID=Asia/Jakarta:20250305T190000
DTSTAMP:20260420T031928
CREATED:20250301T155429Z
LAST-MODIFIED:20250301T155429Z
UID:991666-1741201200-1741201200@gkjjembatanlima.org
SUMMARY:Persekutuan Doa | 05 MAR 2025
DESCRIPTION:Persekutuan Doa Onsite & Online: \nHari: Rabu\, 05 Maret 2025.\nPukul: 19:00 WIB. \nDengan Tema: 10 PERINTAH ALLAH: PERINTAH KE-9.\nOleh: GI. Widya Laras. \nOnsite:\nGKJ Jemaat Jembatan Lima\nJl. Tambora Raya No. 44\, Jakarta Barat \nOnline:\nZoom meeting : Link\n\nMeeting ID: 811 8007 3304\nPasscode: 573138\n(Zoom dibuka pukul 18.45) \n \n 
URL:https://gkjjembatanlima.org/acara/persekutuan-doa-05-mar-2025/
LOCATION:GKJ Jembatan Lima\, GKJ Jembatan Lima Jl. Tambora Raya No.44\, Jakarta Barat\, DKI Jakarta\, 11220\, Indonesia
CATEGORIES:Persekutuan Doa
ATTACH;FMTTYPE=image/jpeg:https://gkjjembatanlima.org/wp-content/uploads/2025/03/PD-05-MAR-2025.jpg
END:VEVENT
BEGIN:VEVENT
DTSTART;TZID=Asia/Jakarta:20250226T190000
DTEND;TZID=Asia/Jakarta:20250226T190000
DTSTAMP:20260420T031928
CREATED:20250222T164952Z
LAST-MODIFIED:20250223T084306Z
UID:991641-1740596400-1740596400@gkjjembatanlima.org
SUMMARY:Persekutuan Doa | 26 FEB 2025
DESCRIPTION:Persekutuan Doa Onsite & Online: \nHari: Rabu\, 26 Februari 2025.\nPukul: 19:00 WIB. \nDengan Tema: 10 PERINTAH ALLAH: PERINTAH KE-8.\nOleh: Bpk. Indrawan. \nOnsite:\nGKJ Jemaat Jembatan Lima\nJl. Tambora Raya No. 44\, Jakarta Barat \nOnline:\nZoom meeting : Link\n\nMeeting ID: 811 8007 3304\nPasscode: 573138\n(Zoom dibuka pukul 18.45) \n \n 
URL:https://gkjjembatanlima.org/acara/persekutuan-doa-26-feb-2025/
LOCATION:GKJ Jembatan Lima\, GKJ Jembatan Lima Jl. Tambora Raya No.44\, Jakarta Barat\, DKI Jakarta\, 11220\, Indonesia
CATEGORIES:Persekutuan Doa
ATTACH;FMTTYPE=image/jpeg:https://gkjjembatanlima.org/wp-content/uploads/2025/02/PD-26-FEB-2025-indrawan.jpg
END:VEVENT
BEGIN:VEVENT
DTSTART;TZID=Asia/Jakarta:20250219T190000
DTEND;TZID=Asia/Jakarta:20250219T190000
DTSTAMP:20260420T031928
CREATED:20250215T145508Z
LAST-MODIFIED:20250215T150246Z
UID:991624-1739991600-1739991600@gkjjembatanlima.org
SUMMARY:Persekutuan Doa | 19 FEB 2025
DESCRIPTION:Persekutuan Doa Onsite & Online: \nHari: Rabu\, 19 Februari 2025.\nPukul: 19:00 WIB. \nDengan Tema: 10 PERINTAH ALLAH: PERINTAH KE-7.\nOleh: GI. Michael Ciu. \nOnsite:\nGKJ Jemaat Jembatan Lima\nJl. Tambora Raya No. 44\, Jakarta Barat \nOnline:\nZoom meeting : Link\n\nMeeting ID: 811 8007 3304\nPasscode: 573138\n(Zoom dibuka pukul 18.45) \n \n 
URL:https://gkjjembatanlima.org/acara/persekutuan-doa-19-feb-2025/
LOCATION:GKJ Jembatan Lima\, GKJ Jembatan Lima Jl. Tambora Raya No.44\, Jakarta Barat\, DKI Jakarta\, 11220\, Indonesia
CATEGORIES:Persekutuan Doa
ATTACH;FMTTYPE=image/jpeg:https://gkjjembatanlima.org/wp-content/uploads/2025/02/PD-19-FEB-2025.jpg
END:VEVENT
BEGIN:VEVENT
DTSTART;TZID=Asia/Jakarta:20250212T190000
DTEND;TZID=Asia/Jakarta:20250212T190000
DTSTAMP:20260420T031928
CREATED:20250208T165127Z
LAST-MODIFIED:20250208T165127Z
UID:991605-1739386800-1739386800@gkjjembatanlima.org
SUMMARY:Persekutuan Doa | 12 FEB 2025
DESCRIPTION:Persekutuan Doa Onsite & Online: \nHari: Rabu\, 12 Februari 2025.\nPukul: 19:00 WIB. \nDengan Tema: 10 PERINTAH ALLAH: PERINTAH KE-6.\nOleh: GI. Daniel Kristiawan. \nOnsite:\nGKJ Jemaat Jembatan Lima\nJl. Tambora Raya No. 44\, Jakarta Barat \nOnline:\nZoom meeting : Link\n\nMeeting ID: 811 8007 3304\nPasscode: 573138\n(Zoom dibuka pukul 18.45) \n \n 
URL:https://gkjjembatanlima.org/acara/persekutuan-doa-12-feb-2025/
LOCATION:GKJ Jembatan Lima\, GKJ Jembatan Lima Jl. Tambora Raya No.44\, Jakarta Barat\, DKI Jakarta\, 11220\, Indonesia
CATEGORIES:Persekutuan Doa
ATTACH;FMTTYPE=image/jpeg:https://gkjjembatanlima.org/wp-content/uploads/2025/02/PD-12-FEB-2025.jpg
END:VEVENT
BEGIN:VEVENT
DTSTART;TZID=Asia/Jakarta:20250205T190000
DTEND;TZID=Asia/Jakarta:20250205T190000
DTSTAMP:20260420T031928
CREATED:20250201T155816Z
LAST-MODIFIED:20250201T155816Z
UID:991586-1738782000-1738782000@gkjjembatanlima.org
SUMMARY:Persekutuan Doa | 05 FEB 2025
DESCRIPTION:Persekutuan Doa Onsite & Online: \nHari: Rabu\, 05 Februari 2025.\nPukul: 19:00 WIB. \nDengan Tema: 10 PERINTAH ALLAH: PERINTAH KE-5.\nOleh: GI. Andreas Nikodemus. \nOnsite:\nGKJ Jemaat Jembatan Lima\nJl. Tambora Raya No. 44\, Jakarta Barat \nOnline:\nZoom meeting : Link\n\nMeeting ID: 811 8007 3304\nPasscode: 573138\n(Zoom dibuka pukul 18.45) \n \n 
URL:https://gkjjembatanlima.org/acara/persekutuan-doa-05-feb-2025/
LOCATION:GKJ Jembatan Lima\, GKJ Jembatan Lima Jl. Tambora Raya No.44\, Jakarta Barat\, DKI Jakarta\, 11220\, Indonesia
CATEGORIES:Persekutuan Doa
ATTACH;FMTTYPE=image/jpeg:https://gkjjembatanlima.org/wp-content/uploads/2025/02/5.jpg
END:VEVENT
BEGIN:VEVENT
DTSTART;VALUE=DATE:20250129
DTEND;VALUE=DATE:20250130
DTSTAMP:20260420T031928
CREATED:20250125T070514Z
LAST-MODIFIED:20250125T070514Z
UID:991569-1738108800-1738195199@gkjjembatanlima.org
SUMMARY:Persekutuan Doa | 29 JAN 2025
DESCRIPTION:Persekutuan Doa Rabu 29 Januari 2025 diliburkan bertepatan dengan Tahun Baru Imlek. \n 
URL:https://gkjjembatanlima.org/acara/persekutuan-doa-29-jan-2025/
LOCATION:DKI Jakarta
CATEGORIES:Persekutuan Doa
ATTACH;FMTTYPE=image/jpeg:https://gkjjembatanlima.org/wp-content/uploads/2025/01/PD-29-JAN-2025.jpg
END:VEVENT
BEGIN:VEVENT
DTSTART;TZID=Asia/Jakarta:20250122T190000
DTEND;TZID=Asia/Jakarta:20250122T190000
DTSTAMP:20260420T031928
CREATED:20250117T104351Z
LAST-MODIFIED:20250117T104351Z
UID:991541-1737572400-1737572400@gkjjembatanlima.org
SUMMARY:Persekutuan Doa Puasa | 22 JAN 2025
DESCRIPTION:Persekutuan Doa Puasa Onsite & Online: \nHari: Rabu\, 22 Januari 2025.\nPukul: 19:00 WIB. \nDengan Tema: 10 PERINTAH ALLAH: PERINTAH KE-4.\nOleh: Pdt. Bobby Messakh. \nOnsite:\nGKJ Jemaat Jembatan Lima\nJl. Tambora Raya No. 44\, Jakarta Barat \nOnline:\nZoom meeting : Link\n\nMeeting ID: 811 8007 3304\nPasscode: 573138\n(Zoom dibuka pukul 18.45) \n \n 
URL:https://gkjjembatanlima.org/acara/persekutuan-doa-puasa-22-jan-2025/
LOCATION:GKJ Jembatan Lima\, GKJ Jembatan Lima Jl. Tambora Raya No.44\, Jakarta Barat\, DKI Jakarta\, 11220\, Indonesia
CATEGORIES:Persekutuan Doa
ATTACH;FMTTYPE=image/jpeg:https://gkjjembatanlima.org/wp-content/uploads/2025/01/3.jpg
END:VEVENT
BEGIN:VEVENT
DTSTART;TZID=Asia/Jakarta:20250115T190000
DTEND;TZID=Asia/Jakarta:20250115T190000
DTSTAMP:20260420T031928
CREATED:20250111T114440Z
LAST-MODIFIED:20250111T114440Z
UID:991515-1736967600-1736967600@gkjjembatanlima.org
SUMMARY:Persekutuan Doa | 15 JAN 2025
DESCRIPTION:Persekutuan Doa Onsite & Online: \nHari: Rabu\, 15 Januari 2025.\nPukul: 19:00 WIB. \nDengan Tema: 10 PERINTAH ALLAH: PERINTAH KE-3.\nOleh: Pdt. Ang Tjoe Mio. \nOnsite:\nGKJ Jemaat Jembatan Lima\nJl. Tambora Raya No. 44\, Jakarta Barat \nOnline:\nZoom meeting : Link\n\nMeeting ID: 811 8007 3304\nPasscode: 573138\n(Zoom dibuka pukul 18.45) \n \n 
URL:https://gkjjembatanlima.org/acara/persekutuan-doa-15-jan-2025/
LOCATION:GKJ Jembatan Lima\, GKJ Jembatan Lima Jl. Tambora Raya No.44\, Jakarta Barat\, DKI Jakarta\, 11220\, Indonesia
CATEGORIES:Persekutuan Doa
ATTACH;FMTTYPE=image/jpeg:https://gkjjembatanlima.org/wp-content/uploads/2025/01/PD-15-JAN-2025.jpg
END:VEVENT
BEGIN:VEVENT
DTSTART;TZID=Asia/Jakarta:20250108T190000
DTEND;TZID=Asia/Jakarta:20250108T190000
DTSTAMP:20260420T031928
CREATED:20250104T064705Z
LAST-MODIFIED:20250104T064705Z
UID:991468-1736362800-1736362800@gkjjembatanlima.org
SUMMARY:Persekutuan Doa | 08 JAN 2025
DESCRIPTION:Persekutuan Doa Onsite & Online: \nHari: Rabu\, 08 Januari 2025.\nPukul: 19:00 WIB. \nDengan Tema: 10 PERINTAH ALLAH: PERINTAH KE-1 DAN KE-2.\nOleh: GI. Alfa Imannuel. \nOnsite:\nGKJ Jemaat Jembatan Lima\nJl. Tambora Raya No. 44\, Jakarta Barat \nOnline:\nZoom meeting : Link\n\nMeeting ID: 811 8007 3304\nPasscode: 573138\n(Zoom dibuka pukul 18.45) \n \n 
URL:https://gkjjembatanlima.org/acara/persekutuan-doa-08-jan-2025/
LOCATION:GKJ Jembatan Lima\, GKJ Jembatan Lima Jl. Tambora Raya No.44\, Jakarta Barat\, DKI Jakarta\, 11220\, Indonesia
CATEGORIES:Persekutuan Doa
ATTACH;FMTTYPE=image/jpeg:https://gkjjembatanlima.org/wp-content/uploads/2025/01/PD-08-JAN-2025.jpg
END:VEVENT
BEGIN:VEVENT
DTSTART;TZID=Asia/Jakarta:20250101T090000
DTEND;TZID=Asia/Jakarta:20250101T090000
DTSTAMP:20260420T031928
CREATED:20241228T123230Z
LAST-MODIFIED:20241228T123230Z
UID:991452-1735722000-1735722000@gkjjembatanlima.org
SUMMARY:Persekutuan Doa | 01 JAN 2025
DESCRIPTION:Persekutuan Doa Rabu 01 Januari 2025 akan digabung ke Ibadah Tahun Baru pukul 09.00 WIB. \n 
URL:https://gkjjembatanlima.org/acara/persekutuan-doa-01-jan-2025/
LOCATION:GKJ Jembatan Lima\, GKJ Jembatan Lima Jl. Tambora Raya No.44\, Jakarta Barat\, DKI Jakarta\, 11220\, Indonesia
CATEGORIES:Persekutuan Doa
ATTACH;FMTTYPE=image/jpeg:https://gkjjembatanlima.org/wp-content/uploads/2024/12/PD-01-JAN-2025.jpg
END:VEVENT
BEGIN:VEVENT
DTSTART;VALUE=DATE:20241225
DTEND;VALUE=DATE:20241226
DTSTAMP:20260420T031928
CREATED:20241221T151212Z
LAST-MODIFIED:20241221T151212Z
UID:991435-1735084800-1735171199@gkjjembatanlima.org
SUMMARY:Persekutuan Doa | 25 DES 2024
DESCRIPTION:Persekutuan Doa Rabu 25 Desember 2024 akan digabung ke Perayaan Natal Bahasa Mandarin pukul 09.00 WIB. \n 
URL:https://gkjjembatanlima.org/acara/persekutuan-doa-25-des-2024/
LOCATION:DKI Jakarta
CATEGORIES:Persekutuan Doa
ATTACH;FMTTYPE=image/jpeg:https://gkjjembatanlima.org/wp-content/uploads/2024/12/PD-25-DES-2024.jpg
END:VEVENT
BEGIN:VEVENT
DTSTART;TZID=Asia/Jakarta:20241218T190000
DTEND;TZID=Asia/Jakarta:20241218T190000
DTSTAMP:20260420T031928
CREATED:20241215T093631Z
LAST-MODIFIED:20241215T093631Z
UID:991419-1734548400-1734548400@gkjjembatanlima.org
SUMMARY:Persekutuan Doa Puasa | 18 DES 2024
DESCRIPTION:Persekutuan Doa Puasa Onsite & Online: \nHari: Rabu\, 18 Desember 2024.\nPukul: 19:00 WIB. \nDengan Tema: KELAHIRAN-NYA MENGUBAHKANKU.\nOleh: Pdt. Jeremy Jusen. \nMengundang Seluruh Panitia Natal\, Pelayan Natal Bahasa Indonesia dan Mandarin\, Pelayan Ibadah Malam Tahun Baru\, Pelayan Ibadah Tahun Baru\, berserta seluruh jemaat untuk menghadirinya. \nOnsite:\nGKJ Jemaat Jembatan Lima\nJl. Tambora Raya No. 44\, Jakarta Barat \nOnline:\nZoom meeting : Link\n\nMeeting ID: 811 8007 3304\nPasscode: 573138\n(Zoom dibuka pukul 18.45) \n \n 
URL:https://gkjjembatanlima.org/acara/persekutuan-doa-puasa-18-des-2024/
LOCATION:GKJ Jembatan Lima\, GKJ Jembatan Lima Jl. Tambora Raya No.44\, Jakarta Barat\, DKI Jakarta\, 11220\, Indonesia
CATEGORIES:Persekutuan Doa
ATTACH;FMTTYPE=image/jpeg:https://gkjjembatanlima.org/wp-content/uploads/2024/12/PD-18-DES-2024.jpg
END:VEVENT
BEGIN:VEVENT
DTSTART;TZID=Asia/Jakarta:20241211T190000
DTEND;TZID=Asia/Jakarta:20241211T190000
DTSTAMP:20260420T031928
CREATED:20241207T173945Z
LAST-MODIFIED:20241207T173945Z
UID:991395-1733943600-1733943600@gkjjembatanlima.org
SUMMARY:Persekutuan Doa | 11 DES 2024
DESCRIPTION:Persekutuan Doa Onsite & Online: \nHari: Rabu\, 11 Desember 2024.\nPukul: 19:00 WIB. \nDengan Tema: NATAL DI KELUARGAKU.\nOleh: GI. Widya Tuluswati. \nOnsite:\nGKJ Jemaat Jembatan Lima\nJl. Tambora Raya No. 44\, Jakarta Barat \nOnline:\nZoom meeting : Link\n\nMeeting ID: 811 8007 3304\nPasscode: 573138\n(Zoom dibuka pukul 18.45) \n \n 
URL:https://gkjjembatanlima.org/acara/persekutuan-doa-11-des-2024/
LOCATION:GKJ Jembatan Lima\, GKJ Jembatan Lima Jl. Tambora Raya No.44\, Jakarta Barat\, DKI Jakarta\, 11220\, Indonesia
CATEGORIES:Persekutuan Doa
ATTACH;FMTTYPE=image/jpeg:https://gkjjembatanlima.org/wp-content/uploads/2024/12/PD-11-DES-2024.jpg
END:VEVENT
BEGIN:VEVENT
DTSTART;TZID=Asia/Jakarta:20241204T190000
DTEND;TZID=Asia/Jakarta:20241204T190000
DTSTAMP:20260420T031928
CREATED:20241130T111603Z
LAST-MODIFIED:20241130T111603Z
UID:991348-1733338800-1733338800@gkjjembatanlima.org
SUMMARY:Persekutuan Doa | 04 DES 2024
DESCRIPTION:Persekutuan Doa Onsite & Online: \nHari: Rabu\, 04 Desember 2024.\nPukul: 19:00 WIB. \nDengan Tema: JANJI YANG DIGENAPI.\nOleh: GI. Andreas Nikodemus. \nOnsite:\nGKJ Jemaat Jembatan Lima\nJl. Tambora Raya No. 44\, Jakarta Barat \nOnline:\nZoom meeting : Link\n\nMeeting ID: 811 8007 3304\nPasscode: 573138\n(Zoom dibuka pukul 18.45) \n \n 
URL:https://gkjjembatanlima.org/acara/persekutuan-doa-04-des-2024/
LOCATION:GKJ Jembatan Lima\, GKJ Jembatan Lima Jl. Tambora Raya No.44\, Jakarta Barat\, DKI Jakarta\, 11220\, Indonesia
CATEGORIES:Persekutuan Doa
ATTACH;FMTTYPE=image/jpeg:https://gkjjembatanlima.org/wp-content/uploads/2024/11/PD-04-DES-2024.jpg
END:VEVENT
END:VCALENDAR