BEGIN:VCALENDAR
VERSION:2.0
PRODID:-//GKJ Jemaat Jembatan Lima - ECPv6.14.0//NONSGML v1.0//EN
CALSCALE:GREGORIAN
METHOD:PUBLISH
X-ORIGINAL-URL:https://gkjjembatanlima.org
X-WR-CALDESC:Events for GKJ Jemaat Jembatan Lima
REFRESH-INTERVAL;VALUE=DURATION:PT1H
X-Robots-Tag:noindex
X-PUBLISHED-TTL:PT1H
BEGIN:VTIMEZONE
TZID:Asia/Jakarta
BEGIN:STANDARD
TZOFFSETFROM:+0700
TZOFFSETTO:+0700
TZNAME:WIB
DTSTART:20240101T000000
END:STANDARD
END:VTIMEZONE
BEGIN:VEVENT
DTSTART;TZID=Asia/Jakarta:20250108T190000
DTEND;TZID=Asia/Jakarta:20250108T190000
DTSTAMP:20260420T062733
CREATED:20250104T064705Z
LAST-MODIFIED:20250104T064705Z
UID:991468-1736362800-1736362800@gkjjembatanlima.org
SUMMARY:Persekutuan Doa | 08 JAN 2025
DESCRIPTION:Persekutuan Doa Onsite & Online: \nHari: Rabu\, 08 Januari 2025.\nPukul: 19:00 WIB. \nDengan Tema: 10 PERINTAH ALLAH: PERINTAH KE-1 DAN KE-2.\nOleh: GI. Alfa Imannuel. \nOnsite:\nGKJ Jemaat Jembatan Lima\nJl. Tambora Raya No. 44\, Jakarta Barat \nOnline:\nZoom meeting : Link\n\nMeeting ID: 811 8007 3304\nPasscode: 573138\n(Zoom dibuka pukul 18.45) \n \n 
URL:https://gkjjembatanlima.org/acara/persekutuan-doa-08-jan-2025/
LOCATION:GKJ Jembatan Lima\, GKJ Jembatan Lima Jl. Tambora Raya No.44\, Jakarta Barat\, DKI Jakarta\, 11220\, Indonesia
CATEGORIES:Persekutuan Doa
ATTACH;FMTTYPE=image/jpeg:https://gkjjembatanlima.org/wp-content/uploads/2025/01/PD-08-JAN-2025.jpg
END:VEVENT
BEGIN:VEVENT
DTSTART;TZID=Asia/Jakarta:20250101T090000
DTEND;TZID=Asia/Jakarta:20250101T090000
DTSTAMP:20260420T062733
CREATED:20241228T123230Z
LAST-MODIFIED:20241228T123230Z
UID:991452-1735722000-1735722000@gkjjembatanlima.org
SUMMARY:Persekutuan Doa | 01 JAN 2025
DESCRIPTION:Persekutuan Doa Rabu 01 Januari 2025 akan digabung ke Ibadah Tahun Baru pukul 09.00 WIB. \n 
URL:https://gkjjembatanlima.org/acara/persekutuan-doa-01-jan-2025/
LOCATION:GKJ Jembatan Lima\, GKJ Jembatan Lima Jl. Tambora Raya No.44\, Jakarta Barat\, DKI Jakarta\, 11220\, Indonesia
CATEGORIES:Persekutuan Doa
ATTACH;FMTTYPE=image/jpeg:https://gkjjembatanlima.org/wp-content/uploads/2024/12/PD-01-JAN-2025.jpg
END:VEVENT
BEGIN:VEVENT
DTSTART;VALUE=DATE:20241225
DTEND;VALUE=DATE:20241226
DTSTAMP:20260420T062733
CREATED:20241221T151212Z
LAST-MODIFIED:20241221T151212Z
UID:991435-1735084800-1735171199@gkjjembatanlima.org
SUMMARY:Persekutuan Doa | 25 DES 2024
DESCRIPTION:Persekutuan Doa Rabu 25 Desember 2024 akan digabung ke Perayaan Natal Bahasa Mandarin pukul 09.00 WIB. \n 
URL:https://gkjjembatanlima.org/acara/persekutuan-doa-25-des-2024/
LOCATION:DKI Jakarta
CATEGORIES:Persekutuan Doa
ATTACH;FMTTYPE=image/jpeg:https://gkjjembatanlima.org/wp-content/uploads/2024/12/PD-25-DES-2024.jpg
END:VEVENT
BEGIN:VEVENT
DTSTART;TZID=Asia/Jakarta:20241218T190000
DTEND;TZID=Asia/Jakarta:20241218T190000
DTSTAMP:20260420T062733
CREATED:20241215T093631Z
LAST-MODIFIED:20241215T093631Z
UID:991419-1734548400-1734548400@gkjjembatanlima.org
SUMMARY:Persekutuan Doa Puasa | 18 DES 2024
DESCRIPTION:Persekutuan Doa Puasa Onsite & Online: \nHari: Rabu\, 18 Desember 2024.\nPukul: 19:00 WIB. \nDengan Tema: KELAHIRAN-NYA MENGUBAHKANKU.\nOleh: Pdt. Jeremy Jusen. \nMengundang Seluruh Panitia Natal\, Pelayan Natal Bahasa Indonesia dan Mandarin\, Pelayan Ibadah Malam Tahun Baru\, Pelayan Ibadah Tahun Baru\, berserta seluruh jemaat untuk menghadirinya. \nOnsite:\nGKJ Jemaat Jembatan Lima\nJl. Tambora Raya No. 44\, Jakarta Barat \nOnline:\nZoom meeting : Link\n\nMeeting ID: 811 8007 3304\nPasscode: 573138\n(Zoom dibuka pukul 18.45) \n \n 
URL:https://gkjjembatanlima.org/acara/persekutuan-doa-puasa-18-des-2024/
LOCATION:GKJ Jembatan Lima\, GKJ Jembatan Lima Jl. Tambora Raya No.44\, Jakarta Barat\, DKI Jakarta\, 11220\, Indonesia
CATEGORIES:Persekutuan Doa
ATTACH;FMTTYPE=image/jpeg:https://gkjjembatanlima.org/wp-content/uploads/2024/12/PD-18-DES-2024.jpg
END:VEVENT
BEGIN:VEVENT
DTSTART;TZID=Asia/Jakarta:20241211T190000
DTEND;TZID=Asia/Jakarta:20241211T190000
DTSTAMP:20260420T062733
CREATED:20241207T173945Z
LAST-MODIFIED:20241207T173945Z
UID:991395-1733943600-1733943600@gkjjembatanlima.org
SUMMARY:Persekutuan Doa | 11 DES 2024
DESCRIPTION:Persekutuan Doa Onsite & Online: \nHari: Rabu\, 11 Desember 2024.\nPukul: 19:00 WIB. \nDengan Tema: NATAL DI KELUARGAKU.\nOleh: GI. Widya Tuluswati. \nOnsite:\nGKJ Jemaat Jembatan Lima\nJl. Tambora Raya No. 44\, Jakarta Barat \nOnline:\nZoom meeting : Link\n\nMeeting ID: 811 8007 3304\nPasscode: 573138\n(Zoom dibuka pukul 18.45) \n \n 
URL:https://gkjjembatanlima.org/acara/persekutuan-doa-11-des-2024/
LOCATION:GKJ Jembatan Lima\, GKJ Jembatan Lima Jl. Tambora Raya No.44\, Jakarta Barat\, DKI Jakarta\, 11220\, Indonesia
CATEGORIES:Persekutuan Doa
ATTACH;FMTTYPE=image/jpeg:https://gkjjembatanlima.org/wp-content/uploads/2024/12/PD-11-DES-2024.jpg
END:VEVENT
BEGIN:VEVENT
DTSTART;TZID=Asia/Jakarta:20241204T190000
DTEND;TZID=Asia/Jakarta:20241204T190000
DTSTAMP:20260420T062733
CREATED:20241130T111603Z
LAST-MODIFIED:20241130T111603Z
UID:991348-1733338800-1733338800@gkjjembatanlima.org
SUMMARY:Persekutuan Doa | 04 DES 2024
DESCRIPTION:Persekutuan Doa Onsite & Online: \nHari: Rabu\, 04 Desember 2024.\nPukul: 19:00 WIB. \nDengan Tema: JANJI YANG DIGENAPI.\nOleh: GI. Andreas Nikodemus. \nOnsite:\nGKJ Jemaat Jembatan Lima\nJl. Tambora Raya No. 44\, Jakarta Barat \nOnline:\nZoom meeting : Link\n\nMeeting ID: 811 8007 3304\nPasscode: 573138\n(Zoom dibuka pukul 18.45) \n \n 
URL:https://gkjjembatanlima.org/acara/persekutuan-doa-04-des-2024/
LOCATION:GKJ Jembatan Lima\, GKJ Jembatan Lima Jl. Tambora Raya No.44\, Jakarta Barat\, DKI Jakarta\, 11220\, Indonesia
CATEGORIES:Persekutuan Doa
ATTACH;FMTTYPE=image/jpeg:https://gkjjembatanlima.org/wp-content/uploads/2024/11/PD-04-DES-2024.jpg
END:VEVENT
BEGIN:VEVENT
DTSTART;TZID=Asia/Jakarta:20241127T190000
DTEND;TZID=Asia/Jakarta:20241127T190000
DTSTAMP:20260420T062733
CREATED:20241123T145615Z
LAST-MODIFIED:20241123T145615Z
UID:991335-1732734000-1732734000@gkjjembatanlima.org
SUMMARY:Persekutuan Doa | 27 NOV 2024
DESCRIPTION:Persekutuan Doa Onsite & Online: \nHari: Rabu\, 27 November 2024.\nPukul: 19:00 WIB. \nDengan Tema: KOMUNITAS YANG KUAT.\nOleh: GI. Yuneari Lase. \nOnsite:\nGKJ Jemaat Jembatan Lima\nJl. Tambora Raya No. 44\, Jakarta Barat \nOnline:\nZoom meeting : Link\n\nMeeting ID: 811 8007 3304\nPasscode: 573138\n(Zoom dibuka pukul 18.45) \n \n 
URL:https://gkjjembatanlima.org/acara/persekutuan-doa-27-nov-2024/
LOCATION:GKJ Jembatan Lima\, GKJ Jembatan Lima Jl. Tambora Raya No.44\, Jakarta Barat\, DKI Jakarta\, 11220\, Indonesia
CATEGORIES:Persekutuan Doa
ATTACH;FMTTYPE=image/jpeg:https://gkjjembatanlima.org/wp-content/uploads/2024/11/PD-27-NOV-2024.jpg
END:VEVENT
BEGIN:VEVENT
DTSTART;TZID=Asia/Jakarta:20241120T190000
DTEND;TZID=Asia/Jakarta:20241120T190000
DTSTAMP:20260420T062733
CREATED:20241116T094353Z
LAST-MODIFIED:20241116T095416Z
UID:991318-1732129200-1732129200@gkjjembatanlima.org
SUMMARY:Persekutuan Doa Puasa | 20 NOV 2024
DESCRIPTION:Persekutuan Doa Puasa Onsite & Online: \nHari: Rabu\, 20 November 2024.\nPukul: 19:00 WIB. \nDengan Tema: BEREMPATI DAN BERSIMPATI.\nOleh: GI. Christine Yunita. \nOnsite:\nGKJ Jemaat Jembatan Lima\nJl. Tambora Raya No. 44\, Jakarta Barat \nOnline:\nZoom meeting : Link\n\nMeeting ID: 811 8007 3304\nPasscode: 573138\n(Zoom dibuka pukul 18.45) \n \n 
URL:https://gkjjembatanlima.org/acara/persekutuan-doa-puasa-20-nov-2024/
LOCATION:GKJ Jembatan Lima\, GKJ Jembatan Lima Jl. Tambora Raya No.44\, Jakarta Barat\, DKI Jakarta\, 11220\, Indonesia
CATEGORIES:Persekutuan Doa
ATTACH;FMTTYPE=image/jpeg:https://gkjjembatanlima.org/wp-content/uploads/2024/11/PD-20-NOV-2024-rev.jpg
END:VEVENT
BEGIN:VEVENT
DTSTART;TZID=Asia/Jakarta:20241113T190000
DTEND;TZID=Asia/Jakarta:20241113T190000
DTSTAMP:20260420T062733
CREATED:20241109T134552Z
LAST-MODIFIED:20241109T134552Z
UID:991273-1731524400-1731524400@gkjjembatanlima.org
SUMMARY:Persekutuan Doa | 13 NOV 2024
DESCRIPTION:Persekutuan Doa Onsite & Online: \nHari: Rabu\, 13 November 2024.\nPukul: 19:00 WIB. \nDengan Tema: SALING MENASEHATI DALAM TUHAN.\nOleh: GI. Noriana Nori. \nOnsite:\nGKJ Jemaat Jembatan Lima\nJl. Tambora Raya No. 44\, Jakarta Barat \nOnline:\nZoom meeting : Link\n\nMeeting ID: 811 8007 3304\nPasscode: 573138\n(Zoom dibuka pukul 18.45) \n \n 
URL:https://gkjjembatanlima.org/acara/persekutuan-doa-13-nov-2024/
LOCATION:GKJ Jembatan Lima\, GKJ Jembatan Lima Jl. Tambora Raya No.44\, Jakarta Barat\, DKI Jakarta\, 11220\, Indonesia
CATEGORIES:Persekutuan Doa
ATTACH;FMTTYPE=image/jpeg:https://gkjjembatanlima.org/wp-content/uploads/2024/11/PD-13-NOV-2024.jpg
END:VEVENT
BEGIN:VEVENT
DTSTART;TZID=Asia/Jakarta:20241106T190000
DTEND;TZID=Asia/Jakarta:20241106T190000
DTSTAMP:20260420T062733
CREATED:20241102T124906Z
LAST-MODIFIED:20241102T124906Z
UID:991216-1730919600-1730919600@gkjjembatanlima.org
SUMMARY:Persekutuan Doa | 06 NOV 2024
DESCRIPTION:Persekutuan Doa Onsite & Online: \nHari: Rabu\, 06 November 2024.\nPukul: 19:00 WIB. \nDengan Tema: KOMUNITAS JEMAAT MULA-MULA\nOleh: GI. Widya Tuluswati. \nOnsite:\nGKJ Jemaat Jembatan Lima\nJl. Tambora Raya No. 44\, Jakarta Barat \nOnline:\nZoom meeting : Link\n\nMeeting ID: 811 8007 3304\nPasscode: 573138\n(Zoom dibuka pukul 18.45) \n \n 
URL:https://gkjjembatanlima.org/acara/persekutuan-doa-06-nov-2024/
LOCATION:GKJ Jembatan Lima\, GKJ Jembatan Lima Jl. Tambora Raya No.44\, Jakarta Barat\, DKI Jakarta\, 11220\, Indonesia
CATEGORIES:Persekutuan Doa
ATTACH;FMTTYPE=image/jpeg:https://gkjjembatanlima.org/wp-content/uploads/2024/11/PD-06-NOV-2024.jpg
END:VEVENT
BEGIN:VEVENT
DTSTART;TZID=Asia/Jakarta:20241030T190000
DTEND;TZID=Asia/Jakarta:20241030T190000
DTSTAMP:20260420T062733
CREATED:20241026T140931Z
LAST-MODIFIED:20241026T140931Z
UID:991196-1730314800-1730314800@gkjjembatanlima.org
SUMMARY:Persekutuan Doa | 30 OKT 2024
DESCRIPTION:Persekutuan Doa Onsite & Online: \nHari: Rabu\, 30 Oktober 2024.\nPukul: 19:00 WIB. \nDengan Tema: SOLI DEO GLORIA\nOleh: Pdt. Siujono Sung. \nOnsite:\nGKJ Jemaat Jembatan Lima\nJl. Tambora Raya No. 44\, Jakarta Barat \nOnline:\nZoom meeting : Link\n\nMeeting ID: 811 8007 3304\nPasscode: 573138\n(Zoom dibuka pukul 18.45) \n \n 
URL:https://gkjjembatanlima.org/acara/persekutuan-doa-30-okt-2024/
LOCATION:GKJ Jembatan Lima\, GKJ Jembatan Lima Jl. Tambora Raya No.44\, Jakarta Barat\, DKI Jakarta\, 11220\, Indonesia
CATEGORIES:Persekutuan Doa
ATTACH;FMTTYPE=image/jpeg:https://gkjjembatanlima.org/wp-content/uploads/2024/10/PD-30-OKT-2024.jpg
END:VEVENT
BEGIN:VEVENT
DTSTART;TZID=Asia/Jakarta:20241023T190000
DTEND;TZID=Asia/Jakarta:20241023T190000
DTSTAMP:20260420T062733
CREATED:20241019T133404Z
LAST-MODIFIED:20241019T133404Z
UID:991172-1729710000-1729710000@gkjjembatanlima.org
SUMMARY:Persekutuan Doa | 23 OKT 2024
DESCRIPTION:Persekutuan Doa Onsite & Online: \nHari: Rabu\, 23 Oktober 2024.\nPukul: 19:00 WIB. \nDengan Tema: SOLUS CHRISTUS.\nOleh: GI. Widya Laras. \nOnsite:\nGKJ Jemaat Jembatan Lima\nJl. Tambora Raya No. 44\, Jakarta Barat \nOnline:\nZoom meeting : Link\n\nMeeting ID: 811 8007 3304\nPasscode: 573138\n(Zoom dibuka pukul 18.45) \n \n 
URL:https://gkjjembatanlima.org/acara/persekutuan-doa-23-okt-2024/
LOCATION:GKJ Jembatan Lima\, GKJ Jembatan Lima Jl. Tambora Raya No.44\, Jakarta Barat\, DKI Jakarta\, 11220\, Indonesia
CATEGORIES:Persekutuan Doa
ATTACH;FMTTYPE=image/jpeg:https://gkjjembatanlima.org/wp-content/uploads/2024/10/PD-23-OKT-2024.jpg
END:VEVENT
BEGIN:VEVENT
DTSTART;TZID=Asia/Jakarta:20241016T190000
DTEND;TZID=Asia/Jakarta:20241016T190000
DTSTAMP:20260420T062733
CREATED:20241013T083826Z
LAST-MODIFIED:20241013T083826Z
UID:991158-1729105200-1729105200@gkjjembatanlima.org
SUMMARY:Persekutuan Doa | 16 OKT 2024
DESCRIPTION:Persekutuan Doa Onsite & Online: \nHari: Rabu\, 16 Oktober 2024.\nPukul: 19:00 WIB. \nDengan Tema: SOLA SCRIPTURA.\nOleh: Pdt. Antony Samosir. \nOnsite:\nGKJ Jemaat Jembatan Lima\nJl. Tambora Raya No. 44\, Jakarta Barat \nOnline:\nZoom meeting : Link\n\nMeeting ID: 811 8007 3304\nPasscode: 573138\n(Zoom dibuka pukul 18.45) \n \n 
URL:https://gkjjembatanlima.org/acara/persekutuan-doa-16-okt-2024/
LOCATION:GKJ Jembatan Lima\, GKJ Jembatan Lima Jl. Tambora Raya No.44\, Jakarta Barat\, DKI Jakarta\, 11220\, Indonesia
CATEGORIES:Persekutuan Doa
ATTACH;FMTTYPE=image/jpeg:https://gkjjembatanlima.org/wp-content/uploads/2024/10/PD-16-OKT-2024.jpg
END:VEVENT
BEGIN:VEVENT
DTSTART;TZID=Asia/Jakarta:20241009T190000
DTEND;TZID=Asia/Jakarta:20241009T190000
DTSTAMP:20260420T062733
CREATED:20241006T161115Z
LAST-MODIFIED:20241006T161115Z
UID:991119-1728500400-1728500400@gkjjembatanlima.org
SUMMARY:Persekutuan Doa | 09 OKT 2024
DESCRIPTION:Persekutuan Doa Onsite & Online: \nHari: Rabu\, 09 Oktober 2024.\nPukul: 19:00 WIB. \nDengan Tema: SOLA GRATIA.\nOleh: GI. Alfa Imannuel. \nOnsite:\nGKJ Jemaat Jembatan Lima\nJl. Tambora Raya No. 44\, Jakarta Barat \nOnline:\nZoom meeting : Link\n\nMeeting ID: 811 8007 3304\nPasscode: 573138\n(Zoom dibuka pukul 18.45) \n \n 
URL:https://gkjjembatanlima.org/acara/persekutuan-doa-09-okt-2024/
LOCATION:GKJ Jembatan Lima\, GKJ Jembatan Lima Jl. Tambora Raya No.44\, Jakarta Barat\, DKI Jakarta\, 11220\, Indonesia
CATEGORIES:Persekutuan Doa
ATTACH;FMTTYPE=image/jpeg:https://gkjjembatanlima.org/wp-content/uploads/2024/10/PD-09-OKT-2024.jpg
END:VEVENT
BEGIN:VEVENT
DTSTART;TZID=Asia/Jakarta:20241002T190000
DTEND;TZID=Asia/Jakarta:20241002T190000
DTSTAMP:20260420T062733
CREATED:20240929T133243Z
LAST-MODIFIED:20240929T133243Z
UID:991103-1727895600-1727895600@gkjjembatanlima.org
SUMMARY:Persekutuan Doa | 02 OKT 2024
DESCRIPTION:Persekutuan Doa Onsite & Online: \nHari: Rabu\, 02 Oktober 2024.\nPukul: 19:00 WIB. \nDengan Tema: SOLA FIDE.\nOleh: Pdt. Ang Tjoe Mio. \nOnsite:\nGKJ Jemaat Jembatan Lima\nJl. Tambora Raya No. 44\, Jakarta Barat \nOnline:\nZoom meeting : Link\n\nMeeting ID: 811 8007 3304\nPasscode: 573138\n(Zoom dibuka pukul 18.45) \n \n 
URL:https://gkjjembatanlima.org/acara/persekutuan-doa-02-okt-2024/
LOCATION:GKJ Jembatan Lima\, GKJ Jembatan Lima Jl. Tambora Raya No.44\, Jakarta Barat\, DKI Jakarta\, 11220\, Indonesia
CATEGORIES:Persekutuan Doa
ATTACH;FMTTYPE=image/jpeg:https://gkjjembatanlima.org/wp-content/uploads/2024/09/PD-02-OKT-2024.jpg
END:VEVENT
BEGIN:VEVENT
DTSTART;TZID=Asia/Jakarta:20240925T190000
DTEND;TZID=Asia/Jakarta:20240925T190000
DTSTAMP:20260420T062733
CREATED:20240922T122908Z
LAST-MODIFIED:20240922T122908Z
UID:991069-1727290800-1727290800@gkjjembatanlima.org
SUMMARY:Persekutuan Doa | 25 SEP 2024
DESCRIPTION:Persekutuan Doa Onsite & Online: \nHari: Rabu\, 25 September 2024.\nPukul: 19:00 WIB. \nDengan Tema: MENGAPA MASIH PERLU BER-PI.\nOleh: GI. Alfa Imannuel. \nOnsite:\nGKJ Jemaat Jembatan Lima\nJl. Tambora Raya No. 44\, Jakarta Barat \nOnline:\nZoom meeting : Link\n\nMeeting ID: 811 8007 3304\nPasscode: 573138\n(Zoom dibuka pukul 18.45) \n \n 
URL:https://gkjjembatanlima.org/acara/persekutuan-doa-25-sep-2024/
LOCATION:GKJ Jembatan Lima\, GKJ Jembatan Lima Jl. Tambora Raya No.44\, Jakarta Barat\, DKI Jakarta\, 11220\, Indonesia
CATEGORIES:Persekutuan Doa
ATTACH;FMTTYPE=image/jpeg:https://gkjjembatanlima.org/wp-content/uploads/2024/09/PD-25-SEP-2024.jpg
END:VEVENT
BEGIN:VEVENT
DTSTART;TZID=Asia/Jakarta:20240918T190000
DTEND;TZID=Asia/Jakarta:20240918T190000
DTSTAMP:20260420T062733
CREATED:20240914T124443Z
LAST-MODIFIED:20240914T124443Z
UID:991059-1726686000-1726686000@gkjjembatanlima.org
SUMMARY:Persekutuan Doa Puasa | 18 SEP 2024
DESCRIPTION:Persekutuan Doa Puasa Onsite & Online: \nHari: Rabu\, 18 September 2024.\nPukul: 19:00 WIB. \nDengan Tema: BERDOA BAGI PARA MISIONARIS.\nOleh: GI. Oliviana Cong. \nOnsite:\nGKJ Jemaat Jembatan Lima\nJl. Tambora Raya No. 44\, Jakarta Barat \nOnline:\nZoom meeting : Link\n\nMeeting ID: 811 8007 3304\nPasscode: 573138\n(Zoom dibuka pukul 18.45) \n \n 
URL:https://gkjjembatanlima.org/acara/persekutuan-doa-puasa-18-sep-2024/
LOCATION:GKJ Jembatan Lima\, GKJ Jembatan Lima Jl. Tambora Raya No.44\, Jakarta Barat\, DKI Jakarta\, 11220\, Indonesia
CATEGORIES:Persekutuan Doa
ATTACH;FMTTYPE=image/jpeg:https://gkjjembatanlima.org/wp-content/uploads/2024/09/PD-18-SEP-2024.jpg
END:VEVENT
BEGIN:VEVENT
DTSTART;TZID=Asia/Jakarta:20240911T190000
DTEND;TZID=Asia/Jakarta:20240911T190000
DTSTAMP:20260420T062733
CREATED:20240908T031651Z
LAST-MODIFIED:20240908T031651Z
UID:991033-1726081200-1726081200@gkjjembatanlima.org
SUMMARY:Persekutuan Doa | 11 SEP 2024
DESCRIPTION:Persekutuan Doa Onsite & Online: \nHari: Rabu\, 11 September 2024.\nPukul: 19:00 WIB. \nDengan Tema: MEMILIKI KEPEKAAN DALAM BER-PI.\nOleh: Pdt. Ang Tjoe Mio. \nOnsite:\nGKJ Jemaat Jembatan Lima\nJl. Tambora Raya No. 44\, Jakarta Barat \nOnline:\nZoom meeting : Link\n\nMeeting ID: 811 8007 3304\nPasscode: 573138\n(Zoom dibuka pukul 18.45) \n \n 
URL:https://gkjjembatanlima.org/acara/persekutuan-doa-11-sep-2024/
LOCATION:GKJ Jembatan Lima\, GKJ Jembatan Lima Jl. Tambora Raya No.44\, Jakarta Barat\, DKI Jakarta\, 11220\, Indonesia
CATEGORIES:Persekutuan Doa
ATTACH;FMTTYPE=image/jpeg:https://gkjjembatanlima.org/wp-content/uploads/2024/09/PD-11-SEP-2024.jpg
END:VEVENT
BEGIN:VEVENT
DTSTART;TZID=Asia/Jakarta:20240904T190000
DTEND;TZID=Asia/Jakarta:20240904T190000
DTSTAMP:20260420T062733
CREATED:20240830T054051Z
LAST-MODIFIED:20240830T054051Z
UID:991012-1725476400-1725476400@gkjjembatanlima.org
SUMMARY:Persekutuan Doa | 04 SEP 2024
DESCRIPTION:Persekutuan Doa Onsite & Online: \nHari: Rabu\, 04 September 2024.\nPukul: 19:00 WIB. \nDengan Tema: JADILAH SAKSI-KU DI YERUSALEM.\nOleh: GI. Widya Laras. \nOnsite:\nGKJ Jemaat Jembatan Lima\nJl. Tambora Raya No. 44\, Jakarta Barat \nOnline:\nZoom meeting : Link\n\nMeeting ID: 811 8007 3304\nPasscode: 573138\n(Zoom dibuka pukul 18.45) \n \n 
URL:https://gkjjembatanlima.org/acara/persekutuan-doa-04-sep-2024/
LOCATION:GKJ Jembatan Lima\, GKJ Jembatan Lima Jl. Tambora Raya No.44\, Jakarta Barat\, DKI Jakarta\, 11220\, Indonesia
CATEGORIES:Persekutuan Doa
ATTACH;FMTTYPE=image/jpeg:https://gkjjembatanlima.org/wp-content/uploads/2024/08/PD-04-SEP-2024.jpg
END:VEVENT
BEGIN:VEVENT
DTSTART;TZID=Asia/Jakarta:20240828T190000
DTEND;TZID=Asia/Jakarta:20240828T190000
DTSTAMP:20260420T062733
CREATED:20240826T122946Z
LAST-MODIFIED:20240826T125351Z
UID:990998-1724871600-1724871600@gkjjembatanlima.org
SUMMARY:Persekutuan Doa | 28 AGU 2024
DESCRIPTION:Persekutuan Doa Onsite & Online: \nHari: Rabu\, 28 Agustus 2024.\nPukul: 19:00 WIB. \nDengan Tema: MENJADIKAN PENYEMBAH SEJATI.\nOleh: GI. Yonatan Suwardi. \nOnsite:\nGKJ Jemaat Jembatan Lima\nJl. Tambora Raya No. 44\, Jakarta Barat \nOnline:\nZoom meeting : Link\n\nMeeting ID: 811 8007 3304\nPasscode: 573138\n(Zoom dibuka pukul 18.45) \n \n 
URL:https://gkjjembatanlima.org/acara/persekutuan-doa-28-agu-2024/
LOCATION:GKJ Jembatan Lima\, GKJ Jembatan Lima Jl. Tambora Raya No.44\, Jakarta Barat\, DKI Jakarta\, 11220\, Indonesia
CATEGORIES:Persekutuan Doa
ATTACH;FMTTYPE=image/webp:https://gkjjembatanlima.org/wp-content/uploads/2024/08/pd-28-agu-2024-66c9d31719b7c.webp
END:VEVENT
BEGIN:VEVENT
DTSTART;TZID=Asia/Jakarta:20240814T190000
DTEND;TZID=Asia/Jakarta:20240814T190000
DTSTAMP:20260420T062733
CREATED:20240809T155423Z
LAST-MODIFIED:20240809T155423Z
UID:990976-1723662000-1723662000@gkjjembatanlima.org
SUMMARY:Persekutuan Doa | 14 AGU 2024
DESCRIPTION:Persekutuan Doa Onsite & Online: \nHari: Rabu\, 14 Agustus 2024.\nPukul: 19:00 WIB. \nDengan Tema: MENJADIKAN PUJIAN SEBAGAI GAYA HIDUP.\nOleh: Bpk. Philip Bong. \nOnsite:\nGKJ Jemaat Jembatan Lima\nJl. Tambora Raya No. 44\, Jakarta Barat \nOnline:\nZoom meeting : Link\n\nMeeting ID: 811 8007 3304\nPasscode: 573138\n(Zoom dibuka pukul 18.45) \n \n 
URL:https://gkjjembatanlima.org/acara/persekutuan-doa-14-agu-2024/
LOCATION:GKJ Jembatan Lima\, GKJ Jembatan Lima Jl. Tambora Raya No.44\, Jakarta Barat\, DKI Jakarta\, 11220\, Indonesia
CATEGORIES:Persekutuan Doa
ATTACH;FMTTYPE=image/jpeg:https://gkjjembatanlima.org/wp-content/uploads/2024/08/PD-14-AGU-2024.jpg
END:VEVENT
BEGIN:VEVENT
DTSTART;TZID=Asia/Jakarta:20240807T190000
DTEND;TZID=Asia/Jakarta:20240807T190000
DTSTAMP:20260420T062733
CREATED:20240803T130050Z
LAST-MODIFIED:20240803T130050Z
UID:990942-1723057200-1723057200@gkjjembatanlima.org
SUMMARY:Persekutuan Doa | 07 AGU 2024
DESCRIPTION:Persekutuan Doa Onsite & Online: \nHari: Rabu\, 07 Agustus 2024.\nPukul: 19:00 WIB. \nDengan Tema: MENGAPA KITA HARUS MENYEMBAH?\nOleh: GI. Alfa Imannuel. \nOnsite:\nGKJ Jemaat Jembatan Lima\nJl. Tambora Raya No. 44\, Jakarta Barat \nOnline:\nZoom meeting : Link\n\nMeeting ID: 811 8007 3304\nPasscode: 573138\n(Zoom dibuka pukul 18.45) \n \n 
URL:https://gkjjembatanlima.org/acara/persekutuan-doa-07-agu-2024/
LOCATION:GKJ Jembatan Lima\, GKJ Jembatan Lima Jl. Tambora Raya No.44\, Jakarta Barat\, DKI Jakarta\, 11220\, Indonesia
CATEGORIES:Persekutuan Doa
ATTACH;FMTTYPE=image/jpeg:https://gkjjembatanlima.org/wp-content/uploads/2024/08/PD-07-AGU-2024.jpg
END:VEVENT
BEGIN:VEVENT
DTSTART;TZID=Asia/Jakarta:20240731T190000
DTEND;TZID=Asia/Jakarta:20240731T190000
DTSTAMP:20260420T062733
CREATED:20240727T153041Z
LAST-MODIFIED:20240727T153041Z
UID:990923-1722452400-1722452400@gkjjembatanlima.org
SUMMARY:Persekutuan Doa | 31 JUL 2024
DESCRIPTION:Persekutuan Doa Onsite & Online: \nHari: Rabu\, 31 Juli 2024.\nPukul: 19:00 WIB. \nDengan Tema: HIDUP UNTUK MELAYANI.\nOleh: Bpk. Indrawan . \nOnsite:\nGKJ Jemaat Jembatan Lima\nJl. Tambora Raya No. 44\, Jakarta Barat \nOnline:\nZoom meeting : Link\n\nMeeting ID: 811 8007 3304\nPasscode: 573138\n(Zoom dibuka pukul 18.45) \n \n 
URL:https://gkjjembatanlima.org/acara/persekutuan-doa-31-jul-2024/
LOCATION:GKJ Jembatan Lima\, GKJ Jembatan Lima Jl. Tambora Raya No.44\, Jakarta Barat\, DKI Jakarta\, 11220\, Indonesia
CATEGORIES:Persekutuan Doa
ATTACH;FMTTYPE=image/jpeg:https://gkjjembatanlima.org/wp-content/uploads/2024/07/PD-31-JUL-2024.jpg
END:VEVENT
BEGIN:VEVENT
DTSTART;TZID=Asia/Jakarta:20240724T190000
DTEND;TZID=Asia/Jakarta:20240724T190000
DTSTAMP:20260420T062733
CREATED:20240719T105000Z
LAST-MODIFIED:20240719T105000Z
UID:990908-1721847600-1721847600@gkjjembatanlima.org
SUMMARY:Persekutuan Doa | 24 JUL 2024
DESCRIPTION:Persekutuan Doa Onsite & Online: \nHari: Rabu\, 24 Juli 2024.\nPukul: 19:00 WIB. \nDengan Tema: MELAYANI DENGAN SETIA.\nOleh: GI. Yuneari Lase. \nOnsite:\nGKJ Jemaat Jembatan Lima\nJl. Tambora Raya No. 44\, Jakarta Barat \nOnline:\nZoom meeting : Link\n\nMeeting ID: 811 8007 3304\nPasscode: 573138\n(Zoom dibuka pukul 18.45) \n \n 
URL:https://gkjjembatanlima.org/acara/persekutuan-doa-24-jul-2024/
LOCATION:GKJ Jembatan Lima\, GKJ Jembatan Lima Jl. Tambora Raya No.44\, Jakarta Barat\, DKI Jakarta\, 11220\, Indonesia
CATEGORIES:Persekutuan Doa
ATTACH;FMTTYPE=image/jpeg:https://gkjjembatanlima.org/wp-content/uploads/2024/07/PD-24-JUL-2024.jpg
END:VEVENT
BEGIN:VEVENT
DTSTART;TZID=Asia/Jakarta:20240717T190000
DTEND;TZID=Asia/Jakarta:20240717T190000
DTSTAMP:20260420T062733
CREATED:20240713T135221Z
LAST-MODIFIED:20240713T135221Z
UID:990891-1721242800-1721242800@gkjjembatanlima.org
SUMMARY:Persekutuan Doa Puasa | 17 JUL 2024
DESCRIPTION:Persekutuan Doa Puasa Onsite & Online: \nHari: Rabu\, 17 Juli 2024.\nPukul: 19:00 WIB. \nDengan Tema: MELAYANI DENGAN HATI HAMBA.\nOleh: Bpk. Fang Zhi Long. \nOnsite:\nGKJ Jemaat Jembatan Lima\nJl. Tambora Raya No. 44\, Jakarta Barat \nOnline:\nZoom meeting : Link\n\nMeeting ID: 811 8007 3304\nPasscode: 573138\n(Zoom dibuka pukul 18.45) \n \n 
URL:https://gkjjembatanlima.org/acara/persekutuan-doa-puasa-17-jul-2024/
LOCATION:GKJ Jembatan Lima\, GKJ Jembatan Lima Jl. Tambora Raya No.44\, Jakarta Barat\, DKI Jakarta\, 11220\, Indonesia
CATEGORIES:Persekutuan Doa
ATTACH;FMTTYPE=image/jpeg:https://gkjjembatanlima.org/wp-content/uploads/2024/07/PD-14-JUL-2024.jpg
END:VEVENT
BEGIN:VEVENT
DTSTART;TZID=Asia/Jakarta:20240710T190000
DTEND;TZID=Asia/Jakarta:20240710T190000
DTSTAMP:20260420T062733
CREATED:20240705T153300Z
LAST-MODIFIED:20240705T153300Z
UID:990867-1720638000-1720638000@gkjjembatanlima.org
SUMMARY:Persekutuan Doa | 10 JUL 2024
DESCRIPTION:Persekutuan Doa Onsite & Online: \nHari: Rabu\, 10 Juli 2024.\nPukul: 19:00 WIB. \nDengan Tema: MELAYANI DENGAN SEHATI.\nOleh: GI. Andreas Nikodemus. \nOnsite:\nGKJ Jemaat Jembatan Lima\nJl. Tambora Raya No. 44\, Jakarta Barat \nOnline:\nZoom meeting : Link\n\nMeeting ID: 811 8007 3304\nPasscode: 573138\n(Zoom dibuka pukul 18.45) \n \n 
URL:https://gkjjembatanlima.org/acara/persekutuan-doa-10-jul-2024/
LOCATION:GKJ Jembatan Lima\, GKJ Jembatan Lima Jl. Tambora Raya No.44\, Jakarta Barat\, DKI Jakarta\, 11220\, Indonesia
CATEGORIES:Persekutuan Doa
ATTACH;FMTTYPE=image/jpeg:https://gkjjembatanlima.org/wp-content/uploads/2024/07/PD-10-JUL-2024.jpg
END:VEVENT
BEGIN:VEVENT
DTSTART;TZID=Asia/Jakarta:20240703T190000
DTEND;TZID=Asia/Jakarta:20240703T190000
DTSTAMP:20260420T062733
CREATED:20240702T194123Z
LAST-MODIFIED:20240702T194123Z
UID:990850-1720033200-1720033200@gkjjembatanlima.org
SUMMARY:Persekutuan Doa | 03 JUL 2024
DESCRIPTION:Persekutuan Doa Onsite & Online: \nHari: Rabu\, 03 Juli 2024.\nPukul: 19:00 WIB. \nDengan Tema: MELAYANI KEBANGGAAN ATAU BEBAN?\nOleh: Pdt. Ang Tjoe Mio. \nOnsite:\nGKJ Jemaat Jembatan Lima\nJl. Tambora Raya No. 44\, Jakarta Barat \nOnline:\nZoom meeting : Link\n\nMeeting ID: 811 8007 3304\nPasscode: 573138\n(Zoom dibuka pukul 18.45) \n \n 
URL:https://gkjjembatanlima.org/acara/persekutuan-doa-03-jul-2024/
LOCATION:GKJ Jembatan Lima\, GKJ Jembatan Lima Jl. Tambora Raya No.44\, Jakarta Barat\, DKI Jakarta\, 11220\, Indonesia
CATEGORIES:Persekutuan Doa
ATTACH;FMTTYPE=image/jpeg:https://gkjjembatanlima.org/wp-content/uploads/2024/07/PD-03-JUL-2024.jpg
END:VEVENT
BEGIN:VEVENT
DTSTART;TZID=Asia/Jakarta:20240626T190000
DTEND;TZID=Asia/Jakarta:20240626T190000
DTSTAMP:20260420T062733
CREATED:20240624T044223Z
LAST-MODIFIED:20240624T044223Z
UID:990840-1719428400-1719428400@gkjjembatanlima.org
SUMMARY:Persekutuan Doa | 26 JUN 2024
DESCRIPTION:Persekutuan Doa Onsite & Online: \nHari: Rabu\, 26 Juni 2024.\nPukul: 19:00 WIB. \nDengan Tema: MENJAGA KESEIMBANGAN ANTARA KELUARGA\, PEKERJAAN\, DAN PELAYANAN.\nOleh: Pdt. Ang Tjoe Mio. \nOnsite:\nGKJ Jemaat Jembatan Lima\nJl. Tambora Raya No. 44\, Jakarta Barat \nOnline:\nZoom meeting : Link\n\nMeeting ID: 811 8007 3304\nPasscode: 573138\n(Zoom dibuka pukul 18.45) \n \n 
URL:https://gkjjembatanlima.org/acara/persekutuan-doa-26-jun-2024/
LOCATION:GKJ Jembatan Lima\, GKJ Jembatan Lima Jl. Tambora Raya No.44\, Jakarta Barat\, DKI Jakarta\, 11220\, Indonesia
CATEGORIES:Persekutuan Doa
ATTACH;FMTTYPE=image/jpeg:https://gkjjembatanlima.org/wp-content/uploads/2024/06/PD-26-JUN-2024.jpg
END:VEVENT
BEGIN:VEVENT
DTSTART;TZID=Asia/Jakarta:20240619T190000
DTEND;TZID=Asia/Jakarta:20240619T190000
DTSTAMP:20260420T062733
CREATED:20240616T054712Z
LAST-MODIFIED:20240616T054712Z
UID:990827-1718823600-1718823600@gkjjembatanlima.org
SUMMARY:Persekutuan Doa Puasa | 19 JUN 2024
DESCRIPTION:Persekutuan Doa Puasa Onsite & Online: \nHari: Rabu\, 19 Juni 2024.\nPukul: 19:00 WIB. \nDengan Tema: KELUARGA YANG BERKENAN KEPADA TUHAN.\nOleh: GI. Andreas Nikodemus. \nDalam doa puasa kali ini mari kita doakan untuk calon-calon BPJ baru 2024-2026. \nOnsite:\nGKJ Jemaat Jembatan Lima\nJl. Tambora Raya No. 44\, Jakarta Barat \nOnline:\nZoom meeting : Link\n\nMeeting ID: 811 8007 3304\nPasscode: 573138\n(Zoom dibuka pukul 18.45) \n \n 
URL:https://gkjjembatanlima.org/acara/persekutuan-doa-puasa-19-jun-2024/
LOCATION:GKJ Jembatan Lima\, GKJ Jembatan Lima Jl. Tambora Raya No.44\, Jakarta Barat\, DKI Jakarta\, 11220\, Indonesia
CATEGORIES:Persekutuan Doa
ATTACH;FMTTYPE=image/jpeg:https://gkjjembatanlima.org/wp-content/uploads/2024/06/PD-19-JUNI-2024.jpg
END:VEVENT
BEGIN:VEVENT
DTSTART;TZID=Asia/Jakarta:20240612T190000
DTEND;TZID=Asia/Jakarta:20240612T190000
DTSTAMP:20260420T062733
CREATED:20240608T162513Z
LAST-MODIFIED:20240608T162513Z
UID:990803-1718218800-1718218800@gkjjembatanlima.org
SUMMARY:Persekutuan Doa | 12 JUN 2024
DESCRIPTION:Persekutuan Doa Onsite & Online: \nHari: Rabu\, 12 Juni 2024.\nPukul: 19:00 WIB. \nDengan Tema: KEUNIKAN KELUARGA KRISTEN\nOleh: GI. Alfa Imannuel. \nOnsite:\nGKJ Jemaat Jembatan Lima\nJl. Tambora Raya No. 44\, Jakarta Barat \nOnline:\nZoom meeting : Link\n\nMeeting ID: 811 8007 3304\nPasscode: 573138\n(Zoom dibuka pukul 18.45) \n \n 
URL:https://gkjjembatanlima.org/acara/persekutuan-doa-12-jun-2024/
LOCATION:GKJ Jembatan Lima\, GKJ Jembatan Lima Jl. Tambora Raya No.44\, Jakarta Barat\, DKI Jakarta\, 11220\, Indonesia
CATEGORIES:Persekutuan Doa
ATTACH;FMTTYPE=image/jpeg:https://gkjjembatanlima.org/wp-content/uploads/2024/06/PD-12-JUN-2024.jpg
END:VEVENT
END:VCALENDAR