BEGIN:VCALENDAR
VERSION:2.0
PRODID:-//GKJ Jemaat Jembatan Lima - ECPv6.14.0//NONSGML v1.0//EN
CALSCALE:GREGORIAN
METHOD:PUBLISH
X-WR-CALNAME:GKJ Jemaat Jembatan Lima
X-ORIGINAL-URL:https://gkjjembatanlima.org
X-WR-CALDESC:Events for GKJ Jemaat Jembatan Lima
REFRESH-INTERVAL;VALUE=DURATION:PT1H
X-Robots-Tag:noindex
X-PUBLISHED-TTL:PT1H
BEGIN:VTIMEZONE
TZID:Asia/Jakarta
BEGIN:STANDARD
TZOFFSETFROM:+0700
TZOFFSETTO:+0700
TZNAME:WIB
DTSTART:20230101T000000
END:STANDARD
END:VTIMEZONE
BEGIN:VEVENT
DTSTART;TZID=Asia/Jakarta:20240717T190000
DTEND;TZID=Asia/Jakarta:20240717T190000
DTSTAMP:20260420T091935
CREATED:20240713T135221Z
LAST-MODIFIED:20240713T135221Z
UID:990891-1721242800-1721242800@gkjjembatanlima.org
SUMMARY:Persekutuan Doa Puasa | 17 JUL 2024
DESCRIPTION:Persekutuan Doa Puasa Onsite & Online: \nHari: Rabu\, 17 Juli 2024.\nPukul: 19:00 WIB. \nDengan Tema: MELAYANI DENGAN HATI HAMBA.\nOleh: Bpk. Fang Zhi Long. \nOnsite:\nGKJ Jemaat Jembatan Lima\nJl. Tambora Raya No. 44\, Jakarta Barat \nOnline:\nZoom meeting : Link\n\nMeeting ID: 811 8007 3304\nPasscode: 573138\n(Zoom dibuka pukul 18.45) \n \n 
URL:https://gkjjembatanlima.org/acara/persekutuan-doa-puasa-17-jul-2024/
LOCATION:GKJ Jembatan Lima\, GKJ Jembatan Lima Jl. Tambora Raya No.44\, Jakarta Barat\, DKI Jakarta\, 11220\, Indonesia
CATEGORIES:Persekutuan Doa
ATTACH;FMTTYPE=image/jpeg:https://gkjjembatanlima.org/wp-content/uploads/2024/07/PD-14-JUL-2024.jpg
END:VEVENT
BEGIN:VEVENT
DTSTART;TZID=Asia/Jakarta:20240710T190000
DTEND;TZID=Asia/Jakarta:20240710T190000
DTSTAMP:20260420T091935
CREATED:20240705T153300Z
LAST-MODIFIED:20240705T153300Z
UID:990867-1720638000-1720638000@gkjjembatanlima.org
SUMMARY:Persekutuan Doa | 10 JUL 2024
DESCRIPTION:Persekutuan Doa Onsite & Online: \nHari: Rabu\, 10 Juli 2024.\nPukul: 19:00 WIB. \nDengan Tema: MELAYANI DENGAN SEHATI.\nOleh: GI. Andreas Nikodemus. \nOnsite:\nGKJ Jemaat Jembatan Lima\nJl. Tambora Raya No. 44\, Jakarta Barat \nOnline:\nZoom meeting : Link\n\nMeeting ID: 811 8007 3304\nPasscode: 573138\n(Zoom dibuka pukul 18.45) \n \n 
URL:https://gkjjembatanlima.org/acara/persekutuan-doa-10-jul-2024/
LOCATION:GKJ Jembatan Lima\, GKJ Jembatan Lima Jl. Tambora Raya No.44\, Jakarta Barat\, DKI Jakarta\, 11220\, Indonesia
CATEGORIES:Persekutuan Doa
ATTACH;FMTTYPE=image/jpeg:https://gkjjembatanlima.org/wp-content/uploads/2024/07/PD-10-JUL-2024.jpg
END:VEVENT
BEGIN:VEVENT
DTSTART;TZID=Asia/Jakarta:20240703T190000
DTEND;TZID=Asia/Jakarta:20240703T190000
DTSTAMP:20260420T091935
CREATED:20240702T194123Z
LAST-MODIFIED:20240702T194123Z
UID:990850-1720033200-1720033200@gkjjembatanlima.org
SUMMARY:Persekutuan Doa | 03 JUL 2024
DESCRIPTION:Persekutuan Doa Onsite & Online: \nHari: Rabu\, 03 Juli 2024.\nPukul: 19:00 WIB. \nDengan Tema: MELAYANI KEBANGGAAN ATAU BEBAN?\nOleh: Pdt. Ang Tjoe Mio. \nOnsite:\nGKJ Jemaat Jembatan Lima\nJl. Tambora Raya No. 44\, Jakarta Barat \nOnline:\nZoom meeting : Link\n\nMeeting ID: 811 8007 3304\nPasscode: 573138\n(Zoom dibuka pukul 18.45) \n \n 
URL:https://gkjjembatanlima.org/acara/persekutuan-doa-03-jul-2024/
LOCATION:GKJ Jembatan Lima\, GKJ Jembatan Lima Jl. Tambora Raya No.44\, Jakarta Barat\, DKI Jakarta\, 11220\, Indonesia
CATEGORIES:Persekutuan Doa
ATTACH;FMTTYPE=image/jpeg:https://gkjjembatanlima.org/wp-content/uploads/2024/07/PD-03-JUL-2024.jpg
END:VEVENT
BEGIN:VEVENT
DTSTART;TZID=Asia/Jakarta:20240626T190000
DTEND;TZID=Asia/Jakarta:20240626T190000
DTSTAMP:20260420T091935
CREATED:20240624T044223Z
LAST-MODIFIED:20240624T044223Z
UID:990840-1719428400-1719428400@gkjjembatanlima.org
SUMMARY:Persekutuan Doa | 26 JUN 2024
DESCRIPTION:Persekutuan Doa Onsite & Online: \nHari: Rabu\, 26 Juni 2024.\nPukul: 19:00 WIB. \nDengan Tema: MENJAGA KESEIMBANGAN ANTARA KELUARGA\, PEKERJAAN\, DAN PELAYANAN.\nOleh: Pdt. Ang Tjoe Mio. \nOnsite:\nGKJ Jemaat Jembatan Lima\nJl. Tambora Raya No. 44\, Jakarta Barat \nOnline:\nZoom meeting : Link\n\nMeeting ID: 811 8007 3304\nPasscode: 573138\n(Zoom dibuka pukul 18.45) \n \n 
URL:https://gkjjembatanlima.org/acara/persekutuan-doa-26-jun-2024/
LOCATION:GKJ Jembatan Lima\, GKJ Jembatan Lima Jl. Tambora Raya No.44\, Jakarta Barat\, DKI Jakarta\, 11220\, Indonesia
CATEGORIES:Persekutuan Doa
ATTACH;FMTTYPE=image/jpeg:https://gkjjembatanlima.org/wp-content/uploads/2024/06/PD-26-JUN-2024.jpg
END:VEVENT
BEGIN:VEVENT
DTSTART;TZID=Asia/Jakarta:20240619T190000
DTEND;TZID=Asia/Jakarta:20240619T190000
DTSTAMP:20260420T091935
CREATED:20240616T054712Z
LAST-MODIFIED:20240616T054712Z
UID:990827-1718823600-1718823600@gkjjembatanlima.org
SUMMARY:Persekutuan Doa Puasa | 19 JUN 2024
DESCRIPTION:Persekutuan Doa Puasa Onsite & Online: \nHari: Rabu\, 19 Juni 2024.\nPukul: 19:00 WIB. \nDengan Tema: KELUARGA YANG BERKENAN KEPADA TUHAN.\nOleh: GI. Andreas Nikodemus. \nDalam doa puasa kali ini mari kita doakan untuk calon-calon BPJ baru 2024-2026. \nOnsite:\nGKJ Jemaat Jembatan Lima\nJl. Tambora Raya No. 44\, Jakarta Barat \nOnline:\nZoom meeting : Link\n\nMeeting ID: 811 8007 3304\nPasscode: 573138\n(Zoom dibuka pukul 18.45) \n \n 
URL:https://gkjjembatanlima.org/acara/persekutuan-doa-puasa-19-jun-2024/
LOCATION:GKJ Jembatan Lima\, GKJ Jembatan Lima Jl. Tambora Raya No.44\, Jakarta Barat\, DKI Jakarta\, 11220\, Indonesia
CATEGORIES:Persekutuan Doa
ATTACH;FMTTYPE=image/jpeg:https://gkjjembatanlima.org/wp-content/uploads/2024/06/PD-19-JUNI-2024.jpg
END:VEVENT
BEGIN:VEVENT
DTSTART;TZID=Asia/Jakarta:20240612T190000
DTEND;TZID=Asia/Jakarta:20240612T190000
DTSTAMP:20260420T091935
CREATED:20240608T162513Z
LAST-MODIFIED:20240608T162513Z
UID:990803-1718218800-1718218800@gkjjembatanlima.org
SUMMARY:Persekutuan Doa | 12 JUN 2024
DESCRIPTION:Persekutuan Doa Onsite & Online: \nHari: Rabu\, 12 Juni 2024.\nPukul: 19:00 WIB. \nDengan Tema: KEUNIKAN KELUARGA KRISTEN\nOleh: GI. Alfa Imannuel. \nOnsite:\nGKJ Jemaat Jembatan Lima\nJl. Tambora Raya No. 44\, Jakarta Barat \nOnline:\nZoom meeting : Link\n\nMeeting ID: 811 8007 3304\nPasscode: 573138\n(Zoom dibuka pukul 18.45) \n \n 
URL:https://gkjjembatanlima.org/acara/persekutuan-doa-12-jun-2024/
LOCATION:GKJ Jembatan Lima\, GKJ Jembatan Lima Jl. Tambora Raya No.44\, Jakarta Barat\, DKI Jakarta\, 11220\, Indonesia
CATEGORIES:Persekutuan Doa
ATTACH;FMTTYPE=image/jpeg:https://gkjjembatanlima.org/wp-content/uploads/2024/06/PD-12-JUN-2024.jpg
END:VEVENT
BEGIN:VEVENT
DTSTART;TZID=Asia/Jakarta:20240605T190000
DTEND;TZID=Asia/Jakarta:20240605T190000
DTSTAMP:20260420T091935
CREATED:20240602T054351Z
LAST-MODIFIED:20240602T054351Z
UID:990790-1717614000-1717614000@gkjjembatanlima.org
SUMMARY:Persekutuan Doa | 05 JUN 2024
DESCRIPTION:Persekutuan Doa Onsite & Online: \nHari: Rabu\, 05 Juni 2024.\nPukul: 19:00 WIB. \nDengan Tema: MENGAPA KASIH MENJADI PUDAR?\nOleh: GI. Widya Tuluswati. \nOnsite:\nGKJ Jemaat Jembatan Lima\nJl. Tambora Raya No. 44\, Jakarta Barat \nOnline:\nZoom meeting : Link\n\nMeeting ID: 811 8007 3304\nPasscode: 573138\n(Zoom dibuka pukul 18.45) \n \n 
URL:https://gkjjembatanlima.org/acara/persekutuan-doa-05-jun-2024/
LOCATION:GKJ Jembatan Lima\, GKJ Jembatan Lima Jl. Tambora Raya No.44\, Jakarta Barat\, DKI Jakarta\, 11220\, Indonesia
CATEGORIES:Persekutuan Doa
ATTACH;FMTTYPE=image/jpeg:https://gkjjembatanlima.org/wp-content/uploads/2024/06/PD-5-Juni-2024.jpg
END:VEVENT
BEGIN:VEVENT
DTSTART;TZID=Asia/Jakarta:20240529T190000
DTEND;TZID=Asia/Jakarta:20240529T190000
DTSTAMP:20260420T091935
CREATED:20240525T082149Z
LAST-MODIFIED:20240602T054244Z
UID:990742-1717009200-1717009200@gkjjembatanlima.org
SUMMARY:Persekutuan Doa | 29 MEI 2024
DESCRIPTION:Persekutuan Doa Onsite & Online: \nHari: Rabu\, 29 Mei 2024.\nPukul: 19:00 WIB. \nDengan Tema: DOA DENGAN IMAN.\nOleh: Pdt. Ang Tjoe Mio. \nOnsite:\nGKJ Jemaat Jembatan Lima\nJl. Tambora Raya No. 44\, Jakarta Barat \nOnline:\nZoom meeting : Link\n\nMeeting ID: 811 8007 3304\nPasscode: 573138\n(Zoom dibuka pukul 18.45) \n \n 
URL:https://gkjjembatanlima.org/acara/persekutuan-doa-29-mei-2024/
LOCATION:GKJ Jembatan Lima\, GKJ Jembatan Lima Jl. Tambora Raya No.44\, Jakarta Barat\, DKI Jakarta\, 11220\, Indonesia
CATEGORIES:Persekutuan Doa
ATTACH;FMTTYPE=image/jpeg:https://gkjjembatanlima.org/wp-content/uploads/2024/05/pd-rabu.jpg
END:VEVENT
BEGIN:VEVENT
DTSTART;TZID=Asia/Jakarta:20240522T190000
DTEND;TZID=Asia/Jakarta:20240522T190000
DTSTAMP:20260420T091935
CREATED:20240518T094059Z
LAST-MODIFIED:20240518T094059Z
UID:990710-1716404400-1716404400@gkjjembatanlima.org
SUMMARY:Persekutuan Doa | 22 MEI 2024
DESCRIPTION:Persekutuan Doa Onsite & Online: \nHari: Rabu\, 22 Mei 2024.\nPukul: 19:00 WIB. \nDengan Tema: BERDOA SENANTIASA.\nOleh: GI. Andreas Nikodemus. \nOnsite:\nGKJ Jemaat Jembatan Lima\nJl. Tambora Raya No. 44\, Jakarta Barat \nOnline:\nZoom meeting : Link\n\nMeeting ID: 811 8007 3304\nPasscode: 573138\n(Zoom dibuka pukul 18.45) \n \n 
URL:https://gkjjembatanlima.org/acara/persekutuan-doa-22-mei-2024/
LOCATION:GKJ Jembatan Lima\, GKJ Jembatan Lima Jl. Tambora Raya No.44\, Jakarta Barat\, DKI Jakarta\, 11220\, Indonesia
CATEGORIES:Persekutuan Doa
ATTACH;FMTTYPE=image/jpeg:https://gkjjembatanlima.org/wp-content/uploads/2024/05/PD-22-Mei-2024.jpg
END:VEVENT
BEGIN:VEVENT
DTSTART;TZID=Asia/Jakarta:20240515T190000
DTEND;TZID=Asia/Jakarta:20240515T190000
DTSTAMP:20260420T091935
CREATED:20240511T130721Z
LAST-MODIFIED:20240511T130721Z
UID:990698-1715799600-1715799600@gkjjembatanlima.org
SUMMARY:Persekutuan Doa Puasa | 15 MEI 2024
DESCRIPTION:Persekutuan Doa Puasa Onsite & Online: \nHari: Rabu\, 15 Mei 2024.\nPukul: 19:00 WIB. \nDengan Tema: BERDOA DAN BERPUASA.\nOleh: GI. Jevintri. \nOnsite:\nGKJ Jemaat Jembatan Lima\nJl. Tambora Raya No. 44\, Jakarta Barat \nOnline:\nZoom meeting : Link\n\nMeeting ID: 811 8007 3304\nPasscode: 573138\n(Zoom dibuka pukul 18.45) \n \n 
URL:https://gkjjembatanlima.org/acara/persekutuan-doa-puasa-15-mei-2024/
LOCATION:GKJ Jembatan Lima\, GKJ Jembatan Lima Jl. Tambora Raya No.44\, Jakarta Barat\, DKI Jakarta\, 11220\, Indonesia
CATEGORIES:Persekutuan Doa
ATTACH;FMTTYPE=image/jpeg:https://gkjjembatanlima.org/wp-content/uploads/2024/05/1.jpg
END:VEVENT
BEGIN:VEVENT
DTSTART;TZID=Asia/Jakarta:20240508T190000
DTEND;TZID=Asia/Jakarta:20240508T190000
DTSTAMP:20260420T091935
CREATED:20240504T143717Z
LAST-MODIFIED:20240504T143717Z
UID:990675-1715194800-1715194800@gkjjembatanlima.org
SUMMARY:Persekutuan Doa | 08 MEI 2024
DESCRIPTION:Persekutuan Doa Onsite & Online: \nHari: Rabu\, 08 Mei 2024.\nPukul: 19:00 WIB. \nDengan Tema: DOA ORANG BENAR.\nOleh: GI. Alfa Imannuel. \nOnsite:\nGKJ Jemaat Jembatan Lima\nJl. Tambora Raya No. 44\, Jakarta Barat \nOnline:\nZoom meeting : Link\n\nMeeting ID: 811 8007 3304\nPasscode: 573138\n(Zoom dibuka pukul 18.45) \n \n 
URL:https://gkjjembatanlima.org/acara/persekutuan-doa-08-mei-2024/
LOCATION:GKJ Jembatan Lima\, GKJ Jembatan Lima Jl. Tambora Raya No.44\, Jakarta Barat\, DKI Jakarta\, 11220\, Indonesia
CATEGORIES:Persekutuan Doa
ATTACH;FMTTYPE=image/jpeg:https://gkjjembatanlima.org/wp-content/uploads/2024/05/PD-08-Mei-2024.jpg
END:VEVENT
BEGIN:VEVENT
DTSTART;TZID=Asia/Jakarta:20240501T190000
DTEND;TZID=Asia/Jakarta:20240501T190000
DTSTAMP:20260420T091935
CREATED:20240430T153739Z
LAST-MODIFIED:20240430T153739Z
UID:990664-1714590000-1714590000@gkjjembatanlima.org
SUMMARY:Persekutuan Doa | 01 MEI 2024
DESCRIPTION:Persekutuan Doa Onsite & Online: \nHari: Rabu\, 01 Mei 2024.\nPukul: 19:00 WIB. \nDengan Tema: UNTUK APA BERDOA?\nOleh: GI. Widya Tuluswati. \nOnsite:\nGKJ Jemaat Jembatan Lima\nJl. Tambora Raya No. 44\, Jakarta Barat \nOnline:\nZoom meeting : Link\n\nMeeting ID: 811 8007 3304\nPasscode: 573138\n(Zoom dibuka pukul 18.45) \n \n 
URL:https://gkjjembatanlima.org/acara/persekutuan-doa-01-mei-2024/
LOCATION:GKJ Jembatan Lima\, GKJ Jembatan Lima Jl. Tambora Raya No.44\, Jakarta Barat\, DKI Jakarta\, 11220\, Indonesia
CATEGORIES:Persekutuan Doa
ATTACH;FMTTYPE=image/jpeg:https://gkjjembatanlima.org/wp-content/uploads/2024/04/PD-01-MEI-2024.jpg
END:VEVENT
BEGIN:VEVENT
DTSTART;TZID=Asia/Jakarta:20240424T190000
DTEND;TZID=Asia/Jakarta:20240424T190000
DTSTAMP:20260420T091935
CREATED:20240420T152725Z
LAST-MODIFIED:20240420T152725Z
UID:990641-1713985200-1713985200@gkjjembatanlima.org
SUMMARY:Persekutuan Doa | 24 APR 2024
DESCRIPTION:Persekutuan Doa Onsite & Online: \nHari: Rabu\, 24 April 2024.\nPukul: 19:00 WIB. \nDengan Tema: KRISIS DAN PELUANG.\nOleh: Pdt. Ang Tjoe Mio. \nOnsite:\nGKJ Jemaat Jembatan Lima\nJl. Tambora Raya No. 44\, Jakarta Barat \nOnline:\nZoom meeting : Link\n\nMeeting ID: 811 8007 3304\nPasscode: 573138\n(Zoom dibuka pukul 18.45) \n \n 
URL:https://gkjjembatanlima.org/acara/persekutuan-doa-24-apr-2024/
LOCATION:GKJ Jembatan Lima\, GKJ Jembatan Lima Jl. Tambora Raya No.44\, Jakarta Barat\, DKI Jakarta\, 11220\, Indonesia
CATEGORIES:Persekutuan Doa
ATTACH;FMTTYPE=image/jpeg:https://gkjjembatanlima.org/wp-content/uploads/2024/04/PD-24-April-2024.jpg
END:VEVENT
BEGIN:VEVENT
DTSTART;TZID=Asia/Jakarta:20240417T190000
DTEND;TZID=Asia/Jakarta:20240417T190000
DTSTAMP:20260420T091935
CREATED:20240413T064554Z
LAST-MODIFIED:20240413T064554Z
UID:990623-1713380400-1713380400@gkjjembatanlima.org
SUMMARY:Persekutuan Doa Puasa | 17 APR 2024
DESCRIPTION:Persekutuan Doa Puasa Onsite & Online: \nHari: Rabu\, 17 April 2024.\nPukul: 19:00 WIB. \nDengan Tema: JADILAH ORANG BIJAK.\nOleh: GI. Daniel Kristiawan. \nKami juga mengundang jemaat untuk ikut berbuka puasa yang akan dimulai pukul 18:00 WIB. \nOnsite:\nGKJ Jemaat Jembatan Lima\nJl. Tambora Raya No. 44\, Jakarta Barat \nOnline:\nZoom meeting : Link\n\nMeeting ID: 811 8007 3304\nPasscode: 573138\n(Zoom dibuka pukul 18.45) \n \n 
URL:https://gkjjembatanlima.org/acara/persekutuan-doa-puasa-17-apr-2024/
LOCATION:GKJ Jembatan Lima\, GKJ Jembatan Lima Jl. Tambora Raya No.44\, Jakarta Barat\, DKI Jakarta\, 11220\, Indonesia
CATEGORIES:Persekutuan Doa
ATTACH;FMTTYPE=image/jpeg:https://gkjjembatanlima.org/wp-content/uploads/2024/04/PD-17-APRIL-2024.jpg
END:VEVENT
BEGIN:VEVENT
DTSTART;TZID=Asia/Jakarta:20240410T190000
DTEND;TZID=Asia/Jakarta:20240410T190000
DTSTAMP:20260420T091935
CREATED:20240406T142306Z
LAST-MODIFIED:20240406T142306Z
UID:990601-1712775600-1712775600@gkjjembatanlima.org
SUMMARY:Persekutuan Doa | 10 APR 2024
DESCRIPTION:Persekutuan Doa Onsite & Online: \nHari: Rabu\, 10 April 2024.\nPukul: 19:00 WIB. \nDengan Tema: BERKAT DAN HIKMAT.\nOleh: GI. Pinvatanis Gea. \nOnsite:\nGKJ Jemaat Jembatan Lima\nJl. Tambora Raya No. 44\, Jakarta Barat \nOnline:\nZoom meeting : Link\n\nMeeting ID: 811 8007 3304\nPasscode: 573138\n(Zoom dibuka pukul 18.45) \n \n 
URL:https://gkjjembatanlima.org/acara/persekutuan-doa-10-apr-2024/
LOCATION:GKJ Jembatan Lima\, GKJ Jembatan Lima Jl. Tambora Raya No.44\, Jakarta Barat\, DKI Jakarta\, 11220\, Indonesia
CATEGORIES:Persekutuan Doa
ATTACH;FMTTYPE=image/jpeg:https://gkjjembatanlima.org/wp-content/uploads/2024/04/PD-10-APRIL-2024.jpg
END:VEVENT
BEGIN:VEVENT
DTSTART;TZID=Asia/Jakarta:20240403T190000
DTEND;TZID=Asia/Jakarta:20240403T190000
DTSTAMP:20260420T091935
CREATED:20240331T045133Z
LAST-MODIFIED:20240331T045133Z
UID:990567-1712170800-1712170800@gkjjembatanlima.org
SUMMARY:Persekutuan Doa | 03 APR 2024
DESCRIPTION:Persekutuan Doa Onsite & Online: \nHari: Rabu\, 03 April 2024.\nPukul: 19:00 WIB. \nDengan Tema: ULET DAN KREATIF.\nOleh: GI. Paulus Sulastri. \nOnsite:\nGKJ Jemaat Jembatan Lima\nJl. Tambora Raya No. 44\, Jakarta Barat \nOnline:\nZoom meeting : Link\n\nMeeting ID: 811 8007 3304\nPasscode: 573138\n(Zoom dibuka pukul 18.45) \n \n 
URL:https://gkjjembatanlima.org/acara/persekutuan-doa-03-apr-2024/
LOCATION:GKJ Jembatan Lima\, GKJ Jembatan Lima Jl. Tambora Raya No.44\, Jakarta Barat\, DKI Jakarta\, 11220\, Indonesia
CATEGORIES:Persekutuan Doa
ATTACH;FMTTYPE=image/jpeg:https://gkjjembatanlima.org/wp-content/uploads/2024/03/PD-03-APRIL-2024.jpg
END:VEVENT
BEGIN:VEVENT
DTSTART;TZID=Asia/Jakarta:20240327T190000
DTEND;TZID=Asia/Jakarta:20240327T190000
DTSTAMP:20260420T091935
CREATED:20240323T164008Z
LAST-MODIFIED:20240323T164008Z
UID:990539-1711566000-1711566000@gkjjembatanlima.org
SUMMARY:Persekutuan Doa | 27 MAR 2024
DESCRIPTION:Persekutuan Doa Onsite & Online: \nHari: Rabu\, 27 Maret 2024.\nPukul: 19:00 WIB. \nDengan Tema: DAMPAK KEBANGKITAN KRISTUS BAGI ORANG PERCAYA.\nOleh: GI. Widya Tuluswati. \nOnsite:\nGKJ Jemaat Jembatan Lima\nJl. Tambora Raya No. 44\, Jakarta Barat \nOnline:\nZoom meeting : Link\n\nMeeting ID: 811 8007 3304\nPasscode: 573138\n(Zoom dibuka pukul 18.45) \n \n 
URL:https://gkjjembatanlima.org/acara/persekutuan-doa-27-mar-2024/
LOCATION:GKJ Jembatan Lima\, GKJ Jembatan Lima Jl. Tambora Raya No.44\, Jakarta Barat\, DKI Jakarta\, 11220\, Indonesia
CATEGORIES:Persekutuan Doa
ATTACH;FMTTYPE=image/jpeg:https://gkjjembatanlima.org/wp-content/uploads/2024/03/PD-27-Maret-2024.jpg
END:VEVENT
BEGIN:VEVENT
DTSTART;TZID=Asia/Jakarta:20240320T190000
DTEND;TZID=Asia/Jakarta:20240320T190000
DTSTAMP:20260420T091935
CREATED:20240316T142752Z
LAST-MODIFIED:20240317T044032Z
UID:990522-1710961200-1710961200@gkjjembatanlima.org
SUMMARY:Persekutuan Doa Puasa | 20 MAR 2024
DESCRIPTION:Persekutuan Doa Puasa Onsite & Online: \nHari: Rabu\, 20 Maret 2024.\nPukul: 19:00 WIB. \nDengan Tema: SUKACITA KARENA KEBANGKITAN-NYA.\nOleh: GI. Alfa Imannuel. \nKami juga mengundang jemaat untuk ikut berbuka puasa yang akan dimulai pukul 18:00 WIB. \nOnsite:\nGKJ Jemaat Jembatan Lima\nJl. Tambora Raya No. 44\, Jakarta Barat \nOnline:\nZoom meeting : Link\n\nMeeting ID: 811 8007 3304\nPasscode: 573138\n(Zoom dibuka pukul 18.45) \n \n 
URL:https://gkjjembatanlima.org/acara/persekutuan-doa-puasa-20-mar-2024/
LOCATION:GKJ Jembatan Lima\, GKJ Jembatan Lima Jl. Tambora Raya No.44\, Jakarta Barat\, DKI Jakarta\, 11220\, Indonesia
CATEGORIES:Persekutuan Doa
ATTACH;FMTTYPE=image/jpeg:https://gkjjembatanlima.org/wp-content/uploads/2024/03/PD-Puasa20.jpg
END:VEVENT
BEGIN:VEVENT
DTSTART;TZID=Asia/Jakarta:20240313T190000
DTEND;TZID=Asia/Jakarta:20240313T190000
DTSTAMP:20260420T091935
CREATED:20240309T131958Z
LAST-MODIFIED:20240309T132013Z
UID:990485-1710356400-1710356400@gkjjembatanlima.org
SUMMARY:Persekutuan Doa | 13 MAR 2024
DESCRIPTION:Persekutuan Doa Onsite & Online: \nHari: Rabu\, 13 Maret 2024.\nPukul: 19:00 WIB. \nDengan Tema: KRISTUS ADALAH TUHAN – 4 BUKTI KEBANGKITAN KRISTUS YANG TIDAK TERBANTAHKAN.\nOleh: GI. Oliviana Cong. \nOnsite:\nGKJ Jemaat Jembatan Lima\nJl. Tambora Raya No. 44\, Jakarta Barat \nOnline:\nZoom meeting : Link\n\nMeeting ID: 811 8007 3304\nPasscode: 573138\n(Zoom dibuka pukul 18.45) \n \n 
URL:https://gkjjembatanlima.org/acara/persekutuan-doa-13-mar-2024/
LOCATION:GKJ Jembatan Lima\, GKJ Jembatan Lima Jl. Tambora Raya No.44\, Jakarta Barat\, DKI Jakarta\, 11220\, Indonesia
CATEGORIES:Persekutuan Doa
ATTACH;FMTTYPE=image/jpeg:https://gkjjembatanlima.org/wp-content/uploads/2024/03/PD-13-MARET-2024.jpg
END:VEVENT
BEGIN:VEVENT
DTSTART;TZID=Asia/Jakarta:20240306T190000
DTEND;TZID=Asia/Jakarta:20240306T190000
DTSTAMP:20260420T091935
CREATED:20240303T011621Z
LAST-MODIFIED:20240303T011621Z
UID:990447-1709751600-1709751600@gkjjembatanlima.org
SUMMARY:Persekutuan Doa | 06 MAR 2024
DESCRIPTION:Persekutuan Doa Onsite & Online: \nHari: Rabu\, 06 Maret 2024.\nPukul: 19:00 WIB. \nDengan Tema: KEBANGGAAN DALAM KARYA SALIB.\nOleh: GI. Noptianus Zendrato. \nOnsite:\nGKJ Jemaat Jembatan Lima\nJl. Tambora Raya No. 44\, Jakarta Barat \nOnline:\nZoom meeting : Link\n\nMeeting ID: 811 8007 3304\nPasscode: 573138\n(Zoom dibuka pukul 18.45) \n \n 
URL:https://gkjjembatanlima.org/acara/persekutuan-doa-06-mar-2024/
LOCATION:GKJ Jembatan Lima\, GKJ Jembatan Lima Jl. Tambora Raya No.44\, Jakarta Barat\, DKI Jakarta\, 11220\, Indonesia
CATEGORIES:Persekutuan Doa
ATTACH;FMTTYPE=image/jpeg:https://gkjjembatanlima.org/wp-content/uploads/2024/03/PD-06-MARET-2024.jpg
END:VEVENT
BEGIN:VEVENT
DTSTART;TZID=Asia/Jakarta:20240228T190000
DTEND;TZID=Asia/Jakarta:20240228T190000
DTSTAMP:20260420T091935
CREATED:20240224T101131Z
LAST-MODIFIED:20240224T101131Z
UID:990427-1709146800-1709146800@gkjjembatanlima.org
SUMMARY:Persekutuan Doa Rabu | 28 FEB 2024
DESCRIPTION:Persekutuan Doa Onsite & Online: \nHari: Rabu\, 28 Februari 2024.\nPukul: 19:00 WIB. \nDengan Tema: S3 (SEHATI\, SEPIKIR\, SETUJUAN).\nOleh: Bpk. Philip Bong. \nOnsite:\nGKJ Jemaat Jembatan Lima\nJl. Tambora Raya No. 44\, Jakarta Barat \nOnline:\nZoom meeting : Link\n\nMeeting ID: 811 8007 3304\nPasscode: 573138\n(Zoom dibuka pukul 18.45) \n \n 
URL:https://gkjjembatanlima.org/acara/persekutuan-doa-rabu-28-feb-2024/
LOCATION:GKJ Jembatan Lima\, GKJ Jembatan Lima Jl. Tambora Raya No.44\, Jakarta Barat\, DKI Jakarta\, 11220\, Indonesia
CATEGORIES:Persekutuan Doa
ATTACH;FMTTYPE=image/jpeg:https://gkjjembatanlima.org/wp-content/uploads/2024/02/PD-28-FEB-2024.jpg
END:VEVENT
BEGIN:VEVENT
DTSTART;TZID=Asia/Jakarta:20240221T190000
DTEND;TZID=Asia/Jakarta:20240221T190000
DTSTAMP:20260420T091935
CREATED:20240217T141314Z
LAST-MODIFIED:20240217T141314Z
UID:990415-1708542000-1708542000@gkjjembatanlima.org
SUMMARY:Persekutuan Doa Puasa Rabu | 21 FEB 2024
DESCRIPTION:Persekutuan Doa Puasa Onsite & Online: \nHari: Rabu\, 21 Februari 2024.\nPukul: 19:00 WIB. \nDengan Tema: -.\nOleh: -. \nOnsite:\nGKJ Jemaat Jembatan Lima\nJl. Tambora Raya No. 44\, Jakarta Barat \nOnline:\nZoom meeting : Link\n\nMeeting ID: 811 8007 3304\nPasscode: 573138\n(Zoom dibuka pukul 18.45) \n \n 
URL:https://gkjjembatanlima.org/acara/persekutuan-doa-puasa-rabu-21-feb-2024/
LOCATION:GKJ Jembatan Lima\, GKJ Jembatan Lima Jl. Tambora Raya No.44\, Jakarta Barat\, DKI Jakarta\, 11220\, Indonesia
CATEGORIES:Persekutuan Doa
ATTACH;FMTTYPE=image/jpeg:https://gkjjembatanlima.org/wp-content/uploads/2024/02/do-apuasa.jpg
END:VEVENT
BEGIN:VEVENT
DTSTART;TZID=Asia/Jakarta:20240214T190000
DTEND;TZID=Asia/Jakarta:20240214T190000
DTSTAMP:20260420T091935
CREATED:20240213T040624Z
LAST-MODIFIED:20240213T040624Z
UID:990248-1707937200-1707937200@gkjjembatanlima.org
SUMMARY:Persekutuan Doa Rabu | 14 FEB 2024
DESCRIPTION:Persekutuan Doa Online: \nHari: Rabu\, 14 Februari 2024.\nPukul: 19:00 WIB. \nDengan Tema: TALI KASIH KESATUAN.\nOleh: GI. Pinvatanis Gea. \nKhusus Persekutuan Doa Rabu 14 Februari 2024 hanya akan diadakan secara online. \nOnline:\nZoom meeting : Link\n\nMeeting ID: 811 8007 3304\nPasscode: 573138\n(Zoom dibuka pukul 18.45) \n \n 
URL:https://gkjjembatanlima.org/acara/persekutuan-doa-rabu-14-feb-2024/
LOCATION:Zoom Meeting\, Online\, Jakarta\, Jakarta\, Indonesia
CATEGORIES:Persekutuan Doa
ATTACH;FMTTYPE=image/jpeg:https://gkjjembatanlima.org/wp-content/uploads/2024/02/PD-14-FEB-2024.jpg
END:VEVENT
BEGIN:VEVENT
DTSTART;TZID=Asia/Jakarta:20240207T190000
DTEND;TZID=Asia/Jakarta:20240207T190000
DTSTAMP:20260420T091935
CREATED:20240205T045355Z
LAST-MODIFIED:20240205T045355Z
UID:990229-1707332400-1707332400@gkjjembatanlima.org
SUMMARY:Persekutuan Doa Rabu | 07 FEB 2024
DESCRIPTION:Persekutuan Doa Onsite & Online: \nHari: Rabu\, 07 Februari 2024.\nPukul: 19:00 WIB. \nDengan Tema: STRONGER TOGETHER.\nOleh: GI. Pinvatanis Gea. \nOnsite:\nGKJ Jemaat Jembatan Lima\nJl. Tambora Raya No. 44\, Jakarta Barat \nOnline:\nZoom meeting : Link\n\nMeeting ID: 811 8007 3304\nPasscode: 573138\n(Zoom dibuka pukul 18.45) \n \n 
URL:https://gkjjembatanlima.org/acara/persekutuan-doa-rabu-07-feb-2024/
LOCATION:GKJ Jembatan Lima\, GKJ Jembatan Lima Jl. Tambora Raya No.44\, Jakarta Barat\, DKI Jakarta\, 11220\, Indonesia
CATEGORIES:Persekutuan Doa
ATTACH;FMTTYPE=image/jpeg:https://gkjjembatanlima.org/wp-content/uploads/2024/02/PD-07-FEB-2024.jpg
END:VEVENT
BEGIN:VEVENT
DTSTART;TZID=Asia/Jakarta:20240131T190000
DTEND;TZID=Asia/Jakarta:20240131T190000
DTSTAMP:20260420T091935
CREATED:20240128T012857Z
LAST-MODIFIED:20240128T042515Z
UID:990189-1706727600-1706727600@gkjjembatanlima.org
SUMMARY:Persekutuan Doa Rabu | 31 JAN 2024
DESCRIPTION:Persekutuan Doa Onsite & Online: \nHari: Rabu\, 31 Januari 2024.\nPukul: 19:00 WIB. \nDengan Tema: TRADISI & BUDAYA IMLEK BAGI ORANG PERCAYA.\nOleh: Pdt. Lukas Phang. \nOnsite:\nGKJ Jemaat Jembatan Lima\nJl. Tambora Raya No. 44\, Jakarta Barat \nOnline:\nZoom meeting : Link\n\nMeeting ID: 811 8007 3304\nPasscode: 573138\n(Zoom dibuka pukul 18.45) \n \n 
URL:https://gkjjembatanlima.org/acara/persekutuan-doa-rabu-31-jan-2024/
LOCATION:GKJ Jembatan Lima\, GKJ Jembatan Lima Jl. Tambora Raya No.44\, Jakarta Barat\, DKI Jakarta\, 11220\, Indonesia
CATEGORIES:Persekutuan Doa
ATTACH;FMTTYPE=image/jpeg:https://gkjjembatanlima.org/wp-content/uploads/2024/01/PD-31-JAN-2024.jpg
END:VEVENT
BEGIN:VEVENT
DTSTART;TZID=Asia/Jakarta:20240124T190000
DTEND;TZID=Asia/Jakarta:20240124T190000
DTSTAMP:20260420T091935
CREATED:20240120T032149Z
LAST-MODIFIED:20240120T032149Z
UID:990156-1706122800-1706122800@gkjjembatanlima.org
SUMMARY:Persekutuan Doa Rabu | 24 JAN 2024
DESCRIPTION:Persekutuan Doa Onsite & Online: \nHari: Rabu\, 24 Januari 2024.\nPukul: 19:00 WIB. \nDengan Tema: PERCAYAKANLAH PADA TUHAN.\nOleh: GI. Alfa Imannuel. \nOnsite:\nGKJ Jemaat Jembatan Lima\nJl. Tambora Raya No. 44\, Jakarta Barat \nOnline:\nZoom meeting : Link\n\nMeeting ID: 811 8007 3304\nPasscode: 573138\n(Zoom dibuka pukul 18.45) \n \n 
URL:https://gkjjembatanlima.org/acara/persekutuan-doa-rabu-24-jan-2024/
LOCATION:GKJ Jembatan Lima\, GKJ Jembatan Lima Jl. Tambora Raya No.44\, Jakarta Barat\, DKI Jakarta\, 11220\, Indonesia
CATEGORIES:Persekutuan Doa
ATTACH;FMTTYPE=image/jpeg:https://gkjjembatanlima.org/wp-content/uploads/2024/01/PD-24-JANUARI-2024.jpg
END:VEVENT
BEGIN:VEVENT
DTSTART;TZID=Asia/Jakarta:20240117T190000
DTEND;TZID=Asia/Jakarta:20240117T190000
DTSTAMP:20260420T091935
CREATED:20240117T063026Z
LAST-MODIFIED:20240117T063026Z
UID:990147-1705518000-1705518000@gkjjembatanlima.org
SUMMARY:Persekutuan Doa Rabu | 17 JAN 2024
DESCRIPTION:Persekutuan Doa Onsite & Online: \nHari: Rabu\, 17 Januari 2024.\nPukul: 19:00 WIB. \nDengan Tema: KITA TERBATAS TETAPI TUHAN TIDAK TERBATAS.\nOleh: Pdt. Ang Tjoe Mio. \nOnsite:\nGKJ Jemaat Jembatan Lima\nJl. Tambora Raya No. 44\, Jakarta Barat \nOnline:\nZoom meeting : Link\n\nMeeting ID: 811 8007 3304\nPasscode: 573138\n(Zoom dibuka pukul 18.45)
URL:https://gkjjembatanlima.org/acara/persekutuan-doa-rabu-17-jan-2024/
LOCATION:GKJ Jembatan Lima\, GKJ Jembatan Lima Jl. Tambora Raya No.44\, Jakarta Barat\, DKI Jakarta\, 11220\, Indonesia
CATEGORIES:Persekutuan Doa
ATTACH;FMTTYPE=image/jpeg:https://gkjjembatanlima.org/wp-content/uploads/2024/01/PD-17-JAN.jpg
END:VEVENT
BEGIN:VEVENT
DTSTART;TZID=Asia/Jakarta:20240110T190000
DTEND;TZID=Asia/Jakarta:20240110T190000
DTSTAMP:20260420T091935
CREATED:20240106T053616Z
LAST-MODIFIED:20240106T053616Z
UID:990117-1704913200-1704913200@gkjjembatanlima.org
SUMMARY:Persekutuan Doa Rabu | 10 JAN 2024
DESCRIPTION:Persekutuan Doa Onsite & Online: \nHari: Rabu\, 10 Januari 2024.\nPukul: 19:00 WIB. \nDengan Tema: TUHAN PENYEMBUHKU.\nOleh: GI. Noptianus Zendrato. \nOnsite:\nGKJ Jemaat Jembatan Lima\nJl. Tambora Raya No. 44\, Jakarta Barat \nOnline:\nZoom meeting : Link\n\nMeeting ID: 811 8007 3304\nPasscode: 573138\n(Zoom dibuka pukul 18.45)
URL:https://gkjjembatanlima.org/acara/persekutuan-doa-rabu-10-jan-2024/
LOCATION:GKJ Jembatan Lima\, GKJ Jembatan Lima Jl. Tambora Raya No.44\, Jakarta Barat\, DKI Jakarta\, 11220\, Indonesia
CATEGORIES:Persekutuan Doa
ATTACH;FMTTYPE=image/jpeg:https://gkjjembatanlima.org/wp-content/uploads/2024/01/PD-10-JAN-2024.jpg
END:VEVENT
BEGIN:VEVENT
DTSTART;TZID=Asia/Jakarta:20240103T190000
DTEND;TZID=Asia/Jakarta:20240103T190000
DTSTAMP:20260420T091935
CREATED:20231229T030158Z
LAST-MODIFIED:20231229T050336Z
UID:990078-1704308400-1704308400@gkjjembatanlima.org
SUMMARY:Persekutuan Doa Rabu | 03 JAN 2024
DESCRIPTION:Persekutuan Doa Onsite & Online: \nHari Rabu\, 03 Januari 2024.\nPukul 19:00 WIB. \nDengan Tema: HARI DEPAN PENUH HARAPAN.\nOleh: GI. Noriana Nori. \nOnsite:\nGKJ Jemaat Jembatan Lima\nJl. Tambora Raya No. 44\, Jakarta Barat \nOnline:\nZoom meeting : Link\n\nMeeting ID: 811 8007 3304\nPasscode: 573138\n(Zoom dibuka pukul 18.45) \n 
URL:https://gkjjembatanlima.org/acara/persekutuan-doa-rabu-03-jan-2024/
LOCATION:GKJ Jembatan Lima\, GKJ Jembatan Lima Jl. Tambora Raya No.44\, Jakarta Barat\, DKI Jakarta\, 11220\, Indonesia
CATEGORIES:Persekutuan Doa
ATTACH;FMTTYPE=image/jpeg:https://gkjjembatanlima.org/wp-content/uploads/2023/12/PD-03-JAN-2024.jpg
END:VEVENT
BEGIN:VEVENT
DTSTART;TZID=Asia/Jakarta:20231227T190000
DTEND;TZID=Asia/Jakarta:20231227T190000
DTSTAMP:20260420T091935
CREATED:20231223T101011Z
LAST-MODIFIED:20231223T101011Z
UID:990071-1703703600-1703703600@gkjjembatanlima.org
SUMMARY:Persekutuan Doa Rabu 27 Desember 2023
DESCRIPTION:Persekutuan Doa Onsite & Online: \nHari: Rabu\, 27 Desember 2023.\nPukul: 19:00 WIB. \nDengan Tema: HARAPAN YANG BARU.\nOleh: Pdt. Ang Tjoe Mio. \nOnsite:\nGKJ Jemaat Jembatan Lima\nJl. Tambora Raya No. 44\, Jakarta Barat \nOnline:\nZoom meeting : Link\n\nMeeting ID: 811 8007 3304\nPasscode: 573138\n(Zoom dibuka pukul 18.45)
URL:https://gkjjembatanlima.org/acara/persekutuan-doa-rabu-27-desember-2023/
LOCATION:GKJ Jembatan Lima\, GKJ Jembatan Lima Jl. Tambora Raya No.44\, Jakarta Barat\, DKI Jakarta\, 11220\, Indonesia
CATEGORIES:Persekutuan Doa
ATTACH;FMTTYPE=image/jpeg:https://gkjjembatanlima.org/wp-content/uploads/2023/12/PD-27-DES-2023.jpg
END:VEVENT
END:VCALENDAR