BEGIN:VCALENDAR
VERSION:2.0
PRODID:-//GKJ Jemaat Jembatan Lima - ECPv6.14.0//NONSGML v1.0//EN
CALSCALE:GREGORIAN
METHOD:PUBLISH
X-ORIGINAL-URL:https://gkjjembatanlima.org
X-WR-CALDESC:Events for GKJ Jemaat Jembatan Lima
REFRESH-INTERVAL;VALUE=DURATION:PT1H
X-Robots-Tag:noindex
X-PUBLISHED-TTL:PT1H
BEGIN:VTIMEZONE
TZID:Asia/Jakarta
BEGIN:STANDARD
TZOFFSETFROM:+0700
TZOFFSETTO:+0700
TZNAME:WIB
DTSTART:20260101T000000
END:STANDARD
END:VTIMEZONE
BEGIN:VEVENT
DTSTART;VALUE=DATE:20260318
DTEND;VALUE=DATE:20260321
DTSTAMP:20260420T001149
CREATED:20260131T140206Z
LAST-MODIFIED:20260131T140245Z
UID:993135-1773792000-1774051199@gkjjembatanlima.org
SUMMARY:Sekolah Injil Liburan | 18-20 MAR 2026
DESCRIPTION:Shalom! Sekolah Minggu GKJ Jembatan Lima akan mengadakan Sekolah Injil Liburan (SIL) lagi di tahun ini lho! \nSIL akan berlangsung dari tanggal 18-20 Maret 2026 bertempat di Kebunsu Bogor. \nTema: TREASURE HUNT: FINDING GOD’S TRUTH. \nSIL terbuka untuk kelas 3 SD hingga 1 SMP. \nDaftarkan dirimu sekarang juga ya\, dan jangan lupa ajak teman-temanmu juga! Jangan sampe ketinggalan. Tuhan Yesus memberkati! \n 
URL:https://gkjjembatanlima.org/acara/sekolah-injil-liburan-18-20-mar-2026/
LOCATION:Kebunsu\, Bogor\, Kebunsu Bogor\, Bogor\, West Java\, 16610\, Indonesia
CATEGORIES:Retreat
ATTACH;FMTTYPE=image/jpeg:https://gkjjembatanlima.org/wp-content/uploads/2026/01/SIL-18-20-MAR-2026.jpg
END:VEVENT
END:VCALENDAR