BEGIN:VCALENDAR
VERSION:2.0
PRODID:-//GKJ Jemaat Jembatan Lima - ECPv6.14.0//NONSGML v1.0//EN
CALSCALE:GREGORIAN
METHOD:PUBLISH
X-ORIGINAL-URL:https://gkjjembatanlima.org
X-WR-CALDESC:Events for GKJ Jemaat Jembatan Lima
REFRESH-INTERVAL;VALUE=DURATION:PT1H
X-Robots-Tag:noindex
X-PUBLISHED-TTL:PT1H
BEGIN:VTIMEZONE
TZID:Asia/Jakarta
BEGIN:STANDARD
TZOFFSETFROM:+0700
TZOFFSETTO:+0700
TZNAME:WIB
DTSTART:20240101T000000
END:STANDARD
END:VTIMEZONE
BEGIN:VEVENT
DTSTART;TZID=Asia/Jakarta:20241013T090000
DTEND;TZID=Asia/Jakarta:20241013T090000
DTSTAMP:20260422T131048
CREATED:20240922T124833Z
LAST-MODIFIED:20240922T124833Z
UID:991087-1728810000-1728810000@gkjjembatanlima.org
SUMMARY:HUT SM ke 40 | 13 OKT 2024
DESCRIPTION:Shalom Adik-Adik! \nKita akan merayakan Hari Ulang Tahun Sekolah Minggu yang ke-40! \nYang diadakan pada hari Minggu\, 13 Oktober 2024 pukul 09.00 – selesai. \nBertempat di Gedung Sekolah Minggu\, Jl. Tambora Raya No. 24. \nTema: MY CHURCH\, MY HOME \nDresscode: PAJAMAS / Baju Tidur \nJangan lupa datang ya adik-adik! Tuhan Yesus memberkati!
URL:https://gkjjembatanlima.org/acara/hut-sm-ke-40-13-okt-2024/
LOCATION:Gedung Sekolah Minggu\, Gedung SM Tambora Jl. Tambora Raya No. 24\, Tambora\, Jakarta Barat\, Jakarta\, Jakarta Barat\, 11220\, Indonesia
CATEGORIES:Sekolah Minggu
ATTACH;FMTTYPE=image/jpeg:https://gkjjembatanlima.org/wp-content/uploads/2024/09/HUT-SM-13-OKT-2024.jpg
END:VEVENT
END:VCALENDAR