BEGIN:VCALENDAR
VERSION:2.0
PRODID:-//GKJ Jemaat Jembatan Lima - ECPv6.14.0//NONSGML v1.0//EN
CALSCALE:GREGORIAN
METHOD:PUBLISH
X-WR-CALNAME:GKJ Jemaat Jembatan Lima
X-ORIGINAL-URL:https://gkjjembatanlima.org
X-WR-CALDESC:Events for GKJ Jemaat Jembatan Lima
REFRESH-INTERVAL;VALUE=DURATION:PT1H
X-Robots-Tag:noindex
X-PUBLISHED-TTL:PT1H
BEGIN:VTIMEZONE
TZID:Asia/Jakarta
BEGIN:STANDARD
TZOFFSETFROM:+0700
TZOFFSETTO:+0700
TZNAME:WIB
DTSTART:20250101T000000
END:STANDARD
END:VTIMEZONE
BEGIN:VEVENT
DTSTART;VALUE=DATE:20250615
DTEND;VALUE=DATE:20250616
DTSTAMP:20260422T180223
CREATED:20250607T045557Z
LAST-MODIFIED:20250608T010401Z
UID:992012-1749945600-1750031999@gkjjembatanlima.org
SUMMARY:Kebaktian Umum | 15 JUN 2025
DESCRIPTION:Kebaktian Umum GKJ Jemaat Jembatan Lima \nMinggu\, 15 Juni 2025.\nTema: SERUPA KARAKTER KRISTUS (KESUCIAN DAN KEBENARAN) 與基督相似的品格-聖潔和真理. \nPada Minggu ini\, khusus Kebaktian Umum 2 untuk Ibadah bersama Orang Tua dan Anak. \nPembicara:\nKebaktian Umum 1 (06.30) : GI. Alfa Imannuel 于来發傳道.\nKebaktian Umum 2 (09.00) : GI. Anne Kartawijaya.\nKebaktian Umum 3 (11.30) : GI. Widya Tuluswati 李維錦傳道.\nKebaktian Umum 4 (11.30) : GI. Anne Kartawijaya.\nKebaktian Umum 5 (17.00) : Pdt. Ang Tjoe Mio 洪祖茂牧師. \nLihat Jadwal Kebaktian Umum \n 
URL:https://gkjjembatanlima.org/acara/kebaktian-umum-15-jun-2025/
LOCATION:GKJ Jembatan Lima\, GKJ Jembatan Lima Jl. Tambora Raya No.44\, Jakarta Barat\, DKI Jakarta\, 11220\, Indonesia
CATEGORIES:Ibadah
ATTACH;FMTTYPE=image/jpeg:https://gkjjembatanlima.org/wp-content/uploads/2025/06/KU-15-JUN-2025.jpg
END:VEVENT
BEGIN:VEVENT
DTSTART;TZID=Asia/Jakarta:20250614T190000
DTEND;TZID=Asia/Jakarta:20250614T190000
DTSTAMP:20260422T180223
CREATED:20250607T045227Z
LAST-MODIFIED:20250607T045227Z
UID:992009-1749927600-1749927600@gkjjembatanlima.org
SUMMARY:Komisi Pemuda | 14 JUN 2025
DESCRIPTION:Komisi Pemuda pada hari Sabtu\, 14 Juni pukul 19:00 WIB. \nTema: A TURNING POINT.\nPembicara: Pdt. Raynaldo Ginting. \nBertempat di Ruang Ibadah Lt. 2\nGKJ Jemaat Jembatan Lima\nJl. Tambora Raya No. 44\,\nJakarta-Barat. \nKami mengundang jemaat khususnya pemuda-pemudi untuk menghadirinya. \n \n 
URL:https://gkjjembatanlima.org/acara/komisi-pemuda-14-jun-2025/
LOCATION:GKJ Jembatan Lima\, GKJ Jembatan Lima Jl. Tambora Raya No.44\, Jakarta Barat\, DKI Jakarta\, 11220\, Indonesia
CATEGORIES:Ibadah
ATTACH;FMTTYPE=image/jpeg:https://gkjjembatanlima.org/wp-content/uploads/2025/06/KP-14-JUN-2025.jpg
END:VEVENT
BEGIN:VEVENT
DTSTART;TZID=Asia/Jakarta:20250614T120000
DTEND;TZID=Asia/Jakarta:20250614T120000
DTSTAMP:20260422T180223
CREATED:20250531T095923Z
LAST-MODIFIED:20250531T095923Z
UID:991984-1749902400-1749902400@gkjjembatanlima.org
SUMMARY:Rapat BPJ | 14 JUN 2025
DESCRIPTION:Rapat BPJ akan berlangsung pada: \nSabtu\, 14 Juni 2025.\nPukul 12:00 WIB – selesai. \nMengundang seluruh Hamba Tuhan dan BPJ untuk menghadirinya.
URL:https://gkjjembatanlima.org/acara/rapat-bpj-14-jun-2025/
LOCATION:GKJ Jembatan Lima\, GKJ Jembatan Lima Jl. Tambora Raya No.44\, Jakarta Barat\, DKI Jakarta\, 11220\, Indonesia
ATTACH;FMTTYPE=image/jpeg:https://gkjjembatanlima.org/wp-content/uploads/2025/05/RAPAT-BPJ-14-JUN-2025.jpg
END:VEVENT
BEGIN:VEVENT
DTSTART;TZID=Asia/Jakarta:20250614T060000
DTEND;TZID=Asia/Jakarta:20250614T060000
DTSTAMP:20260422T180223
CREATED:20250607T045055Z
LAST-MODIFIED:20250607T045055Z
UID:992007-1749880800-1749880800@gkjjembatanlima.org
SUMMARY:Doa Pagi | 14 JUN 2025
DESCRIPTION:Shalom jemaat yang terkasih\,\nMari kita bersehati berdoa bersama di doa pagi GKJ Jembatan Lima. \nDoa Pagi GKJ Jembatan Lima:\nSabtu\, 14 Juni 2025\, pkl. 06:00-selesai\ndi Zoom Meeting. \nUntuk mendapatkan link zoom meeting\, silahkan hubungi ke nomor sekretariat gereja di: 0813-8812-9883
URL:https://gkjjembatanlima.org/acara/doa-pagi-14-jun-2025/
LOCATION:Zoom Meeting\, Online\, Jakarta\, Jakarta\, Indonesia
CATEGORIES:Doa Pagi
ATTACH;FMTTYPE=image/jpeg:https://gkjjembatanlima.org/wp-content/uploads/2024/10/Doa-Pagi-v2.jpg
END:VEVENT
BEGIN:VEVENT
DTSTART;TZID=Asia/Jakarta:20250611T190000
DTEND;TZID=Asia/Jakarta:20250611T190000
DTSTAMP:20260422T180223
CREATED:20250607T044957Z
LAST-MODIFIED:20250607T044957Z
UID:992004-1749668400-1749668400@gkjjembatanlima.org
SUMMARY:Persekutuan Doa | 11 JUN 2025
DESCRIPTION:Persekutuan Doa Onsite & Online: \nHari: Rabu\, 11 Juni 2025.\nPukul: 19:00 WIB. \nDengan Tema: BERSAMA KELUARGAKU MENGASIHI TUHAN.\nOleh: GI. Muliani Gulo. \nOnsite:\nGKJ Jemaat Jembatan Lima\nJl. Tambora Raya No. 44\, Jakarta Barat \nOnline:\nZoom meeting : Link\n\nMeeting ID: 811 8007 3304\nPasscode: 573138\n(Zoom dibuka pukul 18.45) \n \n 
URL:https://gkjjembatanlima.org/acara/persekutuan-doa-11-jun-2025/
LOCATION:GKJ Jembatan Lima\, GKJ Jembatan Lima Jl. Tambora Raya No.44\, Jakarta Barat\, DKI Jakarta\, 11220\, Indonesia
CATEGORIES:Persekutuan Doa
ATTACH;FMTTYPE=image/jpeg:https://gkjjembatanlima.org/wp-content/uploads/2025/06/PD-11-JUN-2025.jpg
END:VEVENT
BEGIN:VEVENT
DTSTART;VALUE=DATE:20250608
DTEND;VALUE=DATE:20250609
DTSTAMP:20260422T180223
CREATED:20250531T095642Z
LAST-MODIFIED:20250601T044358Z
UID:991979-1749340800-1749427199@gkjjembatanlima.org
SUMMARY:Kebaktian Umum | 08 JUN 2025
DESCRIPTION:Kebaktian Umum GKJ Jemaat Jembatan Lima \nMinggu\, 08 Juni 2025.\nTema: JANGAN MENDUSTAI ROH KUDUS 不可欺哄聖靈. \nPembicara:\nKebaktian Umum 1 (06.30) : Bpk. Philip Bong 刘秒亮.\nKebaktian Umum 2 (09.00) : Bpk. Philip Bong 刘秒亮.\nKebaktian Umum 3 (11.30) : GI. Noriana Nori 李雅娜傳道.\nKebaktian Umum 4 (11.30) : Bpk. Philip Bong 刘秒亮.\nKebaktian Umum 5 (17.00) : Bpk. Philip Bong 刘秒亮. \nLihat Jadwal Kebaktian Umum
URL:https://gkjjembatanlima.org/acara/kebaktian-umum-08-jun-2025/
LOCATION:GKJ Jembatan Lima\, GKJ Jembatan Lima Jl. Tambora Raya No.44\, Jakarta Barat\, DKI Jakarta\, 11220\, Indonesia
CATEGORIES:Ibadah
ATTACH;FMTTYPE=image/jpeg:https://gkjjembatanlima.org/wp-content/uploads/2025/05/KU-08-JUN-2025.jpg
END:VEVENT
BEGIN:VEVENT
DTSTART;TZID=Asia/Jakarta:20250607T190000
DTEND;TZID=Asia/Jakarta:20250607T190000
DTSTAMP:20260422T180223
CREATED:20250531T095416Z
LAST-MODIFIED:20250531T095416Z
UID:991976-1749322800-1749322800@gkjjembatanlima.org
SUMMARY:Komisi Pemuda | 07 JUN 2025
DESCRIPTION:Komisi Pemuda pada hari Sabtu\, 07 Juni pukul 19:00 WIB. \nTema: BROKEN YET BLESSED.\nPembicara: GI. Alfa Imannuel. \nBertempat di Ruang Ibadah Lt. 2\nGKJ Jemaat Jembatan Lima\nJl. Tambora Raya No. 44\,\nJakarta-Barat. \nKami mengundang jemaat khususnya pemuda-pemudi untuk menghadirinya. \n \n 
URL:https://gkjjembatanlima.org/acara/komisi-pemuda-07-jun-2025/
LOCATION:GKJ Jembatan Lima\, GKJ Jembatan Lima Jl. Tambora Raya No.44\, Jakarta Barat\, DKI Jakarta\, 11220\, Indonesia
CATEGORIES:Ibadah
ATTACH;FMTTYPE=image/jpeg:https://gkjjembatanlima.org/wp-content/uploads/2025/05/KP-07-JUN-2025.jpg
END:VEVENT
BEGIN:VEVENT
DTSTART;TZID=Asia/Jakarta:20250607T060000
DTEND;TZID=Asia/Jakarta:20250607T060000
DTSTAMP:20260422T180223
CREATED:20250531T095241Z
LAST-MODIFIED:20250531T095241Z
UID:991974-1749276000-1749276000@gkjjembatanlima.org
SUMMARY:Doa Pagi | 07 JUN 2025
DESCRIPTION:Shalom jemaat yang terkasih\,\nMari kita bersehati berdoa bersama di doa pagi GKJ Jembatan Lima. \nDoa Pagi GKJ Jembatan Lima:\nSabtu\, 07 Juni 2025\, pkl. 06:00-selesai\ndi Zoom Meeting. \nUntuk mendapatkan link zoom meeting\, silahkan hubungi ke nomor sekretariat gereja di: 0813-8812-9883
URL:https://gkjjembatanlima.org/acara/doa-pagi-07-jun-2025/
LOCATION:Zoom Meeting\, Online\, Jakarta\, Jakarta\, Indonesia
CATEGORIES:Doa Pagi
ATTACH;FMTTYPE=image/jpeg:https://gkjjembatanlima.org/wp-content/uploads/2024/10/Doa-Pagi-v2.jpg
END:VEVENT
BEGIN:VEVENT
DTSTART;TZID=Asia/Jakarta:20250604T190000
DTEND;TZID=Asia/Jakarta:20250604T190000
DTSTAMP:20260422T180223
CREATED:20250531T095135Z
LAST-MODIFIED:20250531T095135Z
UID:991971-1749063600-1749063600@gkjjembatanlima.org
SUMMARY:Persekutuan Doa | 04 JUN 2025
DESCRIPTION:Persekutuan Doa Onsite & Online: \nHari: Rabu\, 04 Juni 2025.\nPukul: 19:00 WIB. \nDengan Tema: HAPPY PARENTS\, HAPPY KIDS.\nOleh: Bpk. Indrawan. \nOnsite:\nGKJ Jemaat Jembatan Lima\nJl. Tambora Raya No. 44\, Jakarta Barat \nOnline:\nZoom meeting : Link\n\nMeeting ID: 811 8007 3304\nPasscode: 573138\n(Zoom dibuka pukul 18.45) \n \n 
URL:https://gkjjembatanlima.org/acara/persekutuan-doa-04-jun-2025/
LOCATION:GKJ Jembatan Lima\, GKJ Jembatan Lima Jl. Tambora Raya No.44\, Jakarta Barat\, DKI Jakarta\, 11220\, Indonesia
CATEGORIES:Persekutuan Doa
ATTACH;FMTTYPE=image/jpeg:https://gkjjembatanlima.org/wp-content/uploads/2025/05/PD-04-JUN-2025.jpg
END:VEVENT
BEGIN:VEVENT
DTSTART;VALUE=DATE:20250601
DTEND;VALUE=DATE:20250602
DTSTAMP:20260422T180223
CREATED:20250524T131054Z
LAST-MODIFIED:20250525T041005Z
UID:991957-1748736000-1748822399@gkjjembatanlima.org
SUMMARY:Kebaktian Umum & Perjamuan Kudus | 01 JUN 2025
DESCRIPTION:Kebaktian Umum GKJ Jemaat Jembatan Lima &\nPerjamuan Kudus Bulan Juni 2025\n \nMinggu\, 01 Juni 2025. \nTema: AUTENTIK VS “KOSMETIK” 真實与偽装. \nPembicara:\nKebaktian Umum 1 (06.30) : Pdt. Ang Tjoe Mio 洪祖茂牧師.\nKebaktian Umum 2 (09.00) : Pdt. Ang Tjoe Mio 洪祖茂牧師.\nKebaktian Umum 4 (11.30) : Pdt. Ang Tjoe Mio 洪祖茂牧師.\nKebaktian Umum 5 (17.00) : Pdt. Ang Tjoe Mio 洪祖茂牧師. \nLihat Jadwal Kebaktian Umum \n 
URL:https://gkjjembatanlima.org/acara/kebaktian-umum-perjamuan-kudus-01-jun-2025/
LOCATION:GKJ Jembatan Lima\, GKJ Jembatan Lima Jl. Tambora Raya No.44\, Jakarta Barat\, DKI Jakarta\, 11220\, Indonesia
CATEGORIES:Ibadah
ATTACH;FMTTYPE=image/jpeg:https://gkjjembatanlima.org/wp-content/uploads/2025/05/KU-01-JUN-2025.jpg
END:VEVENT
BEGIN:VEVENT
DTSTART;TZID=Asia/Jakarta:20250531T190000
DTEND;TZID=Asia/Jakarta:20250531T190000
DTSTAMP:20260422T180223
CREATED:20250524T130805Z
LAST-MODIFIED:20250621T154826Z
UID:991954-1748718000-1748718000@gkjjembatanlima.org
SUMMARY:Komisi Pemuda | 31 MEI 2025
DESCRIPTION:Komisi Pemuda pada hari Sabtu\, 31 Mei 2025 pukul 19:00 WIB. \nAcara: FELLOWSHIP: SPORT DAY. \nBertempat di Ruang Ibadah Lt. 2\nGKJ Jemaat Jembatan Lima\nJl. Tambora Raya No. 44\,\nJakarta-Barat. \nKami mengundang jemaat khususnya pemuda-pemudi untuk menghadirinya. \n 
URL:https://gkjjembatanlima.org/acara/komisi-pemuda-31-mei-2025/
LOCATION:GKJ Jembatan Lima\, GKJ Jembatan Lima Jl. Tambora Raya No.44\, Jakarta Barat\, DKI Jakarta\, 11220\, Indonesia
CATEGORIES:Ibadah
ATTACH;FMTTYPE=image/jpeg:https://gkjjembatanlima.org/wp-content/uploads/2025/05/KP-31-MEI-2025.jpg
END:VEVENT
BEGIN:VEVENT
DTSTART;TZID=Asia/Jakarta:20250531T060000
DTEND;TZID=Asia/Jakarta:20250531T060000
DTSTAMP:20260422T180223
CREATED:20250524T130629Z
LAST-MODIFIED:20250524T130629Z
UID:991951-1748671200-1748671200@gkjjembatanlima.org
SUMMARY:Doa Pagi | 31 MEI 2025
DESCRIPTION:Shalom jemaat yang terkasih\,\nMari kita bersehati berdoa bersama di doa pagi GKJ Jembatan Lima. \nDoa Pagi GKJ Jembatan Lima:\nSabtu\, 31 Mei 2025\, pkl. 06:00-selesai\ndi Zoom Meeting. \nUntuk mendapatkan link zoom meeting\, silahkan hubungi ke nomor sekretariat gereja di: 0813-8812-9883
URL:https://gkjjembatanlima.org/acara/doa-pagi-31-mei-2025/
LOCATION:Zoom Meeting\, Online\, Jakarta\, Jakarta\, Indonesia
CATEGORIES:Doa Pagi
ATTACH;FMTTYPE=image/jpeg:https://gkjjembatanlima.org/wp-content/uploads/2024/10/Doa-Pagi-v2.jpg
END:VEVENT
BEGIN:VEVENT
DTSTART;TZID=Asia/Jakarta:20250529T100000
DTEND;TZID=Asia/Jakarta:20250529T100000
DTSTAMP:20260422T180223
CREATED:20250517T125421Z
LAST-MODIFIED:20250517T125421Z
UID:991935-1748512800-1748512800@gkjjembatanlima.org
SUMMARY:Ibadah Kenaikan Tuhan Yesus | 29 MEI 2025
DESCRIPTION:Ibadah Kenaikan Tuhan Yesus Kristus ke Surga akan diadakan pada: \nHari Kamis\, 29 Mei 2025\,\nPukul 10.00 WIB \nPembicara: GI. Alfa Imannuel \nBertempat di Ruang Ibadah Utama Lt. 2 \nGKJ Jembatan Lima \nJl. Tambora Raya No. 44\, Jakarta Barat \nDress Code: Baju Putih \nMari bersama-sama kita rayakan kenaikan Tuhan Yesus Kristus ke Surga.
URL:https://gkjjembatanlima.org/acara/ibadah-kenaikan-tuhan-yesus-29-mei-2025/
LOCATION:GKJ Jembatan Lima\, GKJ Jembatan Lima Jl. Tambora Raya No.44\, Jakarta Barat\, DKI Jakarta\, 11220\, Indonesia
CATEGORIES:Ibadah
ATTACH;FMTTYPE=image/jpeg:https://gkjjembatanlima.org/wp-content/uploads/2025/05/Kenaikan-29-MEI-2025.jpg
END:VEVENT
BEGIN:VEVENT
DTSTART;TZID=Asia/Jakarta:20250528T190000
DTEND;TZID=Asia/Jakarta:20250528T190000
DTSTAMP:20260422T180223
CREATED:20250510T154810Z
LAST-MODIFIED:20250510T154810Z
UID:991913-1748458800-1748458800@gkjjembatanlima.org
SUMMARY:Prayer And Worship Night (Indonesia) | 28 MEI 2025
DESCRIPTION:PRAYER AND WORSHIP NIGHT INDONESIA.  \nDepartemen Ibadah bersama dengan Departemen Doa mengundang para WL\, Singer\, Pemain Musik\, Pelayan Tuhan\, dan seluruh jemaat untuk dapat datang dan menghadiri acara Prayer & Worhsip Night bahasa Indonesia. \nWaktu:  \nRabu\, 28 Mei 2025 \nPukul 19.00 WIB. \nTempat:\nRuang Ibadah Lt. 3\nGKJ Jembatan Lima\nJl. Jembatan Lima Raya No. 44\nJakarta Barat \nPembicara: GM. Sharon Sihombing\nTema: WORSHIP BEFORE SERVICE. \n \n 
URL:https://gkjjembatanlima.org/acara/prayer-and-worship-night-indonesia-28-mei-2025/
LOCATION:GKJ Jembatan Lima\, GKJ Jembatan Lima Jl. Tambora Raya No.44\, Jakarta Barat\, DKI Jakarta\, 11220\, Indonesia
CATEGORIES:Pembinaan
ATTACH;FMTTYPE=image/jpeg:https://gkjjembatanlima.org/wp-content/uploads/2025/05/Worship-Night-Indo-28-MEI-2025.jpg
END:VEVENT
BEGIN:VEVENT
DTSTART;TZID=Asia/Jakarta:20250528T190000
DTEND;TZID=Asia/Jakarta:20250528T190000
DTSTAMP:20260422T180223
CREATED:20250510T154621Z
LAST-MODIFIED:20250510T154652Z
UID:991910-1748458800-1748458800@gkjjembatanlima.org
SUMMARY:Prayer And Worship Night (Mandarin) | 28 MEI 2025
DESCRIPTION:PRAYER AND WORSHIP NIGHT MANDARIN.  \nDepartemen Ibadah bersama dengan Departemen Doa mengundang para WL\, Singer\, Pemain Musik\, Pelayan Tuhan\, dan seluruh jemaat untuk dapat datang dan menghadiri acara Prayer & Worhsip Night bahasa Mandarin. \nWaktu:  \nRabu\, 28 Mei 2025 \nPukul 19.00 WIB. \nTempat:\nRuang Ibadah Utama  Lt. 2\nGKJ Jembatan Lima\nJl. Jembatan Lima Raya No. 44\nJakarta Barat \nPembicara: Pdt. Antoni Samosir\nTema: WORSHIP BEFORE SERVICE. \n \n 
URL:https://gkjjembatanlima.org/acara/prayer-and-worship-night-mandarin-28-mei-2025/
LOCATION:GKJ Jembatan Lima\, GKJ Jembatan Lima Jl. Tambora Raya No.44\, Jakarta Barat\, DKI Jakarta\, 11220\, Indonesia
CATEGORIES:Pembinaan
ATTACH;FMTTYPE=image/jpeg:https://gkjjembatanlima.org/wp-content/uploads/2025/05/Worship-Night-Mand-28-MEI-2025.jpg
END:VEVENT
BEGIN:VEVENT
DTSTART;VALUE=DATE:20250525
DTEND;VALUE=DATE:20250526
DTSTAMP:20260422T180223
CREATED:20250517T125013Z
LAST-MODIFIED:20250518T084820Z
UID:991932-1748131200-1748217599@gkjjembatanlima.org
SUMMARY:Kebaktian Umum | 25 MEI 2025
DESCRIPTION:Kebaktian Umum GKJ Jemaat Jembatan Lima \nMinggu\, 25 Mei 2025.\nTema: MEMILIH BERSERAH 選擇降服. \nPembicara:\nKebaktian Umum 1 (06.30) : GI. Widya Tuluswati 李維錦傳道.\nKebaktian Umum 2 (09.00) : Pdt. Ang Tjoe Mio 洪祖茂牧師.\nKebaktian Umum 3 (11.30) : GI. Widya Laras 范萌谐传道.\nKebaktian Umum 4 (11.30) : Pdt. Ang Tjoe Mio 洪祖茂牧師.\nKebaktian Umum 5 (17.00) : GI. Widya Tuluswati 李維錦傳道. \nLihat Jadwal Kebaktian Umum \n \n 
URL:https://gkjjembatanlima.org/acara/kebaktian-umum-25-mei-2025/
LOCATION:GKJ Jembatan Lima\, GKJ Jembatan Lima Jl. Tambora Raya No.44\, Jakarta Barat\, DKI Jakarta\, 11220\, Indonesia
CATEGORIES:Ibadah
ATTACH;FMTTYPE=image/jpeg:https://gkjjembatanlima.org/wp-content/uploads/2025/05/KU-25-MEI-2025.jpg
END:VEVENT
BEGIN:VEVENT
DTSTART;TZID=Asia/Jakarta:20250524T190000
DTEND;TZID=Asia/Jakarta:20250524T190000
DTSTAMP:20260422T180223
CREATED:20250517T124704Z
LAST-MODIFIED:20250517T124704Z
UID:991929-1748113200-1748113200@gkjjembatanlima.org
SUMMARY:Komisi Pemuda | 24 MEI 2025
DESCRIPTION:Komisi Pemuda pada hari Sabtu\, 24 Mei pukul 19:00 WIB. \nTema: THE JOURNEY TO EMAUS.\nPembicara: Pdt. Ang Tjoe Mio. \nBertempat di Ruang Ibadah Lt. 2\nGKJ Jemaat Jembatan Lima\nJl. Tambora Raya No. 44\,\nJakarta-Barat. \nKami mengundang jemaat khususnya pemuda-pemudi untuk menghadirinya. \n \n 
URL:https://gkjjembatanlima.org/acara/komisi-pemuda-24-mei-2025/
LOCATION:GKJ Jembatan Lima\, GKJ Jembatan Lima Jl. Tambora Raya No.44\, Jakarta Barat\, DKI Jakarta\, 11220\, Indonesia
CATEGORIES:Ibadah
ATTACH;FMTTYPE=image/jpeg:https://gkjjembatanlima.org/wp-content/uploads/2025/05/KP-24-MEI-2025.jpg
END:VEVENT
BEGIN:VEVENT
DTSTART;TZID=Asia/Jakarta:20250524T060000
DTEND;TZID=Asia/Jakarta:20250524T060000
DTSTAMP:20260422T180223
CREATED:20250517T124537Z
LAST-MODIFIED:20250517T124537Z
UID:991927-1748066400-1748066400@gkjjembatanlima.org
SUMMARY:Doa Pagi | 24 MEI 2025
DESCRIPTION:Shalom jemaat yang terkasih\,\nMari kita bersehati berdoa bersama di doa pagi GKJ Jembatan Lima. \nDoa Pagi GKJ Jembatan Lima:\nSabtu\, 24 Mei 2025\, pkl. 06:00-selesai\ndi Zoom Meeting. \nUntuk mendapatkan link zoom meeting\, silahkan hubungi ke nomor sekretariat gereja di: 0813-8812-9883
URL:https://gkjjembatanlima.org/acara/doa-pagi-24-mei-2025/
LOCATION:Zoom Meeting\, Online\, Jakarta\, Jakarta\, Indonesia
CATEGORIES:Doa Pagi
ATTACH;FMTTYPE=image/jpeg:https://gkjjembatanlima.org/wp-content/uploads/2024/10/Doa-Pagi-v2.jpg
END:VEVENT
BEGIN:VEVENT
DTSTART;TZID=Asia/Jakarta:20250523T150000
DTEND;TZID=Asia/Jakarta:20250523T150000
DTSTAMP:20260422T180223
CREATED:20250517T125626Z
LAST-MODIFIED:20250517T125626Z
UID:991938-1748012400-1748012400@gkjjembatanlima.org
SUMMARY:Ibadah Usia Sukacita | 23 MEI 2025
DESCRIPTION:Ibadah Usia Sukacita GKJ Jembatan Lima\n雅加达基督徒堂五角桥堂会欢乐团契聚会\nKami mengundang Saudara/i yang berusia 50 Tahun keatas untuk menghadiri Ibadah Usia Sukacita.\n本堂欢乐团契聚会邀请五十岁以上兄姐们踊跃来参加 同沐主恩 \nTema:\nKUAT JASMANI DAN ROHANI. \nPembicara:\nPdt. Firdaus Lie 李永豐牧師. \nHari & Waktu:\nJumat\, 23 Mei 2025.\nPukul 15:00 WIB. \n \n 
URL:https://gkjjembatanlima.org/acara/ibadah-usia-sukacita-23-mei-2025/
LOCATION:GKJ Jembatan Lima\, GKJ Jembatan Lima Jl. Tambora Raya No.44\, Jakarta Barat\, DKI Jakarta\, 11220\, Indonesia
CATEGORIES:Ibadah
ATTACH;FMTTYPE=image/jpeg:https://gkjjembatanlima.org/wp-content/uploads/2025/05/US-23-MEI-2025.jpg
END:VEVENT
BEGIN:VEVENT
DTSTART;TZID=Asia/Jakarta:20250522T183000
DTEND;TZID=Asia/Jakarta:20250522T183000
DTSTAMP:20260422T180223
CREATED:20250510T153811Z
LAST-MODIFIED:20250510T153904Z
UID:991906-1747938600-1747938600@gkjjembatanlima.org
SUMMARY:Komsel Raya | 22 MEI 2025
DESCRIPTION:Komsel Raya GKJ Jemaat Jembatan Lima \nakan diadakan pada hari Kamis\, 22 Mei 2025\, Pukul 18.30 WIB. \nBertempat di Ruang Ibadah Utama Lt. 2\nGKJ Jemaat Jembatan Lima. \nKami mengundang seluruh jemaat\, baik yang sudah tergabung dalam komsel maupun yang rindu bergabung dengan komsel\, untuk dapat menghadirinya. \n 
URL:https://gkjjembatanlima.org/acara/komsel-raya-22-mei-2025/
LOCATION:GKJ Jembatan Lima\, GKJ Jembatan Lima Jl. Tambora Raya No.44\, Jakarta Barat\, DKI Jakarta\, 11220\, Indonesia
CATEGORIES:Komsel
ATTACH;FMTTYPE=image/jpeg:https://gkjjembatanlima.org/wp-content/uploads/2025/05/Komsel-Raya-22-MEI-2025.jpg
END:VEVENT
BEGIN:VEVENT
DTSTART;TZID=Asia/Jakarta:20250521T190000
DTEND;TZID=Asia/Jakarta:20250521T190000
DTSTAMP:20260422T180223
CREATED:20250517T124427Z
LAST-MODIFIED:20250517T124427Z
UID:991924-1747854000-1747854000@gkjjembatanlima.org
SUMMARY:Persekutuan Doa | 21 MEI 2025
DESCRIPTION:Persekutuan Doa Onsite & Online: \nHari: Rabu\, 21 Mei 2025.\nPukul: 19:00 WIB. \nDengan Tema: PENOLONG YANG SETIA.\nOleh: GM. Salanus Geri. \nOnsite:\nGKJ Jemaat Jembatan Lima\nJl. Tambora Raya No. 44\, Jakarta Barat \nOnline:\nZoom meeting : Link\n\nMeeting ID: 811 8007 3304\nPasscode: 573138\n(Zoom dibuka pukul 18.45) \n \n 
URL:https://gkjjembatanlima.org/acara/persekutuan-doa-21-mei-2025/
LOCATION:GKJ Jembatan Lima\, GKJ Jembatan Lima Jl. Tambora Raya No.44\, Jakarta Barat\, DKI Jakarta\, 11220\, Indonesia
CATEGORIES:Persekutuan Doa
ATTACH;FMTTYPE=image/jpeg:https://gkjjembatanlima.org/wp-content/uploads/2025/05/PD-21-MEI-2025.jpg
END:VEVENT
BEGIN:VEVENT
DTSTART;TZID=Asia/Jakarta:20250520T190000
DTEND;TZID=Asia/Jakarta:20250520T190000
DTSTAMP:20260422T180223
CREATED:20250503T132132Z
LAST-MODIFIED:20250503T132132Z
UID:991888-1747767600-1747767600@gkjjembatanlima.org
SUMMARY:Master Class | 20 MEI 2025
DESCRIPTION:MASTER CLASS akan diadakan pada hari Selasa\, 20 Mei 2025 pukul 19.00 WIB. \nBertempat di GKJ Jemaat Jembatan Lima. \nSemua WL dan Singer diharapkan dapat mengikutinya. \nMaster Class juga terbuka bagi jemaat yang ingin bergabung melayani sebagai singer.
URL:https://gkjjembatanlima.org/acara/master-class-20-mei-2025/
LOCATION:GKJ Jembatan Lima\, GKJ Jembatan Lima Jl. Tambora Raya No.44\, Jakarta Barat\, DKI Jakarta\, 11220\, Indonesia
CATEGORIES:Pembinaan
ATTACH;FMTTYPE=image/jpeg:https://gkjjembatanlima.org/wp-content/uploads/2025/05/Master-Class-20-MEI-2025.jpg
END:VEVENT
BEGIN:VEVENT
DTSTART;VALUE=DATE:20250518
DTEND;VALUE=DATE:20250519
DTSTAMP:20260422T180223
CREATED:20250510T153207Z
LAST-MODIFIED:20250518T084828Z
UID:991903-1747526400-1747612799@gkjjembatanlima.org
SUMMARY:Kebaktian Umum | 18 MEI 2025
DESCRIPTION:Kebaktian Umum GKJ Jemaat Jembatan Lima \nMinggu\, 18 Mei 2025.\nTema: KENAKANLAH YANG BARU 穿上新的. \nPembicara:\nKebaktian Umum 1 (06.30) : GI. Muliani Gulo 駱美麗傳道.\nKebaktian Umum 2 (09.00) : GI. Muliani Gulo 駱美麗傳道.\nKebaktian Umum 3 (11.30) : GI. Yafet Karnomo 雅弗传道.\nKebaktian Umum 4 (11.30) : GI. Muliani Gulo 駱美麗傳道.\nKebaktian Umum 5 (17.00) : GI. Retno Wulaningsih 鄭艷輝傳道. \nLihat Jadwal Kebaktian Umum \n \n 
URL:https://gkjjembatanlima.org/acara/kebaktian-umum-18-mei-2025/
LOCATION:GKJ Jembatan Lima\, GKJ Jembatan Lima Jl. Tambora Raya No.44\, Jakarta Barat\, DKI Jakarta\, 11220\, Indonesia
CATEGORIES:Ibadah
ATTACH;FMTTYPE=image/jpeg:https://gkjjembatanlima.org/wp-content/uploads/2025/05/KU-18-MEI-2025.jpg
END:VEVENT
BEGIN:VEVENT
DTSTART;TZID=Asia/Jakarta:20250517T190000
DTEND;TZID=Asia/Jakarta:20250517T190000
DTSTAMP:20260422T180224
CREATED:20250510T152821Z
LAST-MODIFIED:20250510T152821Z
UID:991900-1747508400-1747508400@gkjjembatanlima.org
SUMMARY:Komisi Pemuda | 17 MEI 2025
DESCRIPTION:Komisi Pemuda pada hari Sabtu\, 17 Mei pukul 19:00 WIB. \nTema: FROM TEARS TO TESTIMONY.\nPembicara: GI. Widya Tuluswati. \nBertempat di Ruang Ibadah Lt. 2\nGKJ Jemaat Jembatan Lima\nJl. Tambora Raya No. 44\,\nJakarta-Barat. \nKami mengundang jemaat khususnya pemuda-pemudi untuk menghadirinya. \n \n 
URL:https://gkjjembatanlima.org/acara/komisi-pemuda-17-mei-2025/
LOCATION:GKJ Jembatan Lima\, GKJ Jembatan Lima Jl. Tambora Raya No.44\, Jakarta Barat\, DKI Jakarta\, 11220\, Indonesia
CATEGORIES:Ibadah
ATTACH;FMTTYPE=image/jpeg:https://gkjjembatanlima.org/wp-content/uploads/2025/05/KP-17-MEI-2025.jpg
END:VEVENT
BEGIN:VEVENT
DTSTART;TZID=Asia/Jakarta:20250517T060000
DTEND;TZID=Asia/Jakarta:20250517T060000
DTSTAMP:20260422T180224
CREATED:20250510T152644Z
LAST-MODIFIED:20250510T152644Z
UID:991898-1747461600-1747461600@gkjjembatanlima.org
SUMMARY:Doa Pagi | 17 MEI 2025
DESCRIPTION:Shalom jemaat yang terkasih\,\nMari kita bersehati berdoa bersama di doa pagi GKJ Jembatan Lima. \nDoa Pagi GKJ Jembatan Lima:\nSabtu\, 17 Mei 2025\, pkl. 06:00-selesai\ndi Zoom Meeting. \nUntuk mendapatkan link zoom meeting\, silahkan hubungi ke nomor sekretariat gereja di: 0813-8812-9883
URL:https://gkjjembatanlima.org/acara/doa-pagi-17-mei-2025/
LOCATION:Zoom Meeting\, Online\, Jakarta\, Jakarta\, Indonesia
CATEGORIES:Doa Pagi
ATTACH;FMTTYPE=image/jpeg:https://gkjjembatanlima.org/wp-content/uploads/2024/10/Doa-Pagi-v2.jpg
END:VEVENT
BEGIN:VEVENT
DTSTART;TZID=Asia/Jakarta:20250514T190000
DTEND;TZID=Asia/Jakarta:20250514T190000
DTSTAMP:20260422T180224
CREATED:20250510T152514Z
LAST-MODIFIED:20250510T152514Z
UID:991895-1747249200-1747249200@gkjjembatanlima.org
SUMMARY:Persekutuan Doa | 14 MEI 2025
DESCRIPTION:Persekutuan Doa Onsite & Online: \nHari: Rabu\, 14 Mei 2025.\nPukul: 19:00 WIB. \nDengan Tema: SAHABAT YANG SEJATI.\nOleh: Pdt. Ang Tjoe Mio. \nOnsite:\nGKJ Jemaat Jembatan Lima\nJl. Tambora Raya No. 44\, Jakarta Barat \nOnline:\nZoom meeting : Link\n\nMeeting ID: 811 8007 3304\nPasscode: 573138\n(Zoom dibuka pukul 18.45) \n \n 
URL:https://gkjjembatanlima.org/acara/persekutuan-doa-14-mei-2025/
LOCATION:GKJ Jembatan Lima\, GKJ Jembatan Lima Jl. Tambora Raya No.44\, Jakarta Barat\, DKI Jakarta\, 11220\, Indonesia
CATEGORIES:Persekutuan Doa
ATTACH;FMTTYPE=image/jpeg:https://gkjjembatanlima.org/wp-content/uploads/2025/05/PD-14-MEI-2025.jpg
END:VEVENT
BEGIN:VEVENT
DTSTART;VALUE=DATE:20250511
DTEND;VALUE=DATE:20250512
DTSTAMP:20260422T180224
CREATED:20250426T081236Z
LAST-MODIFIED:20250426T081334Z
UID:991859-1746921600-1747007999@gkjjembatanlima.org
SUMMARY:Kebaktian Umum & Perayaan HUT GKJ Tambora | 11 MEI 2025
DESCRIPTION:Kebaktian Umum & Perayaan HUT ke-42 GKJ Jemaat Jembatan Lima.  \nMinggu\, 11 Mei 2025.\nTema: LOVE GOD  LOVE PEOPLE. \nPerayaan HUT ke-42GKJ Jemaat Jembatan Lima akan dilaksanakan di setiap kebaktian umum dengan puncak acara di Kebaktian Umum 5. \nLihat Jadwal Kebaktian Umum \n \n 
URL:https://gkjjembatanlima.org/acara/kebaktian-umum-perayaan-hut-gkj-tambora-11-mei-2025/
LOCATION:GKJ Jembatan Lima\, GKJ Jembatan Lima Jl. Tambora Raya No.44\, Jakarta Barat\, DKI Jakarta\, 11220\, Indonesia
CATEGORIES:Ibadah
ATTACH;FMTTYPE=image/jpeg:https://gkjjembatanlima.org/wp-content/uploads/2025/04/HUT-TAMBORA.jpg
END:VEVENT
BEGIN:VEVENT
DTSTART;TZID=Asia/Jakarta:20250510T190000
DTEND;TZID=Asia/Jakarta:20250510T190000
DTSTAMP:20260422T180224
CREATED:20250503T131707Z
LAST-MODIFIED:20250503T131707Z
UID:991885-1746903600-1746903600@gkjjembatanlima.org
SUMMARY:Komisi Pemuda | 10 MEI 2025
DESCRIPTION:Komisi Pemuda pada hari Sabtu\, 10 Mei 2025 digabung dengan kelas pembinaan pukul 19.00 WIB.
URL:https://gkjjembatanlima.org/acara/komisi-pemuda-10-mei-2025/
LOCATION:GKJ Jembatan Lima\, GKJ Jembatan Lima Jl. Tambora Raya No.44\, Jakarta Barat\, DKI Jakarta\, 11220\, Indonesia
CATEGORIES:Ibadah
ATTACH;FMTTYPE=image/jpeg:https://gkjjembatanlima.org/wp-content/uploads/2025/05/KP-10-MEI-2025.jpg
END:VEVENT
BEGIN:VEVENT
DTSTART;TZID=Asia/Jakarta:20250510T190000
DTEND;TZID=Asia/Jakarta:20250510T190000
DTSTAMP:20260422T180224
CREATED:20250426T083315Z
LAST-MODIFIED:20250426T083315Z
UID:991870-1746903600-1746903600@gkjjembatanlima.org
SUMMARY:Kelas Pembinaan | 10 MEI 2025
DESCRIPTION:Depatrtemen Pembinaan. \nGereja adalah Tubuh Kristus. Tempat kasih nyata\, iman dikuatkan\, harapan dibangkitkan.\nSaatnya kembali ke Firman. Hidup seperti yang Yesus ajarkan \nMari ikuti kelas pembinaan yang akan berlangsung pada:\nHari Sabtu\, 10 Mei 2025 Pukul 19.00 WIB. \nTema: BISAKAH KEKRISTENAN DIPERCAYA? MENGINGAT PERBUATAN GEREJANYA.\nPembicara: GI. Andrey Thunggal. \nMengundang seluruh Jemaat GKJ Jembatan Lima untuk mengikutinya.
URL:https://gkjjembatanlima.org/acara/kelas-pembinaan-10-mei-2025/
LOCATION:GKJ Jembatan Lima\, GKJ Jembatan Lima Jl. Tambora Raya No.44\, Jakarta Barat\, DKI Jakarta\, 11220\, Indonesia
CATEGORIES:Pembinaan
ATTACH;FMTTYPE=image/jpeg:https://gkjjembatanlima.org/wp-content/uploads/2025/04/Pembinaan-10-MEI-2025.jpg
END:VEVENT
BEGIN:VEVENT
DTSTART;TZID=Asia/Jakarta:20250510T060000
DTEND;TZID=Asia/Jakarta:20250510T060000
DTSTAMP:20260422T180224
CREATED:20250503T131436Z
LAST-MODIFIED:20250503T131436Z
UID:991883-1746856800-1746856800@gkjjembatanlima.org
SUMMARY:Doa Pagi | 10 MEI 2025
DESCRIPTION:Shalom jemaat yang terkasih\,\nMari kita bersehati berdoa bersama di doa pagi GKJ Jembatan Lima. \nDoa Pagi GKJ Jembatan Lima:\nSabtu\, 10 Mei 2025\, pkl. 06:00-selesai\ndi Zoom Meeting. \nUntuk mendapatkan link zoom meeting\, silahkan hubungi ke nomor sekretariat gereja di: 0813-8812-9883
URL:https://gkjjembatanlima.org/acara/doa-pagi-10-mei-2025/
LOCATION:Zoom Meeting\, Online\, Jakarta\, Jakarta\, Indonesia
CATEGORIES:Doa Pagi
ATTACH;FMTTYPE=image/jpeg:https://gkjjembatanlima.org/wp-content/uploads/2024/10/Doa-Pagi-v2.jpg
END:VEVENT
END:VCALENDAR